BEGIN:VCALENDAR
VERSION:2.0
PRODID:-//VC Magazin - ECPv6.15.15//NONSGML v1.0//EN
CALSCALE:GREGORIAN
METHOD:PUBLISH
X-WR-CALNAME:VC Magazin
X-ORIGINAL-URL:https://www.vc-magazin.de
X-WR-CALDESC:Veranstaltungen für VC Magazin
REFRESH-INTERVAL;VALUE=DURATION:PT1H
X-Robots-Tag:noindex
X-PUBLISHED-TTL:PT1H
BEGIN:VTIMEZONE
TZID:Europe/Berlin
BEGIN:DAYLIGHT
TZOFFSETFROM:+0100
TZOFFSETTO:+0200
TZNAME:CEST
DTSTART:20250330T010000
END:DAYLIGHT
BEGIN:STANDARD
TZOFFSETFROM:+0200
TZOFFSETTO:+0100
TZNAME:CET
DTSTART:20251026T010000
END:STANDARD
BEGIN:DAYLIGHT
TZOFFSETFROM:+0100
TZOFFSETTO:+0200
TZNAME:CEST
DTSTART:20260329T010000
END:DAYLIGHT
BEGIN:STANDARD
TZOFFSETFROM:+0200
TZOFFSETTO:+0100
TZNAME:CET
DTSTART:20261025T010000
END:STANDARD
BEGIN:DAYLIGHT
TZOFFSETFROM:+0100
TZOFFSETTO:+0200
TZNAME:CEST
DTSTART:20270328T010000
END:DAYLIGHT
BEGIN:STANDARD
TZOFFSETFROM:+0200
TZOFFSETTO:+0100
TZNAME:CET
DTSTART:20271031T010000
END:STANDARD
END:VTIMEZONE
BEGIN:VEVENT
DTSTART;VALUE=DATE:20260415
DTEND;VALUE=DATE:20260417
DTSTAMP:20260420T103822
CREATED:20251215T163802Z
LAST-MODIFIED:20260115T162443Z
UID:80477-1776211200-1776383999@www.vc-magazin.de
SUMMARY:FIBE 2026
DESCRIPTION:Die FIBE ist das führende\, internationale Finance & Tech Festival in Berlin und geht am 15. und 16. April 2026 im CityCube der Messe Berlin bereits in die dritte Runde. \nZwei Tage lang wird die Hauptstadt zum Treffpunkt für alle\, die die Zukunft der Finanzwelt aktiv mitgestalten wollen: Experten aus Fintechs\, Banken\, Start-ups und dem Investorenumfeld kommen hier zusammen\, um über die neuesten Trends\, Technologien und Innovationen rund um Finanzen und Digitalisierung zu sprechen. \nOrganisiert wird die FIBE von der Messe Berlin in enger Zusammenarbeit mit dem Handelsblatt\, der Berlin Finance Initiative und Berlin Partner. \nEin Event\, das Wissen\, Austausch und Networking vereint – und das man nicht verpassen sollte. \nMehr hier: https://www.fibe-berlin.com/en!
URL:https://www.vc-magazin.de/event/fibe-2026/
LOCATION:City Cube Berlin\, Berlin\, Berlin\, Deutschland
ATTACH;FMTTYPE=image/png:https://www.vc-magazin.de/wp-content/uploads/2025/12/FIBE_2026_Eventkalender_Banner-_1080x1080px-e1768494275946.png
END:VEVENT
BEGIN:VEVENT
DTSTART;TZID=Europe/Berlin:20260416T170000
DTEND;TZID=Europe/Berlin:20260416T210000
DTSTAMP:20260420T103822
CREATED:20260407T153845Z
LAST-MODIFIED:20260407T153845Z
UID:81715-1776358800-1776373200@www.vc-magazin.de
SUMMARY:AsiaBerlin Community Event: Fintech Without Borders
DESCRIPTION:Join the first AsiaBerlin Community Event of the year\, a special edition of the Venture Café Thursday Gathering\, taking place during FIBE Week as an official side event. \nFintech Without Borders brings together fintech startups\, ecosystem players\, investors\, and community members from Berlin and Asia to connect\, exchange insights\, and explore opportunities for cross-border collaboration in financial technology. \nThis gathering will feature engaging discussions and networking with founders and industry experts shaping the fintech landscape. \nThe event also marks the kick-off of AsiaBerlin’s community activities for the year\, setting the stage for deeper collaboration leading up to the AsiaBerlin Summit later this year. \nMore here!
URL:https://www.vc-magazin.de/event/asiaberlin-community-event-fintech-without-borders/
LOCATION:CIC Berlin\, Lohmühlenstraße 65\, Berlin\, Berlin\, 12435\, Germany
END:VEVENT
END:VCALENDAR