BEGIN:VCALENDAR
VERSION:2.0
PRODID:-//VC Magazin - ECPv6.15.15//NONSGML v1.0//EN
CALSCALE:GREGORIAN
METHOD:PUBLISH
X-WR-CALNAME:VC Magazin
X-ORIGINAL-URL:https://www.vc-magazin.de
X-WR-CALDESC:Veranstaltungen für VC Magazin
REFRESH-INTERVAL;VALUE=DURATION:PT1H
X-Robots-Tag:noindex
X-PUBLISHED-TTL:PT1H
BEGIN:VTIMEZONE
TZID:Europe/Berlin
BEGIN:DAYLIGHT
TZOFFSETFROM:+0100
TZOFFSETTO:+0200
TZNAME:CEST
DTSTART:20250330T010000
END:DAYLIGHT
BEGIN:STANDARD
TZOFFSETFROM:+0200
TZOFFSETTO:+0100
TZNAME:CET
DTSTART:20251026T010000
END:STANDARD
BEGIN:DAYLIGHT
TZOFFSETFROM:+0100
TZOFFSETTO:+0200
TZNAME:CEST
DTSTART:20260329T010000
END:DAYLIGHT
BEGIN:STANDARD
TZOFFSETFROM:+0200
TZOFFSETTO:+0100
TZNAME:CET
DTSTART:20261025T010000
END:STANDARD
BEGIN:DAYLIGHT
TZOFFSETFROM:+0100
TZOFFSETTO:+0200
TZNAME:CEST
DTSTART:20270328T010000
END:DAYLIGHT
BEGIN:STANDARD
TZOFFSETFROM:+0200
TZOFFSETTO:+0100
TZNAME:CET
DTSTART:20271031T010000
END:STANDARD
END:VTIMEZONE
BEGIN:VEVENT
DTSTART;VALUE=DATE:20260421
DTEND;VALUE=DATE:20260423
DTSTAMP:20260421T013130
CREATED:20251020T144214Z
LAST-MODIFIED:20260122T123445Z
UID:79733-1776729600-1776902399@www.vc-magazin.de
SUMMARY:German Biotech Days 2026 (D.B.T.)
DESCRIPTION:Die German Biotech Days (DBT) bringen Entscheidungsträgerinnen und Entscheidungsträger aus Biotechnologie\, Wissenschaft\, Investment und Politik zusammen\, um aktuelle Entwicklungen\, Investitionstrends und regulatorische Rahmenbedingungen der Branche zu diskutieren. Der thematische Bogen spannt sich von medizinischer Biotechnologie und Gesundheitsforschung bis hin zur Bioökonomie. \nAm 21. und 22. April 2026 trifft sich die europäische Biotech-Community im  Kongresszentrum am Zoo in Leipzig. Das Programm kombiniert wissenschaftliche und regulatorisch orientierte Symposien mit einem starken Fokus auf Innovation\, Translation und Finanzierung. \nFür VCs\, Business Angels und Corporate-Investoren ist die Teilnahme an den German Biotech Days kostenfrei. \nZur Registrierung steht ein spezieller Anmelde-Link zur Verfügung. Interessierte Investoren wenden sich bitte per E-Mail an hoepner@biodeutschland.org! \nWeitere Informationen zur Veranstaltung finden Sie hier!
URL:https://www.vc-magazin.de/event/german-biotech-days/
LOCATION:Leipzig\, Leipzig\, Deutschland
ATTACH;FMTTYPE=image/png:https://www.vc-magazin.de/wp-content/uploads/2025/10/DBT26_Social-Feed_3_1200x628.png
END:VEVENT
END:VCALENDAR