BEGIN:VCALENDAR
VERSION:2.0
PRODID:-//VC Magazin - ECPv6.15.15//NONSGML v1.0//EN
CALSCALE:GREGORIAN
METHOD:PUBLISH
X-WR-CALNAME:VC Magazin
X-ORIGINAL-URL:https://www.vc-magazin.de
X-WR-CALDESC:Veranstaltungen für VC Magazin
REFRESH-INTERVAL;VALUE=DURATION:PT1H
X-Robots-Tag:noindex
X-PUBLISHED-TTL:PT1H
BEGIN:VTIMEZONE
TZID:Europe/Berlin
BEGIN:DAYLIGHT
TZOFFSETFROM:+0100
TZOFFSETTO:+0200
TZNAME:CEST
DTSTART:20250330T010000
END:DAYLIGHT
BEGIN:STANDARD
TZOFFSETFROM:+0200
TZOFFSETTO:+0100
TZNAME:CET
DTSTART:20251026T010000
END:STANDARD
BEGIN:DAYLIGHT
TZOFFSETFROM:+0100
TZOFFSETTO:+0200
TZNAME:CEST
DTSTART:20260329T010000
END:DAYLIGHT
BEGIN:STANDARD
TZOFFSETFROM:+0200
TZOFFSETTO:+0100
TZNAME:CET
DTSTART:20261025T010000
END:STANDARD
BEGIN:DAYLIGHT
TZOFFSETFROM:+0100
TZOFFSETTO:+0200
TZNAME:CEST
DTSTART:20270328T010000
END:DAYLIGHT
BEGIN:STANDARD
TZOFFSETFROM:+0200
TZOFFSETTO:+0100
TZNAME:CET
DTSTART:20271031T010000
END:STANDARD
END:VTIMEZONE
BEGIN:VEVENT
DTSTART;TZID=Europe/Berlin:20260422T090000
DTEND;TZID=Europe/Berlin:20260423T210000
DTSTAMP:20260423T020140
CREATED:20260210T155206Z
LAST-MODIFIED:20260210T155206Z
UID:80985-1776848400-1776978000@www.vc-magazin.de
SUMMARY:Future of BioInvestments (FoB:Invest)
DESCRIPTION:On April 22–23\, 2026\, the international online pitch event Future of BioInvestments (FoB:Invest) will take place. The focus is on bioeconomy investment opportunities\, high-potential startup teams\, and practical insights into technologies\, business models\, and scaling. \nWhy attend? \n\nAccess to selected startup pitches and key program insights\nDirect exposure to investment opportunities plus potential pilot projects & collaborations\nStructured networking with startups\, investors\, and selected industry representatives\n\nRegistration (important):\nAll participation details are available on the website. You will find two separate sections including dedicated forms: “For Startups” (pitch application) and “For Investors” (attendance/registration). Please review the applicable terms and conditions on the website before registering. \nThe event will be hosted via Microsoft Teams — efficient\, location-independent\, and easy to integrate into your workday. Participation is free\, but registration is required (limited audience seats; we may review registrations by role/relevance). \nLearn more & register:\nhttps://ceresana.com/en/events/future-of-bioinvest
URL:https://www.vc-magazin.de/event/fobinvest/
LOCATION:digital
ATTACH;FMTTYPE=image/png:https://www.vc-magazin.de/wp-content/uploads/2026/02/FoBInvest-Banner-600x600-1.png
END:VEVENT
END:VCALENDAR