BEGIN:VCALENDAR
VERSION:2.0
PRODID:-//VC Magazin - ECPv6.15.15//NONSGML v1.0//EN
CALSCALE:GREGORIAN
METHOD:PUBLISH
X-ORIGINAL-URL:https://www.vc-magazin.de
X-WR-CALDESC:Veranstaltungen für VC Magazin
REFRESH-INTERVAL;VALUE=DURATION:PT1H
X-Robots-Tag:noindex
X-PUBLISHED-TTL:PT1H
BEGIN:VTIMEZONE
TZID:Europe/Berlin
BEGIN:DAYLIGHT
TZOFFSETFROM:+0100
TZOFFSETTO:+0200
TZNAME:CEST
DTSTART:20180325T010000
END:DAYLIGHT
BEGIN:STANDARD
TZOFFSETFROM:+0200
TZOFFSETTO:+0100
TZNAME:CET
DTSTART:20181028T010000
END:STANDARD
BEGIN:DAYLIGHT
TZOFFSETFROM:+0100
TZOFFSETTO:+0200
TZNAME:CEST
DTSTART:20190331T010000
END:DAYLIGHT
BEGIN:STANDARD
TZOFFSETFROM:+0200
TZOFFSETTO:+0100
TZNAME:CET
DTSTART:20191027T010000
END:STANDARD
BEGIN:DAYLIGHT
TZOFFSETFROM:+0100
TZOFFSETTO:+0200
TZNAME:CEST
DTSTART:20200329T010000
END:DAYLIGHT
BEGIN:STANDARD
TZOFFSETFROM:+0200
TZOFFSETTO:+0100
TZNAME:CET
DTSTART:20201025T010000
END:STANDARD
END:VTIMEZONE
BEGIN:VEVENT
DTSTART;TZID=Europe/Berlin:20190703T090000
DTEND;TZID=Europe/Berlin:20190703T174500
DTSTAMP:20260424T120619
CREATED:20190412T102642Z
LAST-MODIFIED:20190412T102720Z
UID:50623-1562144400-1562175900@www.vc-magazin.de
SUMMARY:18th SECA Private Equity & Corporate Finance Conference
DESCRIPTION:The SECA Conference is one of the biggest conferences in Switzerland\, which brings together the private equity\, venture capital and corporate finance industries. \nThe main topic of this years SECA conference is about Transforming our Society through Innovation. Nevertheless\, the SECA conference offers again a wide range of different subtopics\, that all interests are covered. \n  \nKey facts about the conference \n\n40 Speakers including global investors\, influential limited partners and other experts from across the region\n80+ Limited Partners including representatives from Switzerland\, Germany\, Austria\, UK and USA\n320+ Attendees including Europe`s most influential private equity\, venture capital\, debt and credit investors.\n19 Countries represented\n53% Managing Director\, Director\, CIO and Partners-level delegates\, 39% Principals\, VP`s and Associates\, 15% Chairman\, CEO`s and Managing Partners
URL:https://www.vc-magazin.de/event/18th-seca-private-equity-corporate-finance-conference/
LOCATION:SIX ConventionPoint\, Pfingstweidstrasse 110\, Zürich\, 8001\, Schweiz
END:VEVENT
BEGIN:VEVENT
DTSTART;TZID=Europe/Berlin:20190703T170000
DTEND;TZID=Europe/Berlin:20190703T220000
DTSTAMP:20260424T120619
CREATED:20190507T093302Z
LAST-MODIFIED:20190507T093302Z
UID:50840-1562173200-1562191200@www.vc-magazin.de
SUMMARY:Pitch Club Developer Edition #33 – Stuttgart
DESCRIPTION:Softwareentwickler und IT-Professionals aufgepasst! \n  \nPitch Club veranstaltet am Mittwoch\, den 3. Juli 2019\, ab 17 Uhr in der „Schankstelle“ die “Pitch Club Developer Edition #33” in Stuttgart. Startups und Unternehmen präsentieren sich mit einem Pitch und geben Antworten auf kritische Fragen. \n  \nBeim Event treffen gestandene Unternehmen und Startups auf Softwareentwickler\, die es zu überzeugen gilt. Die Unternehmen pitchen ihr HR-Konzept\, Jobs und Projekte und versuchen so\, die Talente für sich zu gewinnen. Die Entwickler stellen zudem unbequeme Fragen und prüfen die Jobs auf Herz und Nieren. Am Ende müssen die Unternehmen in 1-on-1 Gesprächen nochmal alles geben\, bevor das Event in die legendäre Afterwork Party übergeht. \nWenn Du als Entwickler an der kostenlosen Teilnahme (inklusive Snackbuffet\, Softdrinks\, Bier und Long Drinks) des invite-only Events interessiert bist\, dann bewirb Dich unter https://pcde.io/?q=vc \n  \nAb 20 Uhr öffnet sich die Veranstaltung für alle Interessierten und geht in die Afterwork Party über und findet ihren Ausklang bei kühlen Drinks und guten Club Beats. Um an der Afterwork ab 20 Uhr teilzunehmen\, reicht eine Bewerbung unter https://pcde.io/pcde-afterwork/.
URL:https://www.vc-magazin.de/event/pitch-club-developer-edition-33-stuttgart/
LOCATION:Schankstelle\, Jägerstraße 19\, Stuttgart\, 70174
ATTACH;FMTTYPE=image/jpeg:https://www.vc-magazin.de/wp-content/uploads/2019/05/Grafik-PCDE-3.jpg
ORGANIZER;CN="Pitch Club AG":MAILTO:team@pcde.io
END:VEVENT
BEGIN:VEVENT
DTSTART;VALUE=DATE:20190704
DTEND;VALUE=DATE:20190705
DTSTAMP:20260424T120619
CREATED:20190225T093730Z
LAST-MODIFIED:20190225T093730Z
UID:50106-1562198400-1562284799@www.vc-magazin.de
SUMMARY:IT Security Pitch 2019
DESCRIPTION:Auf dem von Cube 5 veranstalteten Pitch Day stellen Cybersecurity Startups ihre Geschäftsmodelle vor einem Publikum aus Experten\, Studierenden und Investoren unter Beweis. \nAblauf:\nIm Rahmen des Liftoff-Programms präsentieren sich im Vormittagsprogramm Startups mit ihren Produkten und Prototypen. Anschließend werden erfahrenere Startups beim bereits zum vierten Mal stattfindenden IT-Security Pitch um die Gunst der hochkarätigen Jury kämpfen.
URL:https://www.vc-magazin.de/event/it-security-pitch-2019/
LOCATION:Zentrum für IT-Sicherheit\, Lise-Meitner-Allee 4\, Bochum\, 44801 \, Deutschland
ORGANIZER;CN="Cube 5":MAILTO:info@cube-five.com
END:VEVENT
BEGIN:VEVENT
DTSTART;VALUE=DATE:20190704
DTEND;VALUE=DATE:20190706
DTSTAMP:20260424T120619
CREATED:20190225T101326Z
LAST-MODIFIED:20190225T105438Z
UID:50115-1562198400-1562371199@www.vc-magazin.de
SUMMARY:MUPET | Munich Private Equity Training
DESCRIPTION:  \nDie MUPET\, die vor 20 Jahren als Mandanten-Workshop von P+P Pöllath + Partners | Rechtsanwälte Steuerberater mbB\, startete\, ist heute eine der führenden Fachtagungen zum Thema Private Equity. Spezialisten aus dem In- und Ausland berichten hier jährlichen über die neuesten Entwicklungen in den Bereichen Private Funds\, Tax und M&A.\nSie treffen u.a. Investoren\, Initiatoren\, Manager\, Transaktionsspezialisten\, Finanzierer\, Vorstände\, Geschäftsführer und Berater aus allen beteiligten Disziplinen.\nDie Kombination aus Vorträgen und Gesprächen über die jüngsten Trends im Private-Equity-Markt und die verbundene Möglichkeit zum Networking der Experten untereinander ziehen jedes Jahr mehr und mehr Besucher an. \n  \n  \nTeilnehmer: \nDie MUPET ist eine interdisziplinäre Fachtagung für Private Equity Professionals. \nAnmeldung und Teilnahmegebühr: EUR 750\,- netto pro Person. \nOnline Anmeldung unter: www.pptraining.de \nDonnerstag\, 04. Juli 2019 von 09:30 bis 18:30 Uhr\nFreitag\, 05. Juli 2019 von 09:30 bis 13:45 Uhr
URL:https://www.vc-magazin.de/event/mupet-munich-private-equity-training/
LOCATION:Literaturhaus München\, Salvatorplatz 1\,  München\, 80333\, Deutschland
END:VEVENT
BEGIN:VEVENT
DTSTART;TZID=Europe/Berlin:20190704T160000
DTEND;TZID=Europe/Berlin:20190704T220000
DTSTAMP:20260424T120619
CREATED:20190507T102424Z
LAST-MODIFIED:20190507T102424Z
UID:50853-1562256000-1562277600@www.vc-magazin.de
SUMMARY:Pitch Club #19 – Frankfurt am Main
DESCRIPTION:5 Jahre Pitch Club – wir stechen in See! \nAm Donnerstag\, den 4. Juli 2019\, findet auf der „M.S. Merian“ (Mainkai 36 / Eiserner Steg\, 60311 Frankfurt am Main) die kommende Edition „Pitch Club #19“ statt. \nSpannende vorselektierte Startups („early-stage“ mit „proof of concept“) präsentieren ihre Ideen vor erfahrenen Investoren. Dabei wird den „pitchenden“ Startups alles abverlangt: Die Bühne wird zum „Ring“\, in dem sich Gründer & Gründerinnen gegenüber den kritischen Fragen der Investoren “verteidigen” müssen. Unbequeme Fragen sowie kritische Anmerkungen sind hierbei nicht nur erwünscht\, sondern strikt vorgeschrieben. \nDer Pitch Club hat sich inzwischen mit seinem einzigartigen Format zu Rhein-Mains erfolgreichstem Pitch Event etabliert. Die Veranstalter setzen auf Exklusivität und stoßen damit auf großes Interesse bei innovativen und vielversprechenden Startups\, Top-Investoren sowie Sponsoren und Partnern. \nFür Investoren ist eine Anmeldung unter https://www.thepitchclub.com/de/investoren/ möglich. \nFür Startups ist eine Anmeldung noch bis zum 19.06. unter https://www.thepitchclub.com/de/startup/ möglich.
URL:https://www.vc-magazin.de/event/pitch-club-19-frankfurt-am-main/
LOCATION:M.S. Merian\, Mainkai 36\, Frankfurt am Main\, 60311
ATTACH;FMTTYPE=image/jpeg:https://www.vc-magazin.de/wp-content/uploads/2019/05/Grafik-Pitch-Club-19.jpg
ORGANIZER;CN="Pitch Club AG":MAILTO:team@pcde.io
END:VEVENT
BEGIN:VEVENT
DTSTART;VALUE=DATE:20190705
DTEND;VALUE=DATE:20190706
DTSTAMP:20260424T120619
CREATED:20190514T094805Z
LAST-MODIFIED:20190515T072312Z
UID:50892-1562284800-1562371199@www.vc-magazin.de
SUMMARY:Business Angel Summit Kitzbühel 2019
DESCRIPTION:  \n  \nKitzbühel – Die weltberühmte Sportstadt am Fuße des Hahnenkamms ist am 5. Juli 2019 wieder „the place to be“ für innovative Start-ups und internationale Investoren. Beteiligungskapitalgeber haben beim Event die exklusive Gelegenheit\, 12 Top-Start-ups aus Österreich kennenzulernen und ihr Netzwerk für Investments und Co-Investments um Business Angels aus Österreich\, Deutschland und weiteren Regionen zu erweitern.
URL:https://www.vc-magazin.de/event/business-angel-summit-kitzbuehel-2019/
LOCATION:Rasmushof Hotel Kitzbühel\, Hermann Reisch Weg 15\, Kitzbühl\, 6370\, Österreich
ATTACH;FMTTYPE=image/jpeg:https://www.vc-magazin.de/wp-content/uploads/2019/05/BAS-2019_Banner_728x90-2.jpg
END:VEVENT
BEGIN:VEVENT
DTSTART;VALUE=DATE:20190705
DTEND;VALUE=DATE:20190711
DTSTAMP:20260424T120619
CREATED:20190423T134043Z
LAST-MODIFIED:20190423T134043Z
UID:50713-1562284800-1562803199@www.vc-magazin.de
SUMMARY:London Fintech Week 2019
DESCRIPTION:THE ORIGINAL IS BACK. JOIN US FOR THE 6TH ANNUAL LONDON FINTECH WEEK\nIt’s been 6 years since we launched London Fintech Week. A lot has changed since then\, but the momentum and disruption in financial services continues. Be a part of history and join us at London Fintech Week 2019.\nFintech Week is a series of conferences\, exhibitions\, workshops\, hackathons\, meetups & parties. Each day we focus on different topics. We always ensure that there is plenty of time for networking & meeting other innovators. The main conference/exhibition takes place in the heart of London.\nExpect 500-800 conference delegates per day from over 50 countries & 3\,000 – 4\,000 participants in events throughout the week.\nYou can book tickets for specific events or purchase a full event pass & come & go as you please.\nFintech Week delegates come from around the globe to engage in one of the world’s leading financial services ecosystems. It’s truly an international event. With Brexit looming in the background\, there’s no better place to get answers than from London’s key influencers & decision makers. Some may see challenges ahead\, but there will also be plenty of opportunities in London for innovators from around the world.
URL:https://www.vc-magazin.de/event/london-fintech-week-2019/
LOCATION:Unbenannter Veranstaltungsort\, 133 Houndsditch\, London\, EC3A 7AH\, Großbritannien (Vereinigtes Königreich)
END:VEVENT
BEGIN:VEVENT
DTSTART;VALUE=DATE:20190711
DTEND;VALUE=DATE:20190712
DTSTAMP:20260424T120619
CREATED:20190415T100924Z
LAST-MODIFIED:20190415T100924Z
UID:50652-1562803200-1562889599@www.vc-magazin.de
SUMMARY:5th Munich Life Science Pitch Day
DESCRIPTION:Der 5. Life Science Pitch Day München findet am 11. Juli 2019 statt! Die Veranstaltung ist eine Initiative von High-Tech Gründerfonds\, Boehringer Ingelheim\, IZB – Innovations- und Gründerzentrum Biotechnologie und Bayer. Den aktuellen Programmflyer finden Sie hier. \nBewerben Sie sich jetzt und präsentieren Sie Ihre Technologie führenden Life Science Investoren und Entscheidungsträgern in Unternehmen! \nBitte bewerben Sie sich bis zum 24. Juni 2019 per E-Mail an lifescience-pitchday@htgf.de und fügen Sie eine nicht vertrauliche Zusammenfassung oder Präsentation Ihres Start-ups oder Projekts bei\, das Sie aus Ihrer Forschungseinrichtung ausgliedern möchten. \nWir freuen uns auf Sie!
URL:https://www.vc-magazin.de/event/5th-munich-life-science-pitch-day/
LOCATION:Faculty Club G2B\, Am Klopferspitz 21\, Planegg\, 82152\, Deutschland
END:VEVENT
BEGIN:VEVENT
DTSTART;VALUE=DATE:20190715
DTEND;VALUE=DATE:20190716
DTSTAMP:20260424T120619
CREATED:20190226T141125Z
LAST-MODIFIED:20190226T141125Z
UID:50172-1563148800-1563235199@www.vc-magazin.de
SUMMARY:4. FINANCIAL GOLF CUP
DESCRIPTION:Seien Sie dabei beim FINANCIAL GOLF CUP und erleben Sie mit uns einen unvergesslichen Tag\, bei dem Golfsport\, Netzwerken und der gute Zweck im Vordergrund stehen. \nMit der Rekordbeteiligung von über 90 Golfern ging es 2018 auf den Par 72-Kurs\, währenddessen die Schnupper-Golfer eben dem Golfen auch noch Erfahrung im Bogenschießen sammeln durften!\nAuch der gute Zweck kam nicht zu kurz: Durch Tombola\, Versteigerung und eine anonyme Spende kamen stolze 19.676 € als Gesamterlös zugunsten von Handicap International zusammen. \nFür den 15. Juli 2019 planen wir mit dem 4. FINANCIAL GOLF CUP bereits die Fortsetzung.\nWir freuen uns auf Ihre Teilnahme. \nWeitere Informationen finden Sie hier.
URL:https://www.vc-magazin.de/event/50172/
ATTACH;FMTTYPE=image/jpeg:https://www.vc-magazin.de/wp-content/uploads/2019/02/Postkarte-Financial-Golfcup-2019-1030x486.jpg
END:VEVENT
BEGIN:VEVENT
DTSTART;VALUE=DATE:20190715
DTEND;VALUE=DATE:20190716
DTSTAMP:20260424T120619
CREATED:20190507T135351Z
LAST-MODIFIED:20190507T135351Z
UID:50862-1563148800-1563235199@www.vc-magazin.de
SUMMARY:Gründerszene Awards 2019
DESCRIPTION:Gründerszene\, die Plattform der deutschen Digitalwirtschaft\, sucht zum fünften Mal die wachstumsstärksten Unternehmen der deutschen Digitalszene. Startups können sich bis 15. Juli 2019 unter awards.gruenderszene.de bewerben. \n  \nMit den Gründerszene Awards werden erfolgreiche Gründungen ausgezeichnet und geehrt. Die nachhaltige Bewertung der Unternehmen basiert auf einem eigenen Wachstums-Score. Neben dem CAGR der Nettoumsätze (Jahre 2016 bis 2018) wird das Alter des Unternehmens in die Berechnung einbezogen. Mit der Erstellung einer vergleichbaren und validen Übersicht über die deutsche Digitalwirtschaft möchte Gründerszene Transparenz um das oft unterschiedlich definierte Bewertungskriterium Wachstum schaffen. Ebenso sollen Innovation\, Risiko\, Unternehmertum und harte Arbeit geehrt werden. Zusätzlich werden branchenspezifische Sieger gekürt. \n  \nDie Gewinner werden bei einer exklusiven Preisverleihung am 28. November 2019 in Berlin bekannt gegeben. Ein gedrucktes Magazin zu den Gründerszene Awards und den Preisträgern erscheint am Abend der Preisverleihung. Die platzierten Unternehmen werden im neuen\, gedruckten Gründerszene Magazin vorgestellt. Auf die Top-Platzierten warten Marketingleistung im Wert von 250.000 € bei der Welt und viele
URL:https://www.vc-magazin.de/event/gruenderszene-awards/
ATTACH;FMTTYPE=image/png:https://www.vc-magazin.de/wp-content/uploads/2019/05/Gruenderszene_Awards_Logo_blue.png
END:VEVENT
BEGIN:VEVENT
DTSTART;VALUE=DATE:20190725
DTEND;VALUE=DATE:20190726
DTSTAMP:20260424T120619
CREATED:20190507T132441Z
LAST-MODIFIED:20190613T105926Z
UID:50859-1564012800-1564099199@www.vc-magazin.de
SUMMARY:Weitnauer - Streifzug durch die Bereiche Finance\, Technology\, Transactions
DESCRIPTION:„TFT 2019“ steht dieses Jahr für Technology\, diesmal mit Künstlicher Intelligenz und weiteren Panels zu FinTech\, PropTech und Digital Health vertreten\, Finance mit Venture Debt und Fundraising und schließlich spannenden rechtliche Themen zu Transactions\, wie Datenschutz im M&A-Prozess\, IP-Schutz und Schiedsgerichtsbarkeit oder Arbeitsrecht in der digitalen Welt. \nDas ausführliche Programm finden Sie hier. \nZur Anmeldung laden Sie sich bitte das folgende PDF herunter und schicken dieses ausgefüllt per Telefax unter 089 38 39 95-99 oder per E-Mail an muenchen@weitnauer.net zurück \n﻿﻿﻿
URL:https://www.vc-magazin.de/event/streifzug-durch-die-bereiche-finance-technology-transactions/
LOCATION:Hilton Munich Park\, Am Tucherpark 7\, München\, 80538 \, Deutschland
ATTACH;FMTTYPE=image/jpeg:https://www.vc-magazin.de/wp-content/uploads/2016/05/Logo_Weitnauer_RGB_141001-e1572019326936.jpg
END:VEVENT
END:VCALENDAR