BEGIN:VCALENDAR
VERSION:2.0
PRODID:-//VC Magazin - ECPv6.15.15//NONSGML v1.0//EN
CALSCALE:GREGORIAN
METHOD:PUBLISH
X-ORIGINAL-URL:https://www.vc-magazin.de
X-WR-CALDESC:Veranstaltungen für VC Magazin
REFRESH-INTERVAL;VALUE=DURATION:PT1H
X-Robots-Tag:noindex
X-PUBLISHED-TTL:PT1H
BEGIN:VTIMEZONE
TZID:Europe/Berlin
BEGIN:DAYLIGHT
TZOFFSETFROM:+0100
TZOFFSETTO:+0200
TZNAME:CEST
DTSTART:20180325T010000
END:DAYLIGHT
BEGIN:STANDARD
TZOFFSETFROM:+0200
TZOFFSETTO:+0100
TZNAME:CET
DTSTART:20181028T010000
END:STANDARD
BEGIN:DAYLIGHT
TZOFFSETFROM:+0100
TZOFFSETTO:+0200
TZNAME:CEST
DTSTART:20190331T010000
END:DAYLIGHT
BEGIN:STANDARD
TZOFFSETFROM:+0200
TZOFFSETTO:+0100
TZNAME:CET
DTSTART:20191027T010000
END:STANDARD
BEGIN:DAYLIGHT
TZOFFSETFROM:+0100
TZOFFSETTO:+0200
TZNAME:CEST
DTSTART:20200329T010000
END:DAYLIGHT
BEGIN:STANDARD
TZOFFSETFROM:+0200
TZOFFSETTO:+0100
TZNAME:CET
DTSTART:20201025T010000
END:STANDARD
END:VTIMEZONE
BEGIN:VEVENT
DTSTART;TZID=Europe/Berlin:20190808T163000
DTEND;TZID=Europe/Berlin:20190809T000000
DTSTAMP:20260424T102554
CREATED:20190722T141241Z
LAST-MODIFIED:20190731T093708Z
UID:53469-1565281800-1565308800@www.vc-magazin.de
SUMMARY:Berliner Sommerfest Osborne Clarke
DESCRIPTION:„Disruption is everywhere – Diversity in Digital Times“ \nModerne Arbeitswelten erleben im 21. Jahrhundert rasante Veränderungen. Es scheint dabei alles miteinander verwoben: Technologische Fortschritte in einer atemberaubenden Geschwindigkeit\, durchgehende Vernetzung von sozialen Ökosystemen und nicht zuletzt das immer stärker werdende Verlangen nach einem grundlegenden Diversitäts-Gedanken. \nHiermit laden wir Sie herzlich ein zu einem Austausch\, der über den Begriff „digital“ im Kontext der vielen Transformationen hinausgeht.\nWelche Risiken und Chancen gibt es? Garantiert die Digitalisierung Vielfalt? Wie lassen sich die hervorgerufenen Effekte bestmöglich managen?\nGenießen Sie im Anschluss an unsere Vorträge zusammen mit unseren Experten einen sommerlichen Grill-Abend mit kühlen Drinks und coolen Beats auf unserer Terrasse. \nUm Anmeldung wird gebeten. Bei Rückfragen wenden Sie sich gerne an die zuständige Event Managerin\, Laura Herbst
URL:https://www.vc-magazin.de/event/berliner-sommerfest/
LOCATION:Osborne Clarke\, Schinkelplatz 5\, Berlin\, 10117\, Deutschland
ATTACH;FMTTYPE=image/jpeg:https://www.vc-magazin.de/wp-content/uploads/2019/07/Osborneclarke.jpg
END:VEVENT
BEGIN:VEVENT
DTSTART;TZID=Europe/Berlin:20190828T173000
DTEND;TZID=Europe/Berlin:20190828T210000
DTSTAMP:20260424T102554
CREATED:20190507T082506Z
LAST-MODIFIED:20190821T100848Z
UID:50824-1567013400-1567026000@www.vc-magazin.de
SUMMARY:The Food Chain Investor Frankfurt
DESCRIPTION:Die Branchen des Nahrungsmittelsektors verzeichnen einen anhaltenden Boom.\nEin Investment in diesen Bereichen ist daher auch nicht mehr allein für\ninstitutionelle Anleger interessant\, sondern auch für private Investoren.\nDabei gibt es in der Wertschöpfungskette auf dem langen Weg vom Bauernhof\nzum Konsumenten ganz unterschiedliche Player\, die sich mit ihren Konzepten\ndurchgesetzt haben oder bald durchsetzen könnten. \nIn unserer Veranstaltungsreihe „The Food Chain Investor“ beschäftigen\nwir uns unter anderem mit Agrarbetrieben\, Lebensmittelherstellern\,\nGroßhändlern\, Supermarktketten sowie Gastronomiebetrieben und\nbeleuchten Faktoren für den Erfolg oder Misserfolg ausgewählter Konzepte\naus verschiedenen Blickwinkeln. \nDiesen und weiteren interessanten Fragen widmet sich die Veranstaltungsreihe „The Food Chain Investor“\, die in Frankfurt am 28. August 2019 ab 17.30 Uhr gastiert. \nAlle Informationen zur Veranstaltung finden Sie HIER. \nBei Interesse an einer Teilnahme senden Sie bitte eine E-Mail an Events@TFCI.de \nWeitere Informationen über TFCI
URL:https://www.vc-magazin.de/event/the-food-chain-investor-frankfurt/
LOCATION:Ebner Stolz Frankfurt\, Mendelssohnstraße 87\, Frankfurt am Main\, 60325\, Deutschland
ATTACH;FMTTYPE=image/jpeg:https://www.vc-magazin.de/wp-content/uploads/2019/05/The-Food-Chain-Investor.jpg
END:VEVENT
END:VCALENDAR