BEGIN:VCALENDAR
VERSION:2.0
PRODID:-//VC Magazin - ECPv6.15.15//NONSGML v1.0//EN
CALSCALE:GREGORIAN
METHOD:PUBLISH
X-WR-CALNAME:VC Magazin
X-ORIGINAL-URL:https://www.vc-magazin.de
X-WR-CALDESC:Veranstaltungen für VC Magazin
REFRESH-INTERVAL;VALUE=DURATION:PT1H
X-Robots-Tag:noindex
X-PUBLISHED-TTL:PT1H
BEGIN:VTIMEZONE
TZID:Europe/Berlin
BEGIN:DAYLIGHT
TZOFFSETFROM:+0100
TZOFFSETTO:+0200
TZNAME:CEST
DTSTART:20180325T010000
END:DAYLIGHT
BEGIN:STANDARD
TZOFFSETFROM:+0200
TZOFFSETTO:+0100
TZNAME:CET
DTSTART:20181028T010000
END:STANDARD
BEGIN:DAYLIGHT
TZOFFSETFROM:+0100
TZOFFSETTO:+0200
TZNAME:CEST
DTSTART:20190331T010000
END:DAYLIGHT
BEGIN:STANDARD
TZOFFSETFROM:+0200
TZOFFSETTO:+0100
TZNAME:CET
DTSTART:20191027T010000
END:STANDARD
BEGIN:DAYLIGHT
TZOFFSETFROM:+0100
TZOFFSETTO:+0200
TZNAME:CEST
DTSTART:20200329T010000
END:DAYLIGHT
BEGIN:STANDARD
TZOFFSETFROM:+0200
TZOFFSETTO:+0100
TZNAME:CET
DTSTART:20201025T010000
END:STANDARD
END:VTIMEZONE
BEGIN:VEVENT
DTSTART;VALUE=DATE:20190903
DTEND;VALUE=DATE:20190913
DTSTAMP:20260424T090350
CREATED:20190828T145839Z
LAST-MODIFIED:20190828T150015Z
UID:55613-1567468800-1568332799@www.vc-magazin.de
SUMMARY:Gründerkongress 2019
DESCRIPTION:Gründer.de lädt vom 3. bis zum 12. September 2019 Gründer und Selbstständige zum Gründerkongress ein. 50 Experten geben hier ihr Wissen an mehr als 50.000 Online-Teilnehmer weiter. \nAuf dem Weg zum eigenen Business werdet ihr Unternehmer vor viele Herausforderungen gestellt\, die alleine schwer zu meistern sind. Besonders wenn es das erste eigene Unternehmen ist\, fehlt vielen die nötige Erfahrung.\nGenau hier setzt der Gründerkongress an. Ziel ist es\, euch zu coachen und euch das nötige Know-how mit auf den Weg zu geben. Dafür treten 50 Speaker vor die Kamera\, die selbst erfolgreiche Unternehmer sind und so ihre Erfahrungen an euch weitergeben können. Der Gründerkongress fördert und bildet euch somit weiter\, damit ihr eure Ideen umsetzen und in ein erfolgreiches Business umwandeln könnt. \nWeitere Inforamtionen findet Ihr hier.
URL:https://www.vc-magazin.de/event/gruenderkongress-2019/
ATTACH;FMTTYPE=image/png:https://www.vc-magazin.de/wp-content/uploads/2019/08/GKG-Logo_1100x550.png
END:VEVENT
BEGIN:VEVENT
DTSTART;VALUE=DATE:20190906
DTEND;VALUE=DATE:20190907
DTSTAMP:20260424T090350
CREATED:20190826T123629Z
LAST-MODIFIED:20190826T123629Z
UID:55515-1567728000-1567814399@www.vc-magazin.de
SUMMARY:Startupnight 2019
DESCRIPTION:Startupnight is one of Europe’s largest startup events\, where startups present themselves to corporates\, investors and potential customers. It will take place for the 7th time on Friday\, September 6th 2019 in the heart of Berlin with 5\,000+ participants and 275+ startups from around the world in different focus areas. \nFor further information click here.
URL:https://www.vc-magazin.de/event/startupnight-2019/
LOCATION:Deutsche Telekom’s Representative Office\, Französische Str. 33 a-c\, Berlin\, 10117
ATTACH;FMTTYPE=image/png:https://www.vc-magazin.de/wp-content/uploads/2019/08/startup-night.png
END:VEVENT
BEGIN:VEVENT
DTSTART;VALUE=DATE:20190910
DTEND;VALUE=DATE:20190916
DTSTAMP:20260424T090350
CREATED:20190423T102732Z
LAST-MODIFIED:20190423T102732Z
UID:50704-1568073600-1568591999@www.vc-magazin.de
SUMMARY:New Mobility World
DESCRIPTION:Zwischen dem 10. und 15. September findet im Rahmen der IAA in Frankfurt erneut die New Mobility World statt – das führende Event zur Mobilität der Zukunft. Rund um die Fokusthemen Automatisierung\, Konnektivität\, saubere und nachhaltige Mobilität\, Urbane Mobilität und Mobility as a Service (MaaS) bringt die NMW Entscheider und Visionäre aus Politik\, Wirtschaft und Medien zusammen und bietet die ideale Plattform für den Austausch von Ideen\, Projekten und Innovationen. \nInhaltliches Herzstück ist die IAA Conference: In Lightning Talks\, Paneldiskussionen und Debatten können Besucher\, Innovatoren und Entscheidungsträger ihre Vorstellungen zur Mobilität von morgen einbringen und in einen lebhaften Austausch einsteigen. Unter dem Motto Beyond Mobility diskutieren die Teilnehmer über Automatisierung\, Konnektivität\, Smart City und MaaS und und ihre Möglichkeiten für nachhaltigere\, inklusive und komfortablere Mobilität. Schließlich verändern diese Megatrends nicht nur wie wir uns fortbewegen\, sondern auch wie wir leben\, arbeiten oder interagieren. Die IAA Conference findet vom 11. bis 15. September statt. \nMehr zur NMW und der IAA Conference erfahren Sie hier.
URL:https://www.vc-magazin.de/event/new-mobility-world-2/
LOCATION:Messegelände Frankfurt – Halle 5\, Ludwig-Erhard-Anlage 1\, Frankfurt am Main\, 60327 \, Deutschland
END:VEVENT
BEGIN:VEVENT
DTSTART;TZID=Europe/Berlin:20190912T170000
DTEND;TZID=Europe/Berlin:20190912T200000
DTSTAMP:20260424T090350
CREATED:20190225T134436Z
LAST-MODIFIED:20190228T083937Z
UID:50137-1568307600-1568318400@www.vc-magazin.de
SUMMARY:M&A Lehrgang 2019
DESCRIPTION:  \n  \n  \n  \nInhalte:\nErfahrene M&A-Praktiker vermitteln die tatsächlichen\, rechtlichen und wirtschaftlichen Grundlagen zur erfolgreichen Durchführung von M&A-Transaktionen. \nTeilnehmer:\nBerufsträger mit bis zu drei Jahren Berufserfahrung aus allen Bereichen der M&A Praxis (Private Equity Fonds\, Unternehmen\, Banken\, Corporate Finance Berater). \nin 10 Modulen\, von 17:00 bis 20:00 Uhr:\nModul 1: 12.09. | Ablauf von M&A-Transaktionen und Vorfeldvereinbarungen\nModul 2: 19.09. | Steuerplanung aus Verkäufer- und Käufersicht\nModul 3: 26.10. | Financial\, Legal und Tax Due Diligence\nModul 4: 10.10. | Unternehmenskaufvertrag\nModul 5: 17.10. | Unternehmensbewertung und Kaufpreis\nModul 6: 24.10. | Akquisitionsfinanzierung und Kartellrecht\nModul 7: 07.11. | Minderheits- und Mehrheitsbeteiligungen\nModul 8: 14.11. | Managementbeteiligungen\nModul 9: 21.11. | Distressed M&A\nModul 10: 28.11. | Public M&A \nKosten:\nEUR 100\,- netto je Modul und EUR 750\,- netto für den gesamten Lehrgang. \nAnmeldung und Infos unter: www.pptraining.de
URL:https://www.vc-magazin.de/event/ma-lehrgang-2019-2/
LOCATION:P+P Pöllath + Partners Rechtsanwälte Steuerberater mbB\, Hofstatt 1\, München\, Bayern\, 80331
END:VEVENT
BEGIN:VEVENT
DTSTART;VALUE=DATE:20190915
DTEND;VALUE=DATE:20190918
DTSTAMP:20260424T090350
CREATED:20190829T074625Z
LAST-MODIFIED:20190829T074734Z
UID:55646-1568505600-1568764799@www.vc-magazin.de
SUMMARY:Jubiläumskonferenz des Bundesverbandes Innovationszentren e.V.
DESCRIPTION:Unter dem Konferenzthema „Innovationszentren – Next Generation“ geht es auf der diesjährigen Konferenz um Themen\, wie die Vernetzung von Innovationszentren und wie durch Networking und Kooperationen die Potentiale digitaler Produkte\, Dienstleistungen und Geschäftsideen intensiviert werden können. Weiter stehen aktuelle Themen des Betriebes von Innovationszentren auf dem Prtionszentrentionsogramm. Daneben gibt es Gelegenheit zum Netzwerken und zum Austausch mit Experten und Kollegen! \nAnmeldungen zur Konferenz hier: www.innovationszentren.de/35-0-Veranstaltungen.html
URL:https://www.vc-magazin.de/event/bviz-jubilaeumskonferenz/
LOCATION:IHK für München und Oberbayern\, Max-Joseph-Straße 2\, München\, 80333
ATTACH;FMTTYPE=image/jpeg:https://www.vc-magazin.de/wp-content/uploads/2019/08/Innovationszentren-RGB_500x100.jpg
END:VEVENT
BEGIN:VEVENT
DTSTART;VALUE=DATE:20190917
DTEND;VALUE=DATE:20190918
DTSTAMP:20260424T090350
CREATED:20190911T072744Z
LAST-MODIFIED:20190911T072744Z
UID:56090-1568678400-1568764799@www.vc-magazin.de
SUMMARY:futureSAX–In­ves­toren Roadshow Berlin 2019
DESCRIPTION:Der Freistaat Sachsen ist auf dem besten Weg\, sich zu einer der führenden Innovationsregionen Europas zu entwickeln. Hier entstehen viele innovative Ideen und Geschäftsmodelle. futureSAX\, die Innovationsplattform des Freistaates Sachsen\, identifiziert und fördert potenzialträchtige Investment Cases und stellt diese im Rahmen der futureSAX-Investoren Roadshow vor. Einen Rückblick auf die letzten Investoren Roadshows finden Sie in den Berichten zu den Veranstaltungen in Frankfurt 2019 und Berlin 2018. \nAuf der zwölften Etappe der futureSAX-Inves­toren Roadshow haben Sie als Investor die exklusive Möglichkeit\, bis zu 15 topak­tuelle Startup- und Wachs­tums­kon­zepte „Made in Saxony“ kennen­zu­lernen. Zusätzlich zu den gewohnten Pitch-Sessions sind indivi­duelle One-on-One Meetings möglich und können vorab vereinbart werden. \nWeitere Informationen finden Sie hier.
URL:https://www.vc-magazin.de/event/futuresax-investoren-roadshow-berlin-2019/
LOCATION:Deutsche Bank Quartier Zukunft
ATTACH;FMTTYPE=image/png:https://www.vc-magazin.de/wp-content/uploads/2019/09/futuresax.png
END:VEVENT
BEGIN:VEVENT
DTSTART;VALUE=DATE:20190917
DTEND;VALUE=DATE:20190919
DTSTAMP:20260424T090350
CREATED:20190719T152546Z
LAST-MODIFIED:20190719T152546Z
UID:53307-1568678400-1568851199@www.vc-magazin.de
SUMMARY:Kontakte 2019: Financial Planning Praxis
DESCRIPTION:kontakte 2019: Financial Planning Praxis das bedeutet auch dieses Jahr wieder: \n• aktuell vorherrschende Themen\, mit den größten Auswirkungen und Implikationen für Ihre Beratungspraxis\n• einen spannenden Blick auf aufkommende\, potentiell zukunftsgestaltende Themenkomplexe\n• explizite Analysen als Diskussionsgrundlage zu Folgen für Ihre Beratungspraxis und die finanziellen Gestaltungsmöglichkeiten Ihrer Kunden \nWeitere Informationen finden Sie hier.
URL:https://www.vc-magazin.de/event/kontakte-2019-financial-planning-praxis/
LOCATION:Atrium Hotel Mainz\, Flugplatzstraße 44\, Mainz\, 55126\, Deutschland
ATTACH;FMTTYPE=image/png:https://www.vc-magazin.de/wp-content/uploads/2019/07/EBS.png
END:VEVENT
BEGIN:VEVENT
DTSTART;VALUE=DATE:20190919
DTEND;VALUE=DATE:20190920
DTSTAMP:20260424T090350
CREATED:20190819T125221Z
LAST-MODIFIED:20190819T125221Z
UID:55083-1568851200-1568937599@www.vc-magazin.de
SUMMARY:Investforum 2019
DESCRIPTION:Unsere Schwerpunkte liegen auf der Entwicklung von Geschäftsmodellen und der Kapitalakquise. Neben individuellen Coachings\, Workshops und Matching-formaten sehen wir uns als Bindeglied zwischen Startups und Investoren sowie Partnern aus Wirtschaft und Wissenschaft. \nEgal ob Startup\, Investor oder Unternehmer – wir wissen\, was Sie von der jeweils anderen Seite erwarten und bereiten Sie entsprechend vor. \nWeitere Informationen finden Sie hier.
URL:https://www.vc-magazin.de/event/investforum-2019/
LOCATION:Straßenbahndepot Halle\, Seebener Str. 191\, Halle (Saale)\, 06114
ATTACH;FMTTYPE=image/png:https://www.vc-magazin.de/wp-content/uploads/2019/08/Investforum.png
END:VEVENT
BEGIN:VEVENT
DTSTART;VALUE=DATE:20190919
DTEND;VALUE=DATE:20190920
DTSTAMP:20260424T090350
CREATED:20190110T140248Z
LAST-MODIFIED:20190110T140525Z
UID:49635-1568851200-1568937599@www.vc-magazin.de
SUMMARY:FIMA-Frankfurter Insolvenz und M&A Forum
DESCRIPTION:Zur FIMA sprechen hochkarätigen Professionals über die neuen Entwicklungen im Bereich Distressed M&A\, Insolvenzrecht und Restrukturierung und geben wertvolle Tipps für die Praxis. \nAnmeldungen sowie alle Informationen unter: www.pptraining.de \n 
URL:https://www.vc-magazin.de/event/fima-frankfurter-insolvenz-und-ma-forum/
LOCATION:Gesellschaftshaus Palmengarten\, Palmengartenstraße 11\, Frankfurt am Main\, 60325\, Deutschland
END:VEVENT
BEGIN:VEVENT
DTSTART;VALUE=DATE:20190919
DTEND;VALUE=DATE:20190920
DTSTAMP:20260424T090350
CREATED:20190227T134359Z
LAST-MODIFIED:20190228T091234Z
UID:50201-1568851200-1568937599@www.vc-magazin.de
SUMMARY:M&A Lehrgang 2019
DESCRIPTION:  \n  \n  \n  \nInhalte:\nErfahrene M&A-Praktiker vermitteln die tatsächlichen\, rechtlichen und wirtschaftlichen Grundlagen zur erfolgreichen Durchführung von M&A-Transaktionen. \nTeilnehmer:\nBerufsträger mit bis zu drei Jahren Berufserfahrung aus allen Bereichen der M&A Praxis (Private Equity Fonds\, Unternehmen\, Banken\, Corporate Finance Berater). \nin 10 Modulen\, von 17:00 bis 20:00 Uhr:\nModul 1: 12.09. | Ablauf von M&A-Transaktionen und Vorfeldvereinbarungen\nModul 2: 19.09. | Steuerplanung aus Verkäufer- und Käufersicht\nModul 3: 26.09. | Financial\, Legal und Tax Due Diligence\nModul 4: 10.10. | Unternehmenskaufvertrag\nModul 5: 17.10. | Unternehmensbewertung und Kaufpreis\nModul 6: 24.10. | Akquisitionsfinanzierung und Kartellrecht\nModul 7: 07.11. | Minderheits- und Mehrheitsbeteiligungen\nModul 8: 14.11. | Managementbeteiligungen\nModul 9: 21.11. | Distressed M&A\nModul 10: 28.11. | Public M&A \nKosten:\nEUR 100\,- netto je Modul und EUR 750\,- netto für den gesamten Lehrgang. \nAnmeldung und Infos unter: www.pptraining.de
URL:https://www.vc-magazin.de/event/ma-lehrgang-2019/
LOCATION:P+P Pöllath + Partners – München\, Hofstatt 1\, München\, Bayern\, 80331\, Deutschland
END:VEVENT
BEGIN:VEVENT
DTSTART;TZID=Europe/Berlin:20190919T160000
DTEND;TZID=Europe/Berlin:20190919T210000
DTSTAMP:20260424T090350
CREATED:20190718T120616Z
LAST-MODIFIED:20190718T120616Z
UID:53133-1568908800-1568926800@www.vc-magazin.de
SUMMARY:"Digitalisierung & Cyber Security" Thementag
DESCRIPTION:Nahezu jeder trägt einen Spion bei sich – das Mobiltelefon! Jede Menge Apps\, mit denen mehrheitlich bereitwillig Zugriff auf den aktuellen persönlichen Standort\, auf Outlookdaten oder sogar auf das eigene Gesundheitsprofil gewährt wird. Siri ist ebenfalls stets empfangsbereit und zuhause wartet bereits Alexa auf unsere Kommandos.
URL:https://www.vc-magazin.de/event/digitalisierung-cyber-security-thementag/
LOCATION:BDO AG\, Georg-Glock-Straße 8\, Düsseldorf\, Nordrhein-Westfalen\, 40474\, Deutschland
ATTACH;FMTTYPE=image/png:https://www.vc-magazin.de/wp-content/uploads/2019/07/PEF_Logo-quad-300x300.png
ORGANIZER;CN="Private Equity Forum NRW e.V.":MAILTO:info@dpe.de
END:VEVENT
BEGIN:VEVENT
DTSTART;TZID=Europe/Berlin:20190919T170000
DTEND;TZID=Europe/Berlin:20190919T220000
DTSTAMP:20260424T090350
CREATED:20190507T093700Z
LAST-MODIFIED:20190507T093700Z
UID:50842-1568912400-1568930400@www.vc-magazin.de
SUMMARY:Pitch Club Developer Edition #34 – Karlsruhe
DESCRIPTION:Softwareentwickler und IT-Professionals aufgepasst! \n  \nPitch Club veranstaltet am Donnerstag\, den 19. September 2019\, ab 17 Uhr in der „Stadtmitte“ die “Pitch Club Developer Edition #34” in Karlsruhe. Startups und Unternehmen präsentieren sich mit einem Pitch und geben Antworten auf kritische Fragen. \n  \nBeim Event treffen gestandene Unternehmen und Startups auf Softwareentwickler\, die es zu überzeugen gilt. Die Unternehmen pitchen ihr HR-Konzept\, Jobs und Projekte und versuchen so\, die Talente für sich zu gewinnen. Die Entwickler stellen zudem unbequeme Fragen und prüfen die Jobs auf Herz und Nieren. Am Ende müssen die Unternehmen in 1-on-1 Gesprächen nochmal alles geben\, bevor das Event in die legendäre Afterwork Party übergeht. \nWenn Du als Entwickler an der kostenlosen Teilnahme (inklusive Snackbuffet\, Softdrinks\, Bier und Long Drinks) des invite-only Events interessiert bist\, dann bewirb Dich unter https://pcde.io/?q=vc \n  \nAb 20 Uhr öffnet sich die Veranstaltung für alle Interessierten und geht in die Afterwork Party über und findet ihren Ausklang bei kühlen Drinks und guten Club Beats. Um an der Afterwork ab 20 Uhr teilzunehmen\, reicht eine Bewerbung unter https://pcde.io/pcde-afterwork/.
URL:https://www.vc-magazin.de/event/pitch-club-developer-edition-34-karlsruhe/
LOCATION:Stadtmitte\, Baumeisterstraße 3\, Karlsruhe\, 76137
ATTACH;FMTTYPE=image/jpeg:https://www.vc-magazin.de/wp-content/uploads/2019/05/Grafik-PCDE-3.jpg
ORGANIZER;CN="Pitch Club AG":MAILTO:team@pcde.io
END:VEVENT
BEGIN:VEVENT
DTSTART;VALUE=DATE:20190923
DTEND;VALUE=DATE:20190924
DTSTAMP:20260424T090350
CREATED:20190722T125330Z
LAST-MODIFIED:20190722T125330Z
UID:53462-1569196800-1569283199@www.vc-magazin.de
SUMMARY:Hightech Summit Baden-Württemberg 2019
DESCRIPTION:Tageskongress der Initiative Wirtschaft 4.0 BW und Preisverleihung des CyberOne Hightech Awards 2019\n\nGroße Treiber der Digitalisierung wie KI\, Blockchain\, IoT aber auch innovative Unternehmenskultur sind Themen\, die aus der Wirtschaft nicht mehr wegzudenken sind. Auch die Cyber Security ist ein Thema\, um das kein Unternehmen drum herum kommt. \nAuf dem Hightech Summit Baden-Württemberg 2019 trifft sich auch in diesem Jahr wieder die Hightech-Branche des Landes\, um ihre Businesserfahrungen zu teilen\, über Leuchtturmprojekte zu berichten\, in Technologievorträgen Best Practice-Beispiele aufzuzeigen und über Digitale Transformation sprechen. \nWeitere Informationen finden Sie hier.
URL:https://www.vc-magazin.de/event/hightech-summit-baden-wuerttemberg-2019/
LOCATION:Carmen Würth Forum Künzelsau\, Am Forumsplatz 1\, Künzelsau\, 74653\, Deutschland
ATTACH;FMTTYPE=image/png:https://www.vc-magazin.de/wp-content/uploads/2019/07/logo02.png
END:VEVENT
BEGIN:VEVENT
DTSTART;VALUE=DATE:20190925
DTEND;VALUE=DATE:20190926
DTSTAMP:20260424T090350
CREATED:20190412T150048Z
LAST-MODIFIED:20190415T091000Z
UID:50633-1569369600-1569455999@www.vc-magazin.de
SUMMARY:Women in IT Awards
DESCRIPTION:Nominations for the first\, Women in IT Awards\, Europe are now open. Taking place in Berlin on the 25 September 2019\, the Awards will recognise the achievements and innovation of women in the European tech space\, currently hugely underrepresented in the workforce\, as well as identify new role models and promote further dialogue about diversity in the industry. \nThe nomination process is free and simple\, fill out the form on the Women in IT Awards website with a brief description of why that person should receive an award. \n  \nOrganised by business-technology magazine Information Age\, the Women in IT Awards has gathered support from trade associations\, politicians and companies of all sizes and sectors since launching in 2015. After five successful years in the UK\, we very much look forward to bringing this success story to Europe.
URL:https://www.vc-magazin.de/event/women-in-it-awards/
ATTACH;FMTTYPE=image/png:https://www.vc-magazin.de/wp-content/uploads/2019/04/WIT-Awards-3.png
END:VEVENT
BEGIN:VEVENT
DTSTART;TZID=Europe/Berlin:20190926T170000
DTEND;TZID=Europe/Berlin:20190926T200000
DTSTAMP:20260424T090350
CREATED:20190227T134838Z
LAST-MODIFIED:20190228T091304Z
UID:50202-1569517200-1569528000@www.vc-magazin.de
SUMMARY:M&A Lehrgang 2019
DESCRIPTION:  \n  \n  \n  \nInhalte:\nErfahrene M&A-Praktiker vermitteln die tatsächlichen\, rechtlichen und wirtschaftlichen Grundlagen zur erfolgreichen Durchführung von M&A-Transaktionen. \nTeilnehmer:\nBerufsträger mit bis zu drei Jahren Berufserfahrung aus allen Bereichen der M&A Praxis (Private Equity Fonds\, Unternehmen\, Banken\, Corporate Finance Berater). \nin 10 Modulen\, von 17:00 bis 20:00 Uhr:\nModul 1: 12.09. | Ablauf von M&A-Transaktionen und Vorfeldvereinbarungen\nModul 2: 19.09. | Steuerplanung aus Verkäufer- und Käufersicht\nModul 3: 26.09. | Financial\, Legal und Tax Due Diligence\nModul 4: 10.10. | Unternehmenskaufvertrag\nModul 5: 17.10. | Unternehmensbewertung und Kaufpreis\nModul 6: 24.10. | Akquisitionsfinanzierung und Kartellrecht\nModul 7: 07.11. | Minderheits- und Mehrheitsbeteiligungen\nModul 8: 14.11. | Managementbeteiligungen\nModul 9: 21.11. | Distressed M&A\nModul 10: 28.11. | Public M&A \nKosten:\nEUR 100\,- netto je Modul und EUR 750\,- netto für den gesamten Lehrgang. \nAnmeldung und Infos unter: www.pptraining.de
URL:https://www.vc-magazin.de/event/ma-lehrgang-2019-3/
LOCATION:P+P Pöllath + Partners – München\, Hofstatt 1\, München\, Bayern\, 80331\, Deutschland
END:VEVENT
BEGIN:VEVENT
DTSTART;VALUE=DATE:20190927
DTEND;VALUE=DATE:20190929
DTSTAMP:20260424T090350
CREATED:20190408T100149Z
LAST-MODIFIED:20190408T100149Z
UID:50547-1569542400-1569715199@www.vc-magazin.de
SUMMARY:EBSpreneurship Forum 2019
DESCRIPTION:The EBSpreneurship Forum is the most influential solely student organized congress regarding entrepreneurship in Germany. This September\, striving founders\, like-minded entrepreneurs\, investors and professionals from all over Europe come together to discuss the latest technological megatrends and socio-economic developments. \nLast year\, the EBSpreneurship Forum has celebrated its 10th anniversary which has been a great achievement. This year the 11th EBSpreneurship Forum is planning to go even bigger. During two exciting days with more than 600 participants\, you will have the chance to listen to several speeches and to take part in valuable workshops. \nAt the new Speed Dating Area\, you can pitch your idea in front of renown investors and major German companies or find your next internship at corporate speed dating session! In addition\, there are numerous networking events and a big fair where you can connect to the most creatives of Europe! Also do not forget to apply for the IDEA Challenge! \nJoin the movement now and create your legacy. The future belongs to pioneers!
URL:https://www.vc-magazin.de/event/ebspreneurship-forum-2019/
LOCATION:Schloss Campus EBS\, Oestrich-Winkel\, Hessen\, Deutschland
CATEGORIES:HV
END:VEVENT
BEGIN:VEVENT
DTSTART;VALUE=DATE:20190929
DTEND;VALUE=DATE:20191002
DTSTAMP:20260424T090350
CREATED:20190412T125848Z
LAST-MODIFIED:20190412T125848Z
UID:50627-1569715200-1569974399@www.vc-magazin.de
SUMMARY:Bits & Pretzels 2019
DESCRIPTION:Bits & Pretzels is an application-only\, three-day festival that connects 5\,000 founders\, investors\, startup enthusiasts\, and all other decision-makers of the startup ecosystem. The festival takes place in a unique setting around the Oktoberfest in Munich from September 29th – October 1st\, 2019.
URL:https://www.vc-magazin.de/event/bits-pretzels-2019/
LOCATION:ICM – Internationales Congress Center München\, Messegelände\, München\, 81823
ORGANIZER;CN="Startup Events UG":MAILTO:hello@bitsandpretzels.com
END:VEVENT
END:VCALENDAR