BEGIN:VCALENDAR
VERSION:2.0
PRODID:-//VC Magazin - ECPv6.15.15//NONSGML v1.0//EN
CALSCALE:GREGORIAN
METHOD:PUBLISH
X-WR-CALNAME:VC Magazin
X-ORIGINAL-URL:https://www.vc-magazin.de
X-WR-CALDESC:Veranstaltungen für VC Magazin
REFRESH-INTERVAL;VALUE=DURATION:PT1H
X-Robots-Tag:noindex
X-PUBLISHED-TTL:PT1H
BEGIN:VTIMEZONE
TZID:Europe/Berlin
BEGIN:DAYLIGHT
TZOFFSETFROM:+0100
TZOFFSETTO:+0200
TZNAME:CEST
DTSTART:20180325T010000
END:DAYLIGHT
BEGIN:STANDARD
TZOFFSETFROM:+0200
TZOFFSETTO:+0100
TZNAME:CET
DTSTART:20181028T010000
END:STANDARD
BEGIN:DAYLIGHT
TZOFFSETFROM:+0100
TZOFFSETTO:+0200
TZNAME:CEST
DTSTART:20190331T010000
END:DAYLIGHT
BEGIN:STANDARD
TZOFFSETFROM:+0200
TZOFFSETTO:+0100
TZNAME:CET
DTSTART:20191027T010000
END:STANDARD
BEGIN:DAYLIGHT
TZOFFSETFROM:+0100
TZOFFSETTO:+0200
TZNAME:CEST
DTSTART:20200329T010000
END:DAYLIGHT
BEGIN:STANDARD
TZOFFSETFROM:+0200
TZOFFSETTO:+0100
TZNAME:CET
DTSTART:20201025T010000
END:STANDARD
END:VTIMEZONE
BEGIN:VEVENT
DTSTART;VALUE=DATE:20190929
DTEND;VALUE=DATE:20191002
DTSTAMP:20260424T071947
CREATED:20190412T125848Z
LAST-MODIFIED:20190412T125848Z
UID:50627-1569715200-1569974399@www.vc-magazin.de
SUMMARY:Bits & Pretzels 2019
DESCRIPTION:Bits & Pretzels is an application-only\, three-day festival that connects 5\,000 founders\, investors\, startup enthusiasts\, and all other decision-makers of the startup ecosystem. The festival takes place in a unique setting around the Oktoberfest in Munich from September 29th – October 1st\, 2019.
URL:https://www.vc-magazin.de/event/bits-pretzels-2019/
LOCATION:ICM – Internationales Congress Center München\, Messegelände\, München\, 81823
ORGANIZER;CN="Startup Events UG":MAILTO:hello@bitsandpretzels.com
END:VEVENT
BEGIN:VEVENT
DTSTART;VALUE=DATE:20191003
DTEND;VALUE=DATE:20191005
DTSTAMP:20260424T071947
CREATED:20190919T144847Z
LAST-MODIFIED:20190919T144847Z
UID:56420-1570060800-1570233599@www.vc-magazin.de
SUMMARY:The buisness booster
DESCRIPTION:TBB is a two-day international networking event that connects leading industries and bright minds from business start-ups\, leading energy companies and SME’s to enable tomorrow’s sustainable energy solutions today. \nDiscover the latest market trends\, innovative technologies and business models that are changing the way that we deal with energy! \nYou will be exposed to over 150 groundbreaking innovations to enhance your company’s technology roadmaps and access to new markets. \nOptimise your company’s R&D investment and minimise risk\, by collaborating with our exhibitors\, early-stage companies and projects that have been through EIT InnoEnergy’s demanding process\, reinforcing their potential and chances of commercial success. \nSecure a 30% discount on tickets using the code VC_MAGAZIN_TBB2019 upon check-out. \nFor further Information click here \n 
URL:https://www.vc-magazin.de/event/the-buisness-booster/
LOCATION:Palais des Congrès de Paris\, 2 Place De La Porte Maillot\, Paris\, 75853\, Frankreich
ATTACH;FMTTYPE=image/png:https://www.vc-magazin.de/wp-content/uploads/2019/09/logo2.png
END:VEVENT
BEGIN:VEVENT
DTSTART;VALUE=DATE:20191003
DTEND;VALUE=DATE:20191004
DTSTAMP:20260424T071947
CREATED:20190226T135323Z
LAST-MODIFIED:20190902T131419Z
UID:50160-1570060800-1570147199@www.vc-magazin.de
SUMMARY:AVCO Annual Conference 2019
DESCRIPTION:This year‘s AVCO ANNUAL CONFERENCE will take place under the heading Private Capital – A Source for Economic Growth in Austria and CEE featuring podium guests from politics\, business and the PE/VC scene from Austria and CEE. Austria’s leading PE/VC event brings together investors\, service providers and entrepreneurs. \nPlease see the agenda.\nJoin the conversation\, get new insights and extend your network! \nVentureCapital Magazine members are entiteled to a 30% discount.\nPlease contact czekalla@goingpublic.de for the exclusive partner code.
URL:https://www.vc-magazin.de/event/avco-annual-conference-2019/
LOCATION:Park Hyatt Vienna\, Am Hof 2\, Wien\, 1010\, Österreich
ATTACH;FMTTYPE=image/png:https://www.vc-magazin.de/wp-content/uploads/2019/06/banner-01_klein.png
END:VEVENT
BEGIN:VEVENT
DTSTART;TZID=Europe/Berlin:20191006T173000
DTEND;TZID=Europe/Berlin:20191006T210000
DTSTAMP:20260424T071947
CREATED:20191017T074825Z
LAST-MODIFIED:20191017T074825Z
UID:57351-1570383000-1570395600@www.vc-magazin.de
SUMMARY:QS MBA-Messe Hamburg
DESCRIPTION:Alle Infos zum Managementstudium MBA bietet Ihnen die Karrieremesse von QS in Hamburg. \nIn direkten Gesprächen mit führenden Business Schools aus Deutschland sowie international erfahren Sie mehr zu den verschiedenen MBA-Programmen – von Voll- oder Teilzeit über Fernstudium bis zum Executive MBA. Lernen Sie zudem mehr zu der Zulassung und Bewerbung sowie zum ROI und Ihren Karrieremöglichkeiten. \nWeitere Informationen finden Sie hier
URL:https://www.vc-magazin.de/event/qs-mba-messe-hamburg/
LOCATION:Emporio\, Dammtorwall 15\, Hamburg\, 20355\, Deutschland
ATTACH;FMTTYPE=image/png:https://www.vc-magazin.de/wp-content/uploads/2019/10/qs-mba-messe-münchen-e1571297218492.png
END:VEVENT
BEGIN:VEVENT
DTSTART;TZID=Europe/Berlin:20191010T170000
DTEND;TZID=Europe/Berlin:20191010T200000
DTSTAMP:20260424T071947
CREATED:20190227T135228Z
LAST-MODIFIED:20190228T091205Z
UID:50203-1570726800-1570737600@www.vc-magazin.de
SUMMARY:M&A Lehrgang 2019
DESCRIPTION:  \n  \n  \n  \nInhalte:\nErfahrene M&A-Praktiker vermitteln die tatsächlichen\, rechtlichen und wirtschaftlichen Grundlagen zur erfolgreichen Durchführung von M&A-Transaktionen. \nTeilnehmer:\nBerufsträger mit bis zu drei Jahren Berufserfahrung aus allen Bereichen der M&A Praxis (Private Equity Fonds\, Unternehmen\, Banken\, Corporate Finance Berater). \nin 10 Modulen\, von 17:00 bis 20:00 Uhr:\nModul 1: 12.09. | Ablauf von M&A-Transaktionen und Vorfeldvereinbarungen\nModul 2: 19.09. | Steuerplanung aus Verkäufer- und Käufersicht\nModul 3: 26.09. | Financial\, Legal und Tax Due Diligence\nModul 4: 10.10. | Unternehmenskaufvertrag\nModul 5: 17.10. | Unternehmensbewertung und Kaufpreis\nModul 6: 24.10. | Akquisitionsfinanzierung und Kartellrecht\nModul 7: 07.11. | Minderheits- und Mehrheitsbeteiligungen\nModul 8: 14.11. | Managementbeteiligungen\nModul 9: 21.11. | Distressed M&A\nModul 10: 28.11. | Public M&A \nKosten:\nEUR 100\,- netto je Modul und EUR 750\,- netto für den gesamten Lehrgang. \nAnmeldung und Infos unter: www.pptraining.de
URL:https://www.vc-magazin.de/event/ma-lehrgang-2019-4/
LOCATION:P+P Pöllath + Partners – München\, Hofstatt 1\, München\, Bayern\, 80331\, Deutschland
END:VEVENT
BEGIN:VEVENT
DTSTART;TZID=Europe/Berlin:20191010T170000
DTEND;TZID=Europe/Berlin:20191010T200000
DTSTAMP:20260424T071947
CREATED:20190228T101004Z
LAST-MODIFIED:20190301T110530Z
UID:50224-1570726800-1570737600@www.vc-magazin.de
SUMMARY:Venture Nights | LEHRGANG FÜR START-UPS MIT VENTURE CAPITAL-AMBITIONEN
DESCRIPTION:  \n  \nVenture Nights Frankfurt \nInhalte: \nDie Veranstaltung vermittelt alles\, was man in rechtlicher Hinsicht wissen muss\, um mit Business Angels\, Venture Capital Gesellschaften oder anderen Investoren auf Augenhöhe die Bedingungen eines Investments zu verhandeln. Sie erfahren auch\, wie Sie das Unternehmen auf die jedem Investment vorausgehende Due Diligence vorbereiten\, um das Unternehmen dem potentiellen Investor optimal zu präsentieren. \n17:00-20:00 Uhr \nModul 1: 10.10. | VC-Verträge I\nModul 2: 17.10. | VC-Verträge II\nModul 3: 24.10. | IP/IT-Recht und Datenschutz\nModul 4: 31.10. | Finanzierung durch ICOs & STOs\nModul 5: 07.11. | Mitarbeiterbeteiligungen/ESOP\nModul 6: 14.11. | Steuerrecht/Arbeitsrecht\nModul 7: 21.11. | Venture Capital Fonds \nVenture Nights findet auch in München statt: vom 22.10. bis 03.12.2019 \nKosten:\nEUR 25\,– netto je Modul. Bei Buchung aller sieben Module EUR 150\,– netto.\nAnmeldung und Infos unter: www.venturenights.de
URL:https://www.vc-magazin.de/event/venture-nights-lehrgang-fuer-start-ups-mit-venture-capital-ambitionen/
LOCATION:P+P Pöllath + Partners – Frankfurt\, An der Welle 3\, Frankfurt / Main\, Hessen\, 60322 \, Deutschland
END:VEVENT
BEGIN:VEVENT
DTSTART;TZID=Europe/Berlin:20191010T170000
DTEND;TZID=Europe/Berlin:20191010T220000
DTSTAMP:20260424T071947
CREATED:20190507T094006Z
LAST-MODIFIED:20190507T094051Z
UID:50845-1570726800-1570744800@www.vc-magazin.de
SUMMARY:Pitch Club Developer Edition #35 – Köln
DESCRIPTION:Softwareentwickler und IT-Professionals aufgepasst! \n  \nPitch Club veranstaltet am Donnerstag\, den 10. Oktober 2019\, ab 17 Uhr in der „Roonburg“ die “Pitch Club Developer Edition #35” in Köln. Startups und Unternehmen präsentieren sich mit einem Pitch und geben Antworten auf kritische Fragen. \n  \nBeim Event treffen gestandene Unternehmen und Startups auf Softwareentwickler\, die es zu überzeugen gilt. Die Unternehmen pitchen ihr HR-Konzept\, Jobs und Projekte und versuchen so\, die Talente für sich zu gewinnen. Die Entwickler stellen zudem unbequeme Fragen und prüfen die Jobs auf Herz und Nieren. Am Ende müssen die Unternehmen in 1-on-1 Gesprächen nochmal alles geben\, bevor das Event in die legendäre Afterwork Party übergeht. \nWenn Du als Entwickler an der kostenlosen Teilnahme (inklusive Snackbuffet\, Softdrinks\, Bier und Long Drinks) des invite-only Events interessiert bist\, dann bewirb Dich unter https://pcde.io/?q=vc \n  \nAb 20 Uhr öffnet sich die Veranstaltung für alle Interessierten und geht in die Afterwork Party über und findet ihren Ausklang bei kühlen Drinks und guten Club Beats. Um an der Afterwork ab 20 Uhr teilzunehmen\, reicht eine Bewerbung unter https://pcde.io/pcde-afterwork/.
URL:https://www.vc-magazin.de/event/pitch-club-developer-edition-35-koeln/
LOCATION:Roonburg\, Roonstraße 33\, Köln\, 50674
ATTACH;FMTTYPE=image/jpeg:https://www.vc-magazin.de/wp-content/uploads/2019/05/Grafik-PCDE-3.jpg
ORGANIZER;CN="Pitch Club AG":MAILTO:team@pcde.io
END:VEVENT
BEGIN:VEVENT
DTSTART;VALUE=DATE:20191016
DTEND;VALUE=DATE:20191017
DTSTAMP:20260424T071947
CREATED:20190917T145649Z
LAST-MODIFIED:20190917T145649Z
UID:56333-1571184000-1571270399@www.vc-magazin.de
SUMMARY:0100 Conferences Prague
DESCRIPTION:The organizers have been putting Venture Capital and Private Equity events together for four years now\, with successful conferences in Dublin\, Luxembourg\, Vienna\, Berlin and Bratislava. \n0100 Conferences Prague is an exclusive CEE-focused Venture Capital and Private Equity event for leading European fund managers and investors. The third edition of the 0100 Conferences Prague will take place on 16th October 2019 at the Grandium Hotel in Prague. \nFor futher infomation click here.
URL:https://www.vc-magazin.de/event/0100-conferences-prague/
LOCATION:Hotel Grandium\, Politickych veznu 12\, Nové Město\, 10 00\, Tschechische Republik
ATTACH;FMTTYPE=image/jpeg:https://www.vc-magazin.de/wp-content/uploads/2019/09/0100-conference-new.jpg
END:VEVENT
BEGIN:VEVENT
DTSTART;TZID=Europe/Berlin:20191017T110000
DTEND;TZID=Europe/Berlin:20191017T130000
DTSTAMP:20260424T071947
CREATED:20190821T134232Z
LAST-MODIFIED:20190821T134232Z
UID:55206-1571310000-1571317200@www.vc-magazin.de
SUMMARY:Biotech Presse-Lounge
DESCRIPTION:Die Biotech Presse-Lounge ist am 15. April 2016 ins Leben gerufen worden. Auf dem Networking-Event haben Spitzenforscher und Multiplikatoren der Biotech-Branche die Möglichkeit\, sich in ungezwungener Atmosphäre auszutauschen. Diese Veranstaltung findet drei Mal im Jahr im Faculty Club G2B (Gateway to Biotech) statt\, der sich im Herzen des Campus Martinsried auf dem Gelände des Innovations- und Gründerzentrum Biotechnologie befindet. \nGeschäftsführer\, Vorstände sowie Presseverantwortliche der Biotech-\, Pharma- und Venture Capital- Unternehmen sind zu diesem Event eingeladen. Außerdem sind Journalisten der Tages-\, Wirtschafts-\, Biotech- und Pharma-Medien Gäste der Veranstaltung. \nAuf jeder Veranstaltung werden drei Impulsvorträge zu aktuellen Themen von Multiplikatoren der Branche gehalten. Die Gäste haben die Möglichkeit\, nach den Vorträgen das Thema mit dem Referenten zu vertiefen. So hat sich die Presse-Lounge in den letzten Jahren als Netzwerktreffen der Biotechbranche etabliert. \n  \nbiotech_presselounge_okt2019_de+en (2)\n  \nAufgrund der Räumlichkeiten ist die Veranstaltung auf 100 Personen begrenzt. Eine vorherige Anmeldung ist unbedingt nötig. Bitte senden Sie diese an folgende E-Mail-Adresse: izb@izb-online.de
URL:https://www.vc-magazin.de/event/biotech-presse-lounge-5/
LOCATION:Faculty Club G2B\, Am Klopferspitz 21\, Planegg\, 82152\, Deutschland
ATTACH;FMTTYPE=image/jpeg:https://www.vc-magazin.de/wp-content/uploads/2019/08/IZB_CAH_DSC2235-e1566393225845.jpg
END:VEVENT
BEGIN:VEVENT
DTSTART;TZID=Europe/Berlin:20191017T170000
DTEND;TZID=Europe/Berlin:20191017T200000
DTSTAMP:20260424T071947
CREATED:20190227T135420Z
LAST-MODIFIED:20190228T091139Z
UID:50204-1571331600-1571342400@www.vc-magazin.de
SUMMARY:M&A Lehrgang 2019
DESCRIPTION:  \n  \n  \n  \nInhalte:\nErfahrene M&A-Praktiker vermitteln die tatsächlichen\, rechtlichen und wirtschaftlichen Grundlagen zur erfolgreichen Durchführung von M&A-Transaktionen. \nTeilnehmer:\nBerufsträger mit bis zu drei Jahren Berufserfahrung aus allen Bereichen der M&A Praxis (Private Equity Fonds\, Unternehmen\, Banken\, Corporate Finance Berater). \nin 10 Modulen\, von 17:00 bis 20:00 Uhr:\nModul 1: 12.09. | Ablauf von M&A-Transaktionen und Vorfeldvereinbarungen\nModul 2: 19.09. | Steuerplanung aus Verkäufer- und Käufersicht\nModul 3: 26.09. | Financial\, Legal und Tax Due Diligence\nModul 4: 10.10. | Unternehmenskaufvertrag\nModul 5: 17.10. | Unternehmensbewertung und Kaufpreis\nModul 6: 24.10. | Akquisitionsfinanzierung und Kartellrecht\nModul 7: 07.11. | Minderheits- und Mehrheitsbeteiligungen\nModul 8: 14.11. | Managementbeteiligungen\nModul 9: 21.11. | Distressed M&A\nModul 10: 28.11. | Public M&A \nKosten:\nEUR 100\,- netto je Modul und EUR 750\,- netto für den gesamten Lehrgang. \nAnmeldung und Infos unter: www.pptraining.de
URL:https://www.vc-magazin.de/event/ma-lehrgang-2019-5/
LOCATION:P+P Pöllath + Partners – München\, Hofstatt 1\, München\, Bayern\, 80331\, Deutschland
END:VEVENT
BEGIN:VEVENT
DTSTART;TZID=Europe/Berlin:20191017T170000
DTEND;TZID=Europe/Berlin:20191017T200000
DTSTAMP:20260424T071947
CREATED:20190228T101004Z
LAST-MODIFIED:20190301T110530Z
UID:50225-1571331600-1571342400@www.vc-magazin.de
SUMMARY:Venture Nights | LEHRGANG FÜR START-UPS MIT VENTURE CAPITAL-AMBITIONEN
DESCRIPTION:  \n  \nVenture Nights Frankfurt \nInhalte: \nDie Veranstaltung vermittelt alles\, was man in rechtlicher Hinsicht wissen muss\, um mit Business Angels\, Venture Capital Gesellschaften oder anderen Investoren auf Augenhöhe die Bedingungen eines Investments zu verhandeln. Sie erfahren auch\, wie Sie das Unternehmen auf die jedem Investment vorausgehende Due Diligence vorbereiten\, um das Unternehmen dem potentiellen Investor optimal zu präsentieren. \n17:00-20:00 Uhr \nModul 1: 10.10. | VC-Verträge I\nModul 2: 17.10. | VC-Verträge II\nModul 3: 24.10. | IP/IT-Recht und Datenschutz\nModul 4: 31.10. | Finanzierung durch ICOs & STOs\nModul 5: 07.11. | Mitarbeiterbeteiligungen/ESOP\nModul 6: 14.11. | Steuerrecht/Arbeitsrecht\nModul 7: 21.11. | Venture Capital Fonds \nVenture Nights findet auch in München statt: vom 22.10. bis 03.12.2019 \nKosten:\nEUR 25\,– netto je Modul. Bei Buchung aller sieben Module EUR 150\,– netto.\nAnmeldung und Infos unter: www.venturenights.de
URL:https://www.vc-magazin.de/event/venture-nights-lehrgang-fuer-start-ups-mit-venture-capital-ambitionen-2019-10-17/
LOCATION:P+P Pöllath + Partners – Frankfurt\, An der Welle 3\, Frankfurt / Main\, Hessen\, 60322 \, Deutschland
END:VEVENT
BEGIN:VEVENT
DTSTART;TZID=Europe/Berlin:20191017T170000
DTEND;TZID=Europe/Berlin:20191017T220000
DTSTAMP:20260424T071947
CREATED:20190507T094412Z
LAST-MODIFIED:20190507T094412Z
UID:50847-1571331600-1571349600@www.vc-magazin.de
SUMMARY:Pitch Club Developer Edition #36 – München
DESCRIPTION:Softwareentwickler und IT-Professionals aufgepasst! \n  \nPitch Club veranstaltet am Donnerstag\, den 17. Oktober 2019\, ab 17 Uhr in der „Bar Ludwig II“ die “Pitch Club Developer Edition #36” in München. Startups und Unternehmen präsentieren sich mit einem Pitch und geben Antworten auf kritische Fragen. \n  \nBeim Event treffen gestandene Unternehmen und Startups auf Softwareentwickler\, die es zu überzeugen gilt. Die Unternehmen pitchen ihr HR-Konzept\, Jobs und Projekte und versuchen so\, die Talente für sich zu gewinnen. Die Entwickler stellen zudem unbequeme Fragen und prüfen die Jobs auf Herz und Nieren. Am Ende müssen die Unternehmen in 1-on-1 Gesprächen nochmal alles geben\, bevor das Event in die legendäre Afterwork Party übergeht. \nWenn Du als Entwickler an der kostenlosen Teilnahme (inklusive Snackbuffet\, Softdrinks\, Bier und Long Drinks) des invite-only Events interessiert bist\, dann bewirb Dich unter https://pcde.io/?q=vc \n  \nAb 20 Uhr öffnet sich die Veranstaltung für alle Interessierten und geht in die Afterwork Party über und findet ihren Ausklang bei kühlen Drinks und guten Club Beats. Um an der Afterwork ab 20 Uhr teilzunehmen\, reicht eine Bewerbung unter https://pcde.io/pcde-afterwork/
URL:https://www.vc-magazin.de/event/pitch-club-developer-edition-36-muenchen/
LOCATION:Bar Ludwig II\, Hochstraße 77\, München\, 81541
ATTACH;FMTTYPE=image/jpeg:https://www.vc-magazin.de/wp-content/uploads/2019/05/Grafik-PCDE-3.jpg
ORGANIZER;CN="Pitch Club AG":MAILTO:team@pcde.io
END:VEVENT
BEGIN:VEVENT
DTSTART;VALUE=DATE:20191018
DTEND;VALUE=DATE:20191019
DTSTAMP:20260424T071947
CREATED:20190916T131116Z
LAST-MODIFIED:20190916T131116Z
UID:56273-1571356800-1571443199@www.vc-magazin.de
SUMMARY:Science4Life Energy Cup 2020 - Ideenphase
DESCRIPTION:Das Ziel der Ideenphase besteht darin\, eine erste Prüfung der eigenen Geschäftsidee auf die Umsetzbarkeit am Markt vorzunehmen. Hier stehen das frühzeitige Erkennen und die entsprechende Bewertung von Marktchancen im Mittelpunkt. Die Darstellung sollte kurz und knapp auf maximal 3 Seiten erfolgen. \nWeitere Informationen finden Sie hier.
URL:https://www.vc-magazin.de/event/science4life-energy-cup-2020-ideenphase/
ATTACH;FMTTYPE=image/jpeg:https://www.vc-magazin.de/wp-content/uploads/2018/10/Logo-Science4Life-WEB-1.jpg
END:VEVENT
BEGIN:VEVENT
DTSTART;VALUE=DATE:20191018
DTEND;VALUE=DATE:20191019
DTSTAMP:20260424T071947
CREATED:20190918T085033Z
LAST-MODIFIED:20190918T085033Z
UID:56362-1571356800-1571443199@www.vc-magazin.de
SUMMARY:Science4Life Venture Cup 2020 - Ideenphase
DESCRIPTION:In der Ideenphase geht es darum\, die Geschäftsidee\, die damit verbundene Innovation sowie die daraus resultierende Produkt- oder Dienstleistungsidee auf 3 Seiten zu beschreiben. Im Downloadbereich ist eine Mustervorlage zur Erstellung der Ideenskizze verfügbar. Ziel der Ideenphase ist\, eine erste Prüfung der eigenen Geschäftsidee auf ihre Umsetzbarkeit am Markt vorzunehmen. Hier stehen das frühzeitige Erkennen von Marktchancen und die entsprechend rechtzeitige Anpassung des eigenen Geschäftsmodells im Vordergrund. \nWeitere Informationen finden Sie hier
URL:https://www.vc-magazin.de/event/science4life-venture-cup-2020-ideenphase/
ATTACH;FMTTYPE=image/png:https://www.vc-magazin.de/wp-content/uploads/2019/09/venture-cup.png
END:VEVENT
BEGIN:VEVENT
DTSTART;VALUE=DATE:20191018
DTEND;VALUE=DATE:20191020
DTSTAMP:20260424T071947
CREATED:20190312T095022Z
LAST-MODIFIED:20190312T134434Z
UID:50306-1571356800-1571529599@www.vc-magazin.de
SUMMARY:35. Deutsche Gründer- und Unternehmertage (deGUT)
DESCRIPTION:Zwei Tage rund ums Gründen in Berlin:\nBereits zum 35. Mal treffen sich Gründer und Unternehmer im Oktober auf der deGUT in Berlin. Die Messe bietet ein umfangreiches\, kostenloses Seminarprogramm.\nRund 130 Aussteller\, Experten und Berater informieren über alles\, was für den Start in die Selbstständigkeit oder das Führen eines Unternehmens wichtig ist. \nWeitere Informationen finden Sie hier.
URL:https://www.vc-magazin.de/event/35-deutsche-gruender-und-unternehmertage-degut/
LOCATION:ARENA Berlin\, Eichenstraße 4 \, Berlin\, 12435\, Deutschland
END:VEVENT
BEGIN:VEVENT
DTSTART;TZID=Europe/Berlin:20191024T130000
DTEND;TZID=Europe/Berlin:20191024T200000
DTSTAMP:20260424T071947
CREATED:20190619T103430Z
LAST-MODIFIED:20190619T103430Z
UID:51704-1571922000-1571947200@www.vc-magazin.de
SUMMARY:Business Angel Kongress Baden-Württemberg
DESCRIPTION:Go big (or go home)! – Ideen – Innovationen – Investitionen\nDer Kongress richtet sich an Business Angel\, Investoren und VCs aus Baden-Württemberg sowie kapitalsuchende Strartups. Themenschwerpunkt ist der Mut\, in Innovationen zu investieren. Ein Investor von Volocopter zeigt\, warum sich Risiko lohnen kann. \nWeitere Informationen finden Sie hier.
URL:https://www.vc-magazin.de/event/business-angel-kongress-baden-wuerttemberg/
LOCATION:IHK Karlsruhe; Haus der Wirtschaft\, Lammstraße 13-17\, Karlsruhe\, 76133\, Deutschland
ATTACH;FMTTYPE=image/png:https://www.vc-magazin.de/wp-content/uploads/2019/06/CyberLab.png
END:VEVENT
BEGIN:VEVENT
DTSTART;TZID=Europe/Berlin:20191024T170000
DTEND;TZID=Europe/Berlin:20191024T200000
DTSTAMP:20260424T071947
CREATED:20190227T135556Z
LAST-MODIFIED:20190228T091111Z
UID:50205-1571936400-1571947200@www.vc-magazin.de
SUMMARY:M&A Lehrgang 2019
DESCRIPTION:  \n  \n  \n  \nInhalte:\nErfahrene M&A-Praktiker vermitteln die tatsächlichen\, rechtlichen und wirtschaftlichen Grundlagen zur erfolgreichen Durchführung von M&A-Transaktionen. \nTeilnehmer:\nBerufsträger mit bis zu drei Jahren Berufserfahrung aus allen Bereichen der M&A Praxis (Private Equity Fonds\, Unternehmen\, Banken\, Corporate Finance Berater). \nin 10 Modulen\, von 17:00 bis 20:00 Uhr:\nModul 1: 12.09. | Ablauf von M&A-Transaktionen und Vorfeldvereinbarungen\nModul 2: 19.09. | Steuerplanung aus Verkäufer- und Käufersicht\nModul 3: 26.09. | Financial\, Legal und Tax Due Diligence\nModul 4: 10.10. | Unternehmenskaufvertrag\nModul 5: 17.10. | Unternehmensbewertung und Kaufpreis\nModul 6: 24.10. | Akquisitionsfinanzierung und Kartellrecht\nModul 7: 07.11. | Minderheits- und Mehrheitsbeteiligungen\nModul 8: 14.11. | Managementbeteiligungen\nModul 9: 21.11. | Distressed M&A\nModul 10: 28.11. | Public M&A \nKosten:\nEUR 100\,- netto je Modul und EUR 750\,- netto für den gesamten Lehrgang. \nAnmeldung und Infos unter: www.pptraining.de
URL:https://www.vc-magazin.de/event/ma-lehrgang-2019-6/
LOCATION:P+P Pöllath + Partners – München\, Hofstatt 1\, München\, Bayern\, 80331\, Deutschland
END:VEVENT
BEGIN:VEVENT
DTSTART;TZID=Europe/Berlin:20191024T170000
DTEND;TZID=Europe/Berlin:20191024T200000
DTSTAMP:20260424T071947
CREATED:20190228T101004Z
LAST-MODIFIED:20190301T110530Z
UID:50226-1571936400-1571947200@www.vc-magazin.de
SUMMARY:Venture Nights | LEHRGANG FÜR START-UPS MIT VENTURE CAPITAL-AMBITIONEN
DESCRIPTION:  \n  \nVenture Nights Frankfurt \nInhalte: \nDie Veranstaltung vermittelt alles\, was man in rechtlicher Hinsicht wissen muss\, um mit Business Angels\, Venture Capital Gesellschaften oder anderen Investoren auf Augenhöhe die Bedingungen eines Investments zu verhandeln. Sie erfahren auch\, wie Sie das Unternehmen auf die jedem Investment vorausgehende Due Diligence vorbereiten\, um das Unternehmen dem potentiellen Investor optimal zu präsentieren. \n17:00-20:00 Uhr \nModul 1: 10.10. | VC-Verträge I\nModul 2: 17.10. | VC-Verträge II\nModul 3: 24.10. | IP/IT-Recht und Datenschutz\nModul 4: 31.10. | Finanzierung durch ICOs & STOs\nModul 5: 07.11. | Mitarbeiterbeteiligungen/ESOP\nModul 6: 14.11. | Steuerrecht/Arbeitsrecht\nModul 7: 21.11. | Venture Capital Fonds \nVenture Nights findet auch in München statt: vom 22.10. bis 03.12.2019 \nKosten:\nEUR 25\,– netto je Modul. Bei Buchung aller sieben Module EUR 150\,– netto.\nAnmeldung und Infos unter: www.venturenights.de
URL:https://www.vc-magazin.de/event/venture-nights-lehrgang-fuer-start-ups-mit-venture-capital-ambitionen-2019-10-24/
LOCATION:P+P Pöllath + Partners – Frankfurt\, An der Welle 3\, Frankfurt / Main\, Hessen\, 60322 \, Deutschland
END:VEVENT
BEGIN:VEVENT
DTSTART;TZID=Europe/Berlin:20191024T180000
DTEND;TZID=Europe/Berlin:20191025T000000
DTSTAMP:20260424T071947
CREATED:20190905T154636Z
LAST-MODIFIED:20190905T154636Z
UID:55905-1571940000-1571961600@www.vc-magazin.de
SUMMARY:Investieren in Frankreich?!
DESCRIPTION:Die wirtschaftliche Attraktivität Frankreichs steigt zunehmend\, nicht zuletzt durch ein im internationalen Vergleich stabiles ökonomischesUmfeld. Bestärkt wird dies durch die hohe Innovationskraft\, Reformen sowie eine Fokussierung auf Digitalisierung und künstliche Intelligenz.Während deutsche Unternehmen bereits starke Präsenz in Frankreich aufweisen\, ist nun mit einem Anstieg deutscher Investitionen zu rechnen. \nWeitere Informationen finden Sie hier.
URL:https://www.vc-magazin.de/event/investieren-in-frankreich/
LOCATION:LUTZ | ABEL München\, Türkenstraße 5\, München\, 80333
ATTACH;FMTTYPE=image/jpeg:https://www.vc-magazin.de/wp-content/uploads/2019/09/LutzAbel_400x400.jpg
END:VEVENT
BEGIN:VEVENT
DTSTART;TZID=Europe/Berlin:20191030T170000
DTEND;TZID=Europe/Berlin:20191030T220000
DTSTAMP:20260424T071947
CREATED:20190507T101335Z
LAST-MODIFIED:20190507T101335Z
UID:50849-1572454800-1572472800@www.vc-magazin.de
SUMMARY:Pitch Club Developer Edition #37 – Dortmund
DESCRIPTION:Softwareentwickler und IT-Professionals aufgepasst! \n  \nPitch Club veranstaltet am Mittwoch\, den 30. Oktober 2019\, ab 17 Uhr im „Daddy Blatzheim“ die “Pitch Club Developer Edition #37” in Dortmund. Startups und Unternehmen präsentieren sich mit einem Pitch und geben Antworten auf kritische Fragen. \n  \nBeim Event treffen gestandene Unternehmen und Startups auf Softwareentwickler\, die es zu überzeugen gilt. Die Unternehmen pitchen ihr HR-Konzept\, Jobs und Projekte und versuchen so\, die Talente für sich zu gewinnen. Die Entwickler stellen zudem unbequeme Fragen und prüfen die Jobs auf Herz und Nieren. Am Ende müssen die Unternehmen in 1-on-1 Gesprächen nochmal alles geben\, bevor das Event in die legendäre Afterwork Party übergeht. \nWenn Du als Entwickler an der kostenlosen Teilnahme (inklusive Snackbuffet\, Softdrinks\, Bier und Long Drinks) des invite-only Events interessiert bist\, dann bewirb Dich unter https://pcde.io/?q=vc \n  \nAb 20 Uhr öffnet sich die Veranstaltung für alle Interessierten und geht in die Afterwork Party über und findet ihren Ausklang bei kühlen Drinks und guten Club Beats. Um an der Afterwork ab 20 Uhr teilzunehmen\, reicht eine Bewerbung unter https://pcde.io/pcde-afterwork/.
URL:https://www.vc-magazin.de/event/pitch-club-developer-edition-37-dortmund/
LOCATION:Daddy Blatzheim\, An der Buschmühle 100\, Dortmund\, 44139
ATTACH;FMTTYPE=image/jpeg:https://www.vc-magazin.de/wp-content/uploads/2019/05/Grafik-PCDE-3.jpg
ORGANIZER;CN="Pitch Club AG":MAILTO:team@pcde.io
END:VEVENT
BEGIN:VEVENT
DTSTART;TZID=Europe/Berlin:20191031T170000
DTEND;TZID=Europe/Berlin:20191031T200000
DTSTAMP:20260424T071947
CREATED:20190228T101004Z
LAST-MODIFIED:20190301T110530Z
UID:50227-1572541200-1572552000@www.vc-magazin.de
SUMMARY:Venture Nights | LEHRGANG FÜR START-UPS MIT VENTURE CAPITAL-AMBITIONEN
DESCRIPTION:  \n  \nVenture Nights Frankfurt \nInhalte: \nDie Veranstaltung vermittelt alles\, was man in rechtlicher Hinsicht wissen muss\, um mit Business Angels\, Venture Capital Gesellschaften oder anderen Investoren auf Augenhöhe die Bedingungen eines Investments zu verhandeln. Sie erfahren auch\, wie Sie das Unternehmen auf die jedem Investment vorausgehende Due Diligence vorbereiten\, um das Unternehmen dem potentiellen Investor optimal zu präsentieren. \n17:00-20:00 Uhr \nModul 1: 10.10. | VC-Verträge I\nModul 2: 17.10. | VC-Verträge II\nModul 3: 24.10. | IP/IT-Recht und Datenschutz\nModul 4: 31.10. | Finanzierung durch ICOs & STOs\nModul 5: 07.11. | Mitarbeiterbeteiligungen/ESOP\nModul 6: 14.11. | Steuerrecht/Arbeitsrecht\nModul 7: 21.11. | Venture Capital Fonds \nVenture Nights findet auch in München statt: vom 22.10. bis 03.12.2019 \nKosten:\nEUR 25\,– netto je Modul. Bei Buchung aller sieben Module EUR 150\,– netto.\nAnmeldung und Infos unter: www.venturenights.de
URL:https://www.vc-magazin.de/event/venture-nights-lehrgang-fuer-start-ups-mit-venture-capital-ambitionen-2019-10-31/
LOCATION:P+P Pöllath + Partners – Frankfurt\, An der Welle 3\, Frankfurt / Main\, Hessen\, 60322 \, Deutschland
END:VEVENT
END:VCALENDAR