BEGIN:VCALENDAR
VERSION:2.0
PRODID:-//VC Magazin - ECPv6.15.15//NONSGML v1.0//EN
CALSCALE:GREGORIAN
METHOD:PUBLISH
X-ORIGINAL-URL:https://www.vc-magazin.de
X-WR-CALDESC:Veranstaltungen für VC Magazin
REFRESH-INTERVAL;VALUE=DURATION:PT1H
X-Robots-Tag:noindex
X-PUBLISHED-TTL:PT1H
BEGIN:VTIMEZONE
TZID:Europe/Berlin
BEGIN:DAYLIGHT
TZOFFSETFROM:+0100
TZOFFSETTO:+0200
TZNAME:CEST
DTSTART:20180325T010000
END:DAYLIGHT
BEGIN:STANDARD
TZOFFSETFROM:+0200
TZOFFSETTO:+0100
TZNAME:CET
DTSTART:20181028T010000
END:STANDARD
BEGIN:DAYLIGHT
TZOFFSETFROM:+0100
TZOFFSETTO:+0200
TZNAME:CEST
DTSTART:20190331T010000
END:DAYLIGHT
BEGIN:STANDARD
TZOFFSETFROM:+0200
TZOFFSETTO:+0100
TZNAME:CET
DTSTART:20191027T010000
END:STANDARD
BEGIN:DAYLIGHT
TZOFFSETFROM:+0100
TZOFFSETTO:+0200
TZNAME:CEST
DTSTART:20200329T010000
END:DAYLIGHT
BEGIN:STANDARD
TZOFFSETFROM:+0200
TZOFFSETTO:+0100
TZNAME:CET
DTSTART:20201025T010000
END:STANDARD
END:VTIMEZONE
BEGIN:VEVENT
DTSTART;VALUE=DATE:20191202
DTEND;VALUE=DATE:20191203
DTSTAMP:20260424T041301
CREATED:20190909T150122Z
LAST-MODIFIED:20190911T083309Z
UID:56033-1575244800-1575331199@www.vc-magazin.de
SUMMARY:Step Award 2019 - Preisverleihung
DESCRIPTION:Der seit 2006 vergebene Unternehmenspreis STEP Award richtet sich an innovative junge Wachstumsunternehmen der DACH-Region\, die vorrangig im B2B-Geschäft tätig sind. Als zukunftsorientierter Preis möchte der STEP Award den Umbrüchen unserer Zeit und damit verbundenen Herausforderungen Rechnung tragen. Der STEP Award wird daher ab sofort in den Kategorien Artificial Intelligence\, Energiewende\, Health Industry\, Material Science und Mobility verliehen. Zusätzlich wird ein Sonderpreis New Work vergeben. \nWeitere Informationen finden Sie hier.
URL:https://www.vc-magazin.de/event/step-award-2019-preisverleihung/
ATTACH;FMTTYPE=image/png:https://www.vc-magazin.de/wp-content/uploads/2018/05/Logo_STEP_Award.png
END:VEVENT
BEGIN:VEVENT
DTSTART;TZID=Europe/Berlin:20191211T170000
DTEND;TZID=Europe/Berlin:20191211T170000
DTSTAMP:20260424T041301
CREATED:20191018T073301Z
LAST-MODIFIED:20191018T073301Z
UID:57401-1576083600-1576083600@www.vc-magazin.de
SUMMARY:Pitch Club Developer Edition #41 - Düsseldorf
DESCRIPTION:Softwareentwickler und IT-Professionals aufgepasst! \nDer Pitch Club veranstaltet am Mittwoch\, den 11. Dezember 2019\, ab 17 Uhr\, im „Sir Walter“ die “Pitch Club Developer Edition #41” in Düsseldorf. Startups und Unternehmen präsentieren sich mit einem Pitch und geben Antworten auf kritische Fragen. \nBeim Event treffen gestandene Unternehmen und Startups auf Softwareentwickler\, die es zu überzeugen gilt. Die Unternehmen pitchen ihr HR-Konzept\, Jobs und Projekte und versuchen so\, die Talente für sich zu gewinnen. Die Entwickler stellen zudem unbequeme Fragen und prüfen die Jobs auf Herz und Nieren. Am Ende müssen die Unternehmen in 1-on-1 Gesprächen nochmal alles geben\, bevor das Event in die legendäre Afterwork Party übergeht. \nWenn Du als Entwickler an der kostenlosen Teilnahme (inklusive Snackbuffet\, Softdrinks\, Bier und Long Drinks) des invite-only Events interessiert bist\, dann bewirb Dich unter https://pcde.io/?q=vcm \nAb 20 Uhr öffnet sich die Veranstaltung für alle Interessierten und geht in die Afterwork Party über und findet ihren Ausklang bei kühlen Drinks und guten Club Beats. Um an der Afterwork ab 20 Uhr teilzunehmen\, reicht eine Bewerbung unter https://pcde.io/pcde-afterwork/ \nWeitere Informationen finden Sie hier
URL:https://www.vc-magazin.de/event/pitch-club-developer-edition-41-duesseldorf/
LOCATION:Sir Walter\, Heinrich-Heine-Allee 12\, Düsseldorf\, 40213
ATTACH;FMTTYPE=image/png:https://www.vc-magazin.de/wp-content/uploads/2019/10/image001-e1571382989654.png
END:VEVENT
END:VCALENDAR