BEGIN:VCALENDAR
VERSION:2.0
PRODID:-//VC Magazin - ECPv6.15.15//NONSGML v1.0//EN
CALSCALE:GREGORIAN
METHOD:PUBLISH
X-WR-CALNAME:VC Magazin
X-ORIGINAL-URL:https://www.vc-magazin.de
X-WR-CALDESC:Veranstaltungen für VC Magazin
REFRESH-INTERVAL;VALUE=DURATION:PT1H
X-Robots-Tag:noindex
X-PUBLISHED-TTL:PT1H
BEGIN:VTIMEZONE
TZID:Europe/Berlin
BEGIN:DAYLIGHT
TZOFFSETFROM:+0100
TZOFFSETTO:+0200
TZNAME:CEST
DTSTART:20190331T010000
END:DAYLIGHT
BEGIN:STANDARD
TZOFFSETFROM:+0200
TZOFFSETTO:+0100
TZNAME:CET
DTSTART:20191027T010000
END:STANDARD
BEGIN:DAYLIGHT
TZOFFSETFROM:+0100
TZOFFSETTO:+0200
TZNAME:CEST
DTSTART:20200329T010000
END:DAYLIGHT
BEGIN:STANDARD
TZOFFSETFROM:+0200
TZOFFSETTO:+0100
TZNAME:CET
DTSTART:20201025T010000
END:STANDARD
BEGIN:DAYLIGHT
TZOFFSETFROM:+0100
TZOFFSETTO:+0200
TZNAME:CEST
DTSTART:20210328T010000
END:DAYLIGHT
BEGIN:STANDARD
TZOFFSETFROM:+0200
TZOFFSETTO:+0100
TZNAME:CET
DTSTART:20211031T010000
END:STANDARD
END:VTIMEZONE
BEGIN:VEVENT
DTSTART;TZID=Europe/Berlin:20200401T140000
DTEND;TZID=Europe/Berlin:20200401T170000
DTSTAMP:20260423T213858
CREATED:20200109T110803Z
LAST-MODIFIED:20200109T125945Z
UID:60746-1585749600-1585760400@www.vc-magazin.de
SUMMARY:“Pitch Club #21 Social & MedTech Edition”
DESCRIPTION:Am 1. April 2020\, findet um 14 Uhr im „LePanther“ in Frankfurt (Seilerstraße 34) die kommende Edition “Pitch Club #21 Social & MedTech Edition” in Frankfurt statt. \nSpannende vorselektierte Startups („early-stage“ mit „proof of concept“) aus dem Bereich ESG & MedTech präsentieren ihre Ideen vor erfahrenen Investoren. Dabei wird den „pitchenden“ Startups alles abverlangt: Die Bühne wird zum „Ring“\, in dem sich Gründer & Gründerinnen gegenüber den kritischen Fragen der Investoren “verteidigen” müssen. Unbequeme Fragen sowie kritische Anmerkungen sind hierbei nicht nur erwünscht\, sondern strikt vorgeschrieben. \nDer Pitch Club hat sich inzwischen mit seinem einzigartigen Format zu Rhein-Mains erfolgreichstem Pitch Event etabliert. Die Veranstalter setzen auf Exklusivität und stoßen damit auf großes Interesse bei innovativen und vielversprechenden Startups\, Top-Investoren sowie Sponsoren und Partnern. \nStartups aus den Bereichen ESG & MedTech können sich hierfür bis zum 20. März 2020 unter https://www.thepitchclub.com/de/startup/ bewerben. \nFür Investoren ist eine Bewerbung unter www.thepitchclub.com/de/investoren/ möglich. \nUnd wie immer findet ab 18 Uhr die Afterwork Party mit der Startup- und Gründerszene statt. Hierfür ist eine Anmeldung unter www.thepitchclub.com/de/afterwork/ erforderlich.
URL:https://www.vc-magazin.de/event/pitch-club-21-social-medtech-edition/
LOCATION:LePanther\, Seilerstraße 34\, Frankfurt\, 60313
ATTACH;FMTTYPE=image/png:https://www.vc-magazin.de/wp-content/uploads/2020/01/Graifk_PC21_klein.png
END:VEVENT
BEGIN:VEVENT
DTSTART;VALUE=DATE:20200417
DTEND;VALUE=DATE:20200418
DTSTAMP:20260423T213858
CREATED:20190916T134759Z
LAST-MODIFIED:20200416T093733Z
UID:56285-1587081600-1587167999@www.vc-magazin.de
SUMMARY:Science4Life Energy Cup 2020 - Businessplanphase
DESCRIPTION:Der Einsendschluss für die Businessplanphase des Science4Life Businessplan-Wettbewerbs wurde verlängert: Bis zum 8. Mai 2020 können Start-ups aus den Bereichen Life Sciences\, Chemie und Energie ihre Businesspläne einreichen und von wertvollem Expertenwissen profitieren. \nDer Einsendschluss für die Businessplanphase des Science4Life Businessplan-Wettbewerbs wurde verlängert: Bis zum 8. Mai 2020 können Start-ups aus den Bereichen Life Sciences\, Chemie und Energie ihre Businesspläne einreichen und von wertvollem Expertenwissen profitieren. Der Businessplan kann online unter www.app.science4life.de/register hochgeladen werden. Die Businessplanprämierung findet im September statt. \nWeitere Informationen finden Sie hier.
URL:https://www.vc-magazin.de/event/science4life-energy-cup-2020-businessplanphase/
ATTACH;FMTTYPE=image/jpeg:https://www.vc-magazin.de/wp-content/uploads/2018/10/Logo-Science4Life-WEB-1.jpg
END:VEVENT
BEGIN:VEVENT
DTSTART;VALUE=DATE:20200417
DTEND;VALUE=DATE:20200418
DTSTAMP:20260423T213858
CREATED:20190918T090711Z
LAST-MODIFIED:20190918T090711Z
UID:56370-1587081600-1587167999@www.vc-magazin.de
SUMMARY:Science4Life Venture Capital 2020 - Buisinessplanphase
DESCRIPTION:Das Ziel der Phase 3 ist die Erstellung eines professionellen Businessplans. Das Geschäftskonzept der Phase 2 wird um wichtige Themen wie Marketing\, Markteintrittsbarrieren\, Patente\, Geschäftssystem\, Finanzierung sowie eine Chancen-Risiko-Analyse ergänzt. Branchenexperten aus dem Science4Life-Netzwerk helfen bei der Fokussierung der Geschäftsidee\, zeigen Finanzierungsmöglichkeiten auf und informieren über steuer- und wettbewerbsrechtliche sowie strategische und markttechnische Hintergründe. \nEin wichtiges Hilfsmittel bei der Erstellung des Businessplans ist das Science4Life-Handbuch. Es hilft bei der Gliederung des Businessplans und enthält detaillierte Erläuterungen und Tipps\, worauf es in den einzelnen Kapiteln ankommt. \nWeitere Informationen finden Sie hier
URL:https://www.vc-magazin.de/event/science4life-venture-capital-2020-buisinessplanphase/
ATTACH;FMTTYPE=image/png:https://www.vc-magazin.de/wp-content/uploads/2019/09/venture-cup-1.png
END:VEVENT
BEGIN:VEVENT
DTSTART;TZID=Europe/Berlin:20200418T110000
DTEND;TZID=Europe/Berlin:20200419T190000
DTSTAMP:20260423T213858
CREATED:20200128T091908Z
LAST-MODIFIED:20200205T091701Z
UID:61422-1587207600-1587322800@www.vc-magazin.de
SUMMARY:The Founder Summit 2020
DESCRIPTION:Am 18. und 19. April ist es endlich wieder soweit: Die Entrepreneur University öffnet wieder ihre Tore für das Founder Summit 2020! Im RheinMain Congress Center in Wiesbaden trifft sich die Gründer- und Startup-Szene\, um gemeinsam mit dir die größte Gründerkonferenz Europas zu feiern! \nWarum du das nicht verpassen solltest? \nNetzwerken: An keinem Ort in Deutschland findest du gebündelt so viele spannende und für dein Business hilfreiche Kontakte. Die besten Gründer\, Unternehmer\, Investoren\, Speaker und Big Brands Deutschlands\, sowie 7.000 Gleichgesinnte warten auf dich! \nTop Wissen: Du lernst persönlich von den erfolgreichsten & bekanntesten Unternehmern des Landes. Über 60 Speaker geben dir ihre Strategien & Taktiken an die Hand und zeigen dir\, wie sie ihren Weg zum Erfolg geschafft haben. Darüber hinaus werden dich erfolgreiche\, internationale Persönlichkeiten durch mitreißende Keynote Speeches inspirieren & motivieren. \nMega Unterhaltung: Ein Ereignis\, dass du nie wieder vergessen wirst. Internationale Showacts\, Netzwerkparty & einige Überraschungs Entertainment Acts werden dich in eine Welt der Emotionen abtauchen lassen. \nWenn du das nicht verpassen möchtest\, sichere dir jetzt dein Ticket \nWeitere Informationen erhalten Sie hier.
URL:https://www.vc-magazin.de/event/the-founder-summit-2020/
LOCATION:Rhein Main Congress Center\, Friedrich-Ebert-Allee 1\, Wiesbaden\, Hessen\, 65185\, Deutschland
ATTACH;FMTTYPE=image/png:https://www.vc-magazin.de/wp-content/uploads/2020/01/Screenshot-1.png
ORGANIZER;CN="Eventgers":MAILTO:team@the-eventgers.com
END:VEVENT
BEGIN:VEVENT
DTSTART;VALUE=DATE:20200422
DTEND;VALUE=DATE:20200424
DTSTAMP:20260423T213858
CREATED:20200124T084749Z
LAST-MODIFIED:20200124T094428Z
UID:61270-1587513600-1587686399@www.vc-magazin.de
SUMMARY:BAI Alternative Investor Conference (AIC)
DESCRIPTION:baiDie zweitägige Veranstaltung mit dem Schwerpunkt Alternative Investments ist der jährliche Branchentreff in Deutschland\, beidem sich insbesondere institutionelle Investoren\, aber auch Anbieter\, Aufseher und Dienstleister über neueste Entwicklungen in der AI-Industrie austauschen können. \nWeitere Informationen finden Sie hier.
URL:https://www.vc-magazin.de/event/bai-alternative-investor-conference-aic/
LOCATION:Kap Europa\, Osloer Strasse 5\, Frankfurt am Main\, 60327\, Deutschland
ATTACH;FMTTYPE=image/png:https://www.vc-magazin.de/wp-content/uploads/2017/09/BAI_logo_de_4c_300dpi_2000Pixel_RGB-4-e1579855866685.png
END:VEVENT
BEGIN:VEVENT
DTSTART;TZID=Europe/Berlin:20200422T121500
DTEND;TZID=Europe/Berlin:20200422T140000
DTSTAMP:20260423T213858
CREATED:20191218T120919Z
LAST-MODIFIED:20200205T085324Z
UID:59930-1587557700-1587564000@www.vc-magazin.de
SUMMARY:Venture Capital Club Stammtisch\, München
DESCRIPTION:Der Venture Capital Club ist aus den seit 1983 regelmäßig durchgeführten „Venture-Stammtischen“ in München hervorgegangen. Ziel ist es\, die Finanzierung von Unternehmen mit Venture Capital und Private Equity durch die Verbesserung der Kommunikation zwischen allen am Venture Gedanken Interessierten zu ermöglichen und zu verbessern. \nZur Förderung genau dieser Finanzierungen braucht es eine Plattform\, wo die eigenen Leistungen/Produkte vorgestellt\, mit potentiellen Partnern gesprochen oder auch nur passiv zugehört werden kann. Diese Kommunikationslücke schließt unser Club durch die Bereitstellung eines in Deutschland einzigartigen Forums. \nDie Treffen – „Stammtische“ – finden ca. alle sechs Wochen mittwochs (zur Mittagszeit) in München statt. Dort werden in der Regel ca. 25-minütige Vorträge aus dem Venture Capital-Bereich\, vorwiegend mit praktischem Hintergrund\, gehalten. Zusätzlich bekommen jeweils zwei Start-Up-Teams die Chance zur Präsentation und ersten Kontaktaufnahme mit Investoren aus der PE/VC Szene sowie mit Business Angels. \nWeitere Informationen finden Sie hier
URL:https://www.vc-magazin.de/event/venture-capital-club-stammtisch-muenchen-9/
LOCATION:Kaufmanns-Casino\, Odeonsplatz 6\, München\, 80539
END:VEVENT
BEGIN:VEVENT
DTSTART;VALUE=DATE:20200423
DTEND;VALUE=DATE:20200426
DTSTAMP:20260423T213858
CREATED:20191218T134034Z
LAST-MODIFIED:20191218T134034Z
UID:59935-1587600000-1587859199@www.vc-magazin.de
SUMMARY:CPEA Programm 2019/2020 TUM/BVK\, Modul 5\, München
DESCRIPTION:Die zertifizierende CPEA-Maßnahme umfasst insgesamt fünf Module und wird in Kooperation mit dem BVK von der TUM – School of Management am Münchener Standort der Universität angeboten. Neben Investment Professionals der gesamten Beteiligungsbranche nehmen mittlerweile auch vermehrt Vertreter von Erstinvestoren\, Family Offices und Corporates an dem Programm teil. Die Ausbildung richtet sich somit nicht nur an Beteiligungs- und Investmentmanager\, sondern an alle\, die in der Beteiligungs- bzw. Investmentbranche sowie im M&A-Sektor tätig sind. \nDie Ausbildungsgruppe besteht aus maximal 25 Teilnehmern und selbstverständlich wird auf die unterschiedlichen Ausbildungsbedürfnisse eingegangen (Teilung der Gruppe in einen Venture Capital- und einen Buy-Out-Track). Für den Erwerb des Zertifikates ist die Teilnahme an den Präsenzmodulen (15 Präsenztage; Unterricht stets donnerstags bis samstags) obligatorisch und es sind Prüfungen vorgesehen (Klausur und Präsentation von Beispielfällen). Die Teilnehmer schließen mit dem Titel „Certified Private Equity Analyst“ ab. \nWeitere Informationen finden Sie hier
URL:https://www.vc-magazin.de/event/cpea-programm-2019-2020-tum-bvk-modul-5-muenchen/
LOCATION:Technische Universität München\, Arcisstraße 21\, München\, Bayern\, 80333\, Deutschland
ATTACH;FMTTYPE=image/png:https://www.vc-magazin.de/wp-content/uploads/2019/12/images.png
END:VEVENT
BEGIN:VEVENT
DTSTART;VALUE=DATE:20200427
DTEND;VALUE=DATE:20200429
DTSTAMP:20260423T213858
CREATED:20191218T135322Z
LAST-MODIFIED:20191218T135322Z
UID:59938-1587945600-1588118399@www.vc-magazin.de
SUMMARY:BioVaria\, München
DESCRIPTION:BioVaria targets technology scouts\, business developers and investors highlighting commercially attractive licensing opportunities and promising startups from across Europe. \nThis unique event brings together innovators from universities\, research institutes and startups with Europe’s leading tech transfer professionals\, investors and global biopharmaceutical industry. \nFor further Information click here
URL:https://www.vc-magazin.de/event/biovaria-muenchen/
LOCATION:Hotel Sofitel Munich Bayerpost\, Bayerstraße 12\, München\, Bayern\, 80335\, Deutschland
ATTACH;FMTTYPE=image/jpeg:https://www.vc-magazin.de/wp-content/uploads/2019/12/indexbiovaria.jpg
END:VEVENT
BEGIN:VEVENT
DTSTART;VALUE=DATE:20200428
DTEND;VALUE=DATE:20200429
DTSTAMP:20260423T213858
CREATED:20191021T095812Z
LAST-MODIFIED:20191021T095812Z
UID:57515-1588032000-1588118399@www.vc-magazin.de
SUMMARY:Venture Capital Stammtisch Düsseldorf
DESCRIPTION:Gemeinsam mit der Sozietät Tigges Rechtsanwälte und der Warth & Klein Grant Thornton AG Wirtschaftsprüfungsgesellschaft organisiert die eCAPITAL den Venture Capital Stammtisch Düsseldorf. Acht mal im Jahr bieten wir hier Unternehmern und Investoren eine Plattform zur Information und zum Austausch über aktuelle wirtschaftliche Entwicklungen und Tendenzen. Die thematische Einführung der jeweiligen Veranstaltung wird dabei durch Vorträge namhafter Referenten gestützt. Nachfolgend erhalten Sie einen Überblick über die bisherigen Veranstaltungen des VC Stammtisches. \nWeitere Informationen finden Sie hier
URL:https://www.vc-magazin.de/event/venture-capital-stammtisch-duesseldorf-3/
LOCATION:Restaurant Bocconcino\, Kaistraße 4 – 6\, Düsseldorf\, 40211
ATTACH;FMTTYPE=image/gif:https://www.vc-magazin.de/wp-content/uploads/2019/10/ecapital.gif
END:VEVENT
END:VCALENDAR