BEGIN:VCALENDAR
VERSION:2.0
PRODID:-//VC Magazin - ECPv6.15.15//NONSGML v1.0//EN
CALSCALE:GREGORIAN
METHOD:PUBLISH
X-WR-CALNAME:VC Magazin
X-ORIGINAL-URL:https://www.vc-magazin.de
X-WR-CALDESC:Veranstaltungen für VC Magazin
REFRESH-INTERVAL;VALUE=DURATION:PT1H
X-Robots-Tag:noindex
X-PUBLISHED-TTL:PT1H
BEGIN:VTIMEZONE
TZID:Europe/Berlin
BEGIN:DAYLIGHT
TZOFFSETFROM:+0100
TZOFFSETTO:+0200
TZNAME:CEST
DTSTART:20190331T010000
END:DAYLIGHT
BEGIN:STANDARD
TZOFFSETFROM:+0200
TZOFFSETTO:+0100
TZNAME:CET
DTSTART:20191027T010000
END:STANDARD
BEGIN:DAYLIGHT
TZOFFSETFROM:+0100
TZOFFSETTO:+0200
TZNAME:CEST
DTSTART:20200329T010000
END:DAYLIGHT
BEGIN:STANDARD
TZOFFSETFROM:+0200
TZOFFSETTO:+0100
TZNAME:CET
DTSTART:20201025T010000
END:STANDARD
BEGIN:DAYLIGHT
TZOFFSETFROM:+0100
TZOFFSETTO:+0200
TZNAME:CEST
DTSTART:20210328T010000
END:DAYLIGHT
BEGIN:STANDARD
TZOFFSETFROM:+0200
TZOFFSETTO:+0100
TZNAME:CET
DTSTART:20211031T010000
END:STANDARD
END:VTIMEZONE
BEGIN:VTIMEZONE
TZID:Europe/Luxembourg
BEGIN:DAYLIGHT
TZOFFSETFROM:+0100
TZOFFSETTO:+0200
TZNAME:CEST
DTSTART:20190331T010000
END:DAYLIGHT
BEGIN:STANDARD
TZOFFSETFROM:+0200
TZOFFSETTO:+0100
TZNAME:CET
DTSTART:20191027T010000
END:STANDARD
BEGIN:DAYLIGHT
TZOFFSETFROM:+0100
TZOFFSETTO:+0200
TZNAME:CEST
DTSTART:20200329T010000
END:DAYLIGHT
BEGIN:STANDARD
TZOFFSETFROM:+0200
TZOFFSETTO:+0100
TZNAME:CET
DTSTART:20201025T010000
END:STANDARD
BEGIN:DAYLIGHT
TZOFFSETFROM:+0100
TZOFFSETTO:+0200
TZNAME:CEST
DTSTART:20210328T010000
END:DAYLIGHT
BEGIN:STANDARD
TZOFFSETFROM:+0200
TZOFFSETTO:+0100
TZNAME:CET
DTSTART:20211031T010000
END:STANDARD
END:VTIMEZONE
BEGIN:VEVENT
DTSTART;TZID=Europe/Berlin:20200508T080000
DTEND;TZID=Europe/Berlin:20200508T170000
DTSTAMP:20260423T200621
CREATED:20200416T140718Z
LAST-MODIFIED:20200416T140718Z
UID:63271-1588924800-1588957200@www.vc-magazin.de
SUMMARY:Science4Life Energy Cup 2020 - Ende der Businessplanphase
DESCRIPTION:Der Einsendschluss für die Businessplanphase des Science4Life Businessplan-Wettbewerbs wurde verlängert: Bis zum 8. Mai 2020 können Start-ups aus den Bereichen Life Sciences\, Chemie und Energie ihre Businesspläne einreichen und von wertvollem Expertenwissen profitieren. \nDer Einsendschluss für die Businessplanphase des Science4Life Businessplan-Wettbewerbs wurde verlängert: Bis zum 8. Mai 2020 können Start-ups aus den Bereichen Life Sciences\, Chemie und Energie ihre Businesspläne einreichen und von wertvollem Expertenwissen profitieren. Der Businessplan kann online unter www.app.science4life.de/register hochgeladen werden. Die Businessplanprämierung findet im September statt. \nWeitere Informationen finden Sie hier.
URL:https://www.vc-magazin.de/event/science4life-energy-cup-2020-ende-der-businessplanphase/
ATTACH;FMTTYPE=image/png:https://www.vc-magazin.de/wp-content/uploads/2019/11/Logo-Science4Life-2018-e1671713593652.png
END:VEVENT
BEGIN:VEVENT
DTSTART;VALUE=DATE:20200511
DTEND;VALUE=DATE:20200512
DTSTAMP:20260423T200621
CREATED:20200218T154618Z
LAST-MODIFIED:20200218T154618Z
UID:62423-1589155200-1589241599@www.vc-magazin.de
SUMMARY:Internationale Investorenkonferenz „VentureCon International“
DESCRIPTION:Mit der „VentureCon International“ bringt BayStartUP Startups\, Investoren und Corporates aus ganz Deutschland und Europa zusammen. Vielversprechende\, vorselektierte und investitionsbereite Unternehmen stellen in prägnanten Pitches ihre Geschäftskonzepte vor. \nDie nächste Ausgabe findet am 11. Mai 2020 im upside east München statt. \nDie Unternehmen präsentieren Lösungen aus dem Technologie- und Digital-Bereich\, können bereits auf die ersten Erfolge ihres Unternehmens zurückblicken und Kundenkontakte vorweisen. Die Teams sind bereit\, nationale Grenzen zu überschreiten und mit internationalen Vertriebswegen und Finanzierungspartnern den nächsten Schritt zu wagen. \nWeitere Informationen finden Sie hier.
URL:https://www.vc-magazin.de/event/internationale-investorenkonferenz-venturecon-international/
LOCATION:upside east\, Rosenheimer Str. 145d\, München
ATTACH;FMTTYPE=image/jpeg:https://www.vc-magazin.de/wp-content/uploads/2016/02/BayStartUP.jpg
END:VEVENT
BEGIN:VEVENT
DTSTART;TZID=Europe/Berlin:20200511T080000
DTEND;TZID=Europe/Berlin:20200512T170000
DTSTAMP:20260423T200621
CREATED:20200130T110617Z
LAST-MODIFIED:20200130T110617Z
UID:61637-1589184000-1589302800@www.vc-magazin.de
SUMMARY:Charite Entrepreneurship Summit 2020
DESCRIPTION:Over 400 experts in medical innovation will discuss global challenges and pioneering technologies in healthcare. During two conference days\, you will get access to entrepreneurs\, scientists and clinicians\, policymakers\, investors\, and industry leaders. Our agenda features inspiring keynote speakers from Germany\, Europe\, Israel\, Canada\, the United States\, and Australia. Broad-ranging panel discussions will provide insights into emerging markets and trends. This year has a special focus on Scotland and therefore has a strong emphasis on international collaboration. \n\nFurther information available here.
URL:https://www.vc-magazin.de/event/charite-entrepreneurship-summit-2020/
LOCATION:Berlin-Brandenburg Academy of Sciences and Humanities
ATTACH;FMTTYPE=image/png:https://www.vc-magazin.de/wp-content/uploads/2020/01/12519021_CES2020_Webbanner_825x160.png
END:VEVENT
BEGIN:VEVENT
DTSTART;VALUE=DATE:20200512
DTEND;VALUE=DATE:20200513
DTSTAMP:20260423T200621
CREATED:20191218T141333Z
LAST-MODIFIED:20200204T104208Z
UID:59946-1589241600-1589327999@www.vc-magazin.de
SUMMARY:Münchner M&A Forum im Literaturhaus\, München
DESCRIPTION:Das Münchner M&A Forum (MMA) bietet eine Plattform für Diskussionen über die jüngsten rechtlichen Entwicklungen und deren Auswirkungen auf M&A-Transaktionen. MMA freut sich als unabhängige Veranstaltung\, Verantwortliche aus Unternehmen\, Anwaltskanzleien\, Beratungs­gesellschaften\, der Zivil-Gerichte und der öffentlichen Verwaltung begrüßen zu dürfen. \nWeitere Informationen finden Sie hier
URL:https://www.vc-magazin.de/event/muenchner-ma-forum-im-literaturhaus-muenchen-3/
LOCATION:Literaturhaus München\, Salvatorplatz 1\, München\, 80333\, Deutschland
ATTACH;FMTTYPE=image/png:https://www.vc-magazin.de/wp-content/uploads/2019/12/mma-forum.png
END:VEVENT
BEGIN:VEVENT
DTSTART;VALUE=DATE:20200512
DTEND;VALUE=DATE:20200514
DTSTAMP:20260423T200621
CREATED:20200128T120234Z
LAST-MODIFIED:20200204T113438Z
UID:61451-1589241600-1589414399@www.vc-magazin.de
SUMMARY:ICT Spring 2020
DESCRIPTION:“ICT Spring is a Global Tech Conference hosting an array of International Professionals. This two-day yearly event is held in Luxembourg City\, at the heart of Europe\, and offers the participants a unique opportunity to deepen their Digital Knowledge\, capture the Value of the fast-growing FinTech Industry\, and explore the impact of Space Technologies on Terrestrial Businesses\, through exhibitions and demonstrations of the latest Tech Trends and Innovations. ICT Spring is also the perfect place to network with peers and future business partners. “\n\nFurther information is available here.
URL:https://www.vc-magazin.de/event/ict-spring-europe/
LOCATION:European Convention Center Luxembourg\, 4\, place de l'Europe\, Luxembourg-Kirchberg\, L-1499\, Luxemburg
ATTACH;FMTTYPE=image/jpeg:https://www.vc-magazin.de/wp-content/uploads/2020/01/ictspring2016-1-759x334-1.jpg
ORGANIZER;CN="Chamber of Commerce":MAILTO:b2fair@cc.lu
END:VEVENT
BEGIN:VEVENT
DTSTART;VALUE=DATE:20200515
DTEND;VALUE=DATE:20200517
DTSTAMP:20260423T200621
CREATED:20191218T141737Z
LAST-MODIFIED:20200204T150202Z
UID:59949-1589500800-1589673599@www.vc-magazin.de
SUMMARY:Workshop Venture Capital\, Zürich\, Schweiz
DESCRIPTION:Wir zeigen auf\, was Venture Capital im Unterschied zu anderen Assetklassen ist\, welche Märkte es gibt\, wie Venture Capital funktioniert\, welches die wichtigsten Marktplayer und deren Geschäftsmodelle sind\, wie VC reguliert ist\, welche Gründe für Venture Capital sprechen\, wie ein Investor investieren kann und was die Erfolgsfaktoren für Investments sind. Neben diesen Themen dürfen Erfolgsgeschichten aus der jüngsten Vergangenheit aus den Bereichen Innovation\, Unternehmertum und Venture Capital nicht fehlen. Zur Verknüpfung von Theorie und Praxis gestalten namhafte Referenten aus der Industrie sowie aus der Forschung und Entwicklung den Workshop mit. \nWeitere Informationen finden Sie hier.
URL:https://www.vc-magazin.de/event/workshop-venture-capital-zuerich-schweiz/
ATTACH;FMTTYPE=image/jpeg:https://www.vc-magazin.de/wp-content/uploads/2019/12/indexseca.jpg
END:VEVENT
BEGIN:VEVENT
DTSTART;VALUE=DATE:20200525
DTEND;VALUE=DATE:20200526
DTSTAMP:20260423T200621
CREATED:20191218T142453Z
LAST-MODIFIED:20191218T142453Z
UID:59951-1590364800-1590451199@www.vc-magazin.de
SUMMARY:14. Private Equity-Konferenz NRW\, Düsseldorf
DESCRIPTION:
URL:https://www.vc-magazin.de/event/14-private-equity-konferenz-nrw-duesseldorf/
ATTACH;FMTTYPE=image/jpeg:https://www.vc-magazin.de/wp-content/uploads/2019/12/indexnrw.jpg
END:VEVENT
BEGIN:VEVENT
DTSTART;VALUE=DATE:20200526
DTEND;VALUE=DATE:20200527
DTSTAMP:20260423T200621
CREATED:20191021T100246Z
LAST-MODIFIED:20191021T100246Z
UID:57517-1590451200-1590537599@www.vc-magazin.de
SUMMARY:Venture Capital Stammtisch Düsseldorf
DESCRIPTION:Gemeinsam mit der Sozietät Tigges Rechtsanwälte und der Warth & Klein Grant Thornton AG Wirtschaftsprüfungsgesellschaft organisiert die eCAPITAL den Venture Capital Stammtisch Düsseldorf. Acht mal im Jahr bieten wir hier Unternehmern und Investoren eine Plattform zur Information und zum Austausch über aktuelle wirtschaftliche Entwicklungen und Tendenzen. Die thematische Einführung der jeweiligen Veranstaltung wird dabei durch Vorträge namhafter Referenten gestützt. Nachfolgend erhalten Sie einen Überblick über die bisherigen Veranstaltungen des VC Stammtisches. \nWeitere Informationen finden Sie hier
URL:https://www.vc-magazin.de/event/venture-capital-stammtisch-duesseldorf-4/
LOCATION:Restaurant Bocconcino\, Kaistraße 4 – 6\, Düsseldorf\, 40211
ATTACH;FMTTYPE=image/gif:https://www.vc-magazin.de/wp-content/uploads/2019/10/ecapital.gif
END:VEVENT
BEGIN:VEVENT
DTSTART;VALUE=DATE:20200526
DTEND;VALUE=DATE:20200527
DTSTAMP:20260423T200621
CREATED:20191218T142829Z
LAST-MODIFIED:20200109T093420Z
UID:59955-1590451200-1590537599@www.vc-magazin.de
SUMMARY:Family Day 2020\, Bonn
DESCRIPTION:Der HTGF Family Day ist die größte Veranstaltung in der Venture Capital / Private Equity-Branche. In Vorträgen und Diskussionen\, abgerundet durch die Präsentation diverser Start-ups\, können interessante Einblicke in aktuelle technologische Trends gewonnen werden. \nWeitere Informationen finden Sie hier
URL:https://www.vc-magazin.de/event/family-day-2020-bonn/
LOCATION:Kameha Grand Bonn\, Am Bonner Bogen 1\, Bonn\, NRW\, 53227\, Deutschland
ATTACH;FMTTYPE=image/jpeg:https://www.vc-magazin.de/wp-content/uploads/2019/12/indexfd.jpg
END:VEVENT
BEGIN:VEVENT
DTSTART;TZID=Europe/Berlin:20200527T121500
DTEND;TZID=Europe/Berlin:20200527T140000
DTSTAMP:20260423T200621
CREATED:20191218T144844Z
LAST-MODIFIED:20200107T142911Z
UID:59962-1590581700-1590588000@www.vc-magazin.de
SUMMARY:Venture Capital Club Stammtisch\, München
DESCRIPTION:Der Venture Capital Club ist aus den seit 1983 regelmäßig durchgeführten „Venture-Stammtischen“ in München hervorgegangen. Ziel ist es\, die Finanzierung von Unternehmen mit Venture Capital und Private Equity durch die Verbesserung der Kommunikation zwischen allen am Venture Gedanken Interessierten zu ermöglichen und zu verbessern. \nZur Förderung genau dieser Finanzierungen braucht es eine Plattform\, wo die eigenen Leistungen/Produkte vorgestellt\, mit potentiellen Partnern gesprochen oder auch nur passiv zugehört werden kann. Diese Kommunikationslücke schließt unser Club durch die Bereitstellung eines in Deutschland einzigartigen Forums. \nDie Treffen – „Stammtische“ – finden ca. alle sechs Wochen mittwochs (zur Mittagszeit) in München statt. Dort werden in der Regel ca. 25-minütige Vorträge aus dem Venture Capital-Bereich\, vorwiegend mit praktischem Hintergrund\, gehalten. Zusätzlich bekommen jeweils zwei Start-Up-Teams die Chance zur Präsentation und ersten Kontaktaufnahme mit Investoren aus der PE/VC Szene sowie mit Business Angels. \nWeitere Informationen finden Sie hier
URL:https://www.vc-magazin.de/event/venture-capital-club-stammtisch-muenchen-4/
LOCATION:Kaufmanns-Casino\, Odeonsplatz 6\, München\, 80539
ATTACH;FMTTYPE=image/jpeg:https://www.vc-magazin.de/wp-content/uploads/2019/12/VCC.jpg
END:VEVENT
BEGIN:VEVENT
DTSTART;TZID=Europe/Berlin:20200528T080000
DTEND;TZID=Europe/Berlin:20200529T170000
DTSTAMP:20260423T200621
CREATED:20200211T101404Z
LAST-MODIFIED:20200211T101404Z
UID:62147-1590652800-1590771600@www.vc-magazin.de
SUMMARY:EU-Startups Summit
DESCRIPTION:Der EU-Startups Summit ist das jährlich stattfindende Event der Macher von EU-Startups.com – dem führenden Online-Magazine über Startups in Europa. 1\,500 Europa’s bester Gründer und Investoren kommen am 28. und 29. Mai in Barcelona zusammen um zu Networken und sich gegenseitig über neue Innovationen und Learnings auszutauschen. Die diesjährige Speaker-Liste enthält Namen wie Oscar Pierre (CEO\, Glovo)\, Vasco Pedro (CEO\, Unbabel)\, Carlota Pi (Founder\, HolaLuz)\, und rund 70 weitere Namen. Abgerundet wird das Ganze u.a. durch eine große Pitch Competition\, mit insgesamt rund 1\,000 Bewerbungen von frühphasigen Startups aus ganz Europa. Die 15 Finalisten werden auf der Hauptbühne ihre Unternehmen vorstellen und einer Jury aus hochkarätigen VCs Rede und Antwort stehen. Dem Gewinner-Startup winkt ein Preis-Paket im Wert von ca. €75.000. VC Magazin Leser erhalten mit dem Code VCMAGAZIN exklusiv 20% Rabatt für Ticket-Käufe bis zum 30. März. Tickets gibt es hier! \nWeitere Informationen finden Sie hier.
URL:https://www.vc-magazin.de/event/eu-startups-summit/
LOCATION:Palau de Congressos de Catalunya\, Avinguda de la Reina Maria Cristina \, Barcelona\, 08004 \, Spanien
ATTACH;FMTTYPE=image/gif:https://www.vc-magazin.de/wp-content/uploads/2020/02/Summit-Banner.gif
END:VEVENT
END:VCALENDAR