BEGIN:VCALENDAR
VERSION:2.0
PRODID:-//VC Magazin - ECPv6.15.15//NONSGML v1.0//EN
CALSCALE:GREGORIAN
METHOD:PUBLISH
X-ORIGINAL-URL:https://www.vc-magazin.de
X-WR-CALDESC:Veranstaltungen für VC Magazin
REFRESH-INTERVAL;VALUE=DURATION:PT1H
X-Robots-Tag:noindex
X-PUBLISHED-TTL:PT1H
BEGIN:VTIMEZONE
TZID:Europe/Bratislava
BEGIN:DAYLIGHT
TZOFFSETFROM:+0100
TZOFFSETTO:+0200
TZNAME:CEST
DTSTART:20190331T010000
END:DAYLIGHT
BEGIN:STANDARD
TZOFFSETFROM:+0200
TZOFFSETTO:+0100
TZNAME:CET
DTSTART:20191027T010000
END:STANDARD
BEGIN:DAYLIGHT
TZOFFSETFROM:+0100
TZOFFSETTO:+0200
TZNAME:CEST
DTSTART:20200329T010000
END:DAYLIGHT
BEGIN:STANDARD
TZOFFSETFROM:+0200
TZOFFSETTO:+0100
TZNAME:CET
DTSTART:20201025T010000
END:STANDARD
BEGIN:DAYLIGHT
TZOFFSETFROM:+0100
TZOFFSETTO:+0200
TZNAME:CEST
DTSTART:20210328T010000
END:DAYLIGHT
BEGIN:STANDARD
TZOFFSETFROM:+0200
TZOFFSETTO:+0100
TZNAME:CET
DTSTART:20211031T010000
END:STANDARD
END:VTIMEZONE
BEGIN:VTIMEZONE
TZID:Europe/Berlin
BEGIN:DAYLIGHT
TZOFFSETFROM:+0100
TZOFFSETTO:+0200
TZNAME:CEST
DTSTART:20190331T010000
END:DAYLIGHT
BEGIN:STANDARD
TZOFFSETFROM:+0200
TZOFFSETTO:+0100
TZNAME:CET
DTSTART:20191027T010000
END:STANDARD
BEGIN:DAYLIGHT
TZOFFSETFROM:+0100
TZOFFSETTO:+0200
TZNAME:CEST
DTSTART:20200329T010000
END:DAYLIGHT
BEGIN:STANDARD
TZOFFSETFROM:+0200
TZOFFSETTO:+0100
TZNAME:CET
DTSTART:20201025T010000
END:STANDARD
BEGIN:DAYLIGHT
TZOFFSETFROM:+0100
TZOFFSETTO:+0200
TZNAME:CEST
DTSTART:20210328T010000
END:DAYLIGHT
BEGIN:STANDARD
TZOFFSETFROM:+0200
TZOFFSETTO:+0100
TZNAME:CET
DTSTART:20211031T010000
END:STANDARD
END:VTIMEZONE
BEGIN:VEVENT
DTSTART;TZID=Europe/Bratislava:20200602T083000
DTEND;TZID=Europe/Bratislava:20200602T173000
DTSTAMP:20260423T183001
CREATED:20200128T145741Z
LAST-MODIFIED:20200128T145741Z
UID:61475-1591086600-1591119000@www.vc-magazin.de
SUMMARY:0100 Conferences Bratislava
DESCRIPTION:Extend your business network\, build lasting partnerships\, create attractive opportunities and gain valuable insights into the latest PE & VC trends.\nMeet our audience of senior level attendees such as General Partners from renowned private equity & venture capital funds\, Limited Partners\, including pension funds\, funds of funds\, family offices\, high-net-worth individuals\, business angels\, insurance companies\, as well as leading service providers\, and other industry professionals\nLearn from dedicated discussion panels\, get inspired by unique keynotes and join expert workshops. Benefit from this unique chance to maximize your business opportunities in the PE industry!\n\nFurther Information is available here
URL:https://www.vc-magazin.de/event/0100-conferences-bratislava/
LOCATION:Primate’s Palace\, Primaciálne námestie 2\, Bratislava\, 811 01
ATTACH;FMTTYPE=image/jpeg:https://www.vc-magazin.de/wp-content/uploads/2020/01/thZ3B55VB7.jpg
END:VEVENT
BEGIN:VEVENT
DTSTART;TZID=Europe/Berlin:20200615T100000
DTEND;TZID=Europe/Berlin:20200619T170000
DTSTAMP:20260423T183001
CREATED:20191023T140233Z
LAST-MODIFIED:20200615T111206Z
UID:57659-1592215200-1592586000@www.vc-magazin.de
SUMMARY:eMUPET | Munich Private Equity Training
DESCRIPTION:Die MUPET\, die vor 21 Jahren als Mandanten-Workshop von P+P Pöllath + Partners | Rechtsanwälte Steuerberater mbB\, startete\, erfährt in diesem Jahr eine Neuerung – es ist Zeit für eine Premiere: Vom 15. bis 19. Juni findet die eMUPET – eine Private Equity Onlinewoche – statt. \nIn bewährter MUPET-Qualität erwarten Sie Online-Fachvorträge\, Keynotes\, Webinare\, Erklärvideos sowie Audio-Content als Podcastfolgen rund um die akutellen Themen der Branche. Manches wird live zu fester Stunde stattfinden\, anderes wird sich als Video- oder Audioformat ganz flexibel nach Ihrem Zeitplan richten. \nDie Teilnahme ist nach online Registrierung in diesem Jahr kostenfrei. \nLink zur Anmeldung hier. \n 
URL:https://www.vc-magazin.de/event/munich-private-equity-training-mupet-2020/
LOCATION:online
ATTACH;FMTTYPE=image/jpeg:https://www.vc-magazin.de/wp-content/uploads/2019/10/header-mupet-4.jpg
END:VEVENT
BEGIN:VEVENT
DTSTART;VALUE=DATE:20200616
DTEND;VALUE=DATE:20200618
DTSTAMP:20260423T183001
CREATED:20191219T095401Z
LAST-MODIFIED:20200615T110947Z
UID:60008-1592265600-1592438399@www.vc-magazin.de
SUMMARY:Investor Days Thüringen 2020
DESCRIPTION:Digital Edition Playing Changes\nAm 16. & 17. Juni 2020 kommen die Investor Days Thüringen in der Digital Edition zu Ihnen nach Hause. Unter dem Motto Playing Changes für die Start-up Community\, verändern wir gemeinsam die Spielregeln. Entdecken Sie ein breites Spektrum an Start-ups\, Tech-Wachstumsunternehmen\, VC-Investoren und Corporates und erweitern Sie Ihr Netzwerk remote. Es erwarten Sie die neuesten Technologien\, Live-Pitches im digitalen Spotlight\, Innovation Broadcasts\, Online Matchings mit Investoren und vieles mehr! \nMehr Infos unter: www.investordays-thueringen.de
URL:https://www.vc-magazin.de/event/investor-days-thueringen-2020/
LOCATION:online
ATTACH;FMTTYPE=image/png:https://www.vc-magazin.de/wp-content/uploads/2019/12/LOGO-WEB.png
END:VEVENT
BEGIN:VEVENT
DTSTART;VALUE=DATE:20200616
DTEND;VALUE=DATE:20200618
DTSTAMP:20260423T183001
CREATED:20201218T162411Z
LAST-MODIFIED:20201218T162529Z
UID:65090-1592265600-1592438399@www.vc-magazin.de
SUMMARY:Investor Days Thüringen
DESCRIPTION:Am 16. und 17. Juni 2020 kommen die Investor Days Thüringen zu Ihnen! Unter dem Motto Playing Changes für die Start-up Community\, verändern wir gemeinsam die Spielregeln. Entdecken Sie ein breites Spektrum an Start-ups\, Tech-Wachstumsunternehmen\, VC-Investoren und Corporates und erweitern Sie Ihr Netzwerk remote.   Die neuesten Technologien und Ansätze\, Live-Pitches im digitalen Spotlight\,  interaktive VR-Messe\, 1:1 Meetings zwischen Start-ups und Investoren – all dies und viel mehr erleben Sie bei der Digital Edition der Investor Days Thüringen 2020! \nDie Investor Days Thüringen sind eine Initiative der Stiftung für Technologie\, Innovation und Forschung Thüringen (STIFT) und der beteiligungsmanagement thüringen gmbh (bm|t)\, um innovative Start-ups und Wachstumsunternehmen mit potenziellen Kooperationspartnern als auch mit Investoren und Business Angels zusammenzubringen
URL:https://www.vc-magazin.de/event/investor-days-thueringen/
END:VEVENT
BEGIN:VEVENT
DTSTART;TZID=Europe/Berlin:20200616T100000
DTEND;TZID=Europe/Berlin:20200616T104500
DTSTAMP:20260423T183001
CREATED:20200506T084203Z
LAST-MODIFIED:20200615T111043Z
UID:63336-1592301600-1592304300@www.vc-magazin.de
SUMMARY:Webinar I Data Protection and M&A
DESCRIPTION:Impacts of the General Data Protection Regulation (GDPR) on M&A Transactions \nWhether within the due diligence\, the use of Legal Tech or the drafting of the guarantees within the share purchase and transfer agreement (SPA): Data protection is increasingly becoming a main factor in M&A transactions – particularly regarding the fines\, which have recently been imposed by the competent authorities.\nDr. Hans-Christian Woger and Maximilian Vocke give an overview of the legal situation and\, inter alia\, address the question of how a due diligence should legally be performed with regard to data protection\, explain the potential pitfalls of data protection due diligences and discuss the implemen-tation of the due diligence within the SPA taking into account current market trends. \nPlease note that the webinar will be hold in German. \nRegister here.
URL:https://www.vc-magazin.de/event/webinar-i-data-protection-and-ma/
LOCATION:online
ATTACH;FMTTYPE=image/png:https://www.vc-magazin.de/wp-content/uploads/2016/03/osborneclarke-e1588755335737.png
END:VEVENT
END:VCALENDAR