BEGIN:VCALENDAR
VERSION:2.0
PRODID:-//VC Magazin - ECPv6.15.15//NONSGML v1.0//EN
CALSCALE:GREGORIAN
METHOD:PUBLISH
X-WR-CALNAME:VC Magazin
X-ORIGINAL-URL:https://www.vc-magazin.de
X-WR-CALDESC:Veranstaltungen für VC Magazin
REFRESH-INTERVAL;VALUE=DURATION:PT1H
X-Robots-Tag:noindex
X-PUBLISHED-TTL:PT1H
BEGIN:VTIMEZONE
TZID:Europe/Berlin
BEGIN:DAYLIGHT
TZOFFSETFROM:+0100
TZOFFSETTO:+0200
TZNAME:CEST
DTSTART:20190331T010000
END:DAYLIGHT
BEGIN:STANDARD
TZOFFSETFROM:+0200
TZOFFSETTO:+0100
TZNAME:CET
DTSTART:20191027T010000
END:STANDARD
BEGIN:DAYLIGHT
TZOFFSETFROM:+0100
TZOFFSETTO:+0200
TZNAME:CEST
DTSTART:20200329T010000
END:DAYLIGHT
BEGIN:STANDARD
TZOFFSETFROM:+0200
TZOFFSETTO:+0100
TZNAME:CET
DTSTART:20201025T010000
END:STANDARD
BEGIN:DAYLIGHT
TZOFFSETFROM:+0100
TZOFFSETTO:+0200
TZNAME:CEST
DTSTART:20210328T010000
END:DAYLIGHT
BEGIN:STANDARD
TZOFFSETFROM:+0200
TZOFFSETTO:+0100
TZNAME:CET
DTSTART:20211031T010000
END:STANDARD
END:VTIMEZONE
BEGIN:VEVENT
DTSTART;TZID=Europe/Berlin:20200701T140000
DTEND;TZID=Europe/Berlin:20200701T170000
DTSTAMP:20260423T165941
CREATED:20200109T111517Z
LAST-MODIFIED:20200109T130007Z
UID:60750-1593612000-1593622800@www.vc-magazin.de
SUMMARY:“Pitch Club #22 meets Forum Kiedrich”
DESCRIPTION:Am Mittwoch\, den 1. Juli 2020 um 14 Uhr\, trifft der Pitch Club auf das Forum Kiedrich – “Pitch Club #22 meets Forum Kiedrich” in Wiesbaden. \nDas Forum Kiedrich trägt bereits seit 1997 durch ein starkes Netzwerk bestehend aus Business Angels\, Mentoren und Investoren zu der Förderung des Gründerstandorts Deutschland bei und unterstützt Gründer und Gründerinnen in allen Phasen ihres Unternehmensstarts. \nSpannende vorselektierte Startups („early-stage“ mit „proof of concept“) präsentieren ihre Ideen vor erfahrenen Investoren. Dabei wird den „pitchenden“ Startups alles abverlangt: Die Bühne wird zum „Ring“\, in dem sich Gründer & Gründerinnen gegenüber den kritischen Fragen der Investoren “verteidigen” müssen. Unbequeme Fragen sowie kritische Anmerkungen sind hierbei nicht nur erwünscht\, sondern strikt vorgeschrieben. \nDer Pitch Club hat sich inzwischen mit seinem einzigartigen Format zu Rhein-Mains erfolgreichstem Pitch Event etabliert. Die Veranstalter setzen auf Exklusivität und stoßen damit auf großes Interesse bei innovativen und vielversprechenden Startups\, Top-Investoren sowie Sponsoren und Partnern. \nEarly-stage Startups mit proof of concept können sich bis zum 20. Juni 2020 über folgenden Link für eine Teilnahme bewerben: https://www.thepitchclub.com/de/startup/. \nInvestoren bitten wir\, sich unter www.thepitchclub.com/de/investoren/ zu bewerben.
URL:https://www.vc-magazin.de/event/pitch-club-22-meets-forum-kiedrich/
LOCATION:Wiesbaden
ATTACH;FMTTYPE=image/png:https://www.vc-magazin.de/wp-content/uploads/2020/01/Grafik_PC22_klein.png
END:VEVENT
BEGIN:VEVENT
DTSTART;TZID=Europe/Berlin:20200707T143000
DTEND;TZID=Europe/Berlin:20200709T173000
DTSTAMP:20260423T165941
CREATED:20200625T151138Z
LAST-MODIFIED:20200625T151138Z
UID:63747-1594132200-1594315800@www.vc-magazin.de
SUMMARY:A-Summit
DESCRIPTION:Der A-Summit bringt  2020 bereits zum dritten Mal alle 30+ Startup-Förderprogramme aus NRW zusammen. Gründer und Gründungsinteressierte treffen auf Ansprechpartner zu Themen wie Startup-Förderung\, -Finanzierung oder Recruiting. Das Event findet online statt und ist kostenfrei.
URL:https://www.vc-magazin.de/event/a-summit/
LOCATION:online
ATTACH;FMTTYPE=image/jpeg:https://www.vc-magazin.de/wp-content/uploads/2020/06/A-Summit.jpg
END:VEVENT
BEGIN:VEVENT
DTSTART;VALUE=DATE:20200708
DTEND;VALUE=DATE:20200710
DTSTAMP:20260423T165941
CREATED:20200702T110151Z
LAST-MODIFIED:20200702T113550Z
UID:63795-1594166400-1594339199@www.vc-magazin.de
SUMMARY:EXEC insurtech
DESCRIPTION:The first EXECinsurtech Remote Edition aims to reconnect the insurtech industry after a time of uncertainty. We are a curated network of insurtech professionals and industry experts who value the worth of exchanging knowledge at eye level. From local to global. For startups\, investors and corporates. \nFree lifestream access. Networking tickets starting at 69€. \nMore info: https://execinsurtech.com/
URL:https://www.vc-magazin.de/event/exec-insurtech/
LOCATION:online
ATTACH;FMTTYPE=image/png:https://www.vc-magazin.de/wp-content/uploads/2020/07/EXEC.png
END:VEVENT
BEGIN:VEVENT
DTSTART;VALUE=DATE:20200713
DTEND;VALUE=DATE:20200714
DTSTAMP:20260423T165941
CREATED:20191219T093144Z
LAST-MODIFIED:20200617T142935Z
UID:59999-1594598400-1594684799@www.vc-magazin.de
SUMMARY:5. Financial Golf Cup
DESCRIPTION:
URL:https://www.vc-magazin.de/event/5-financial-golf-cup/
LOCATION:St. Eurach Land- und Golfclub
ATTACH;FMTTYPE=image/jpeg:https://www.vc-magazin.de/wp-content/uploads/2019/12/indexgolf.jpg
END:VEVENT
BEGIN:VEVENT
DTSTART;TZID=Europe/Berlin:20200715T121500
DTEND;TZID=Europe/Berlin:20200715T140000
DTSTAMP:20260423T165941
CREATED:20191219T093530Z
LAST-MODIFIED:20200703T113401Z
UID:60004-1594815300-1594821600@www.vc-magazin.de
SUMMARY:Venture Capital Club Stammtisch\, München
DESCRIPTION:Der Venture Capital Club ist aus den seit 1983 regelmäßig durchgeführten „Venture-Stammtischen“ in München hervorgegangen. Ziel ist es\, die Finanzierung von Unternehmen mit Venture Capital und Private Equity durch die Verbesserung der Kommunikation zwischen allen am Venture Gedanken Interessierten zu ermöglichen und zu verbessern. \nZur Förderung genau dieser Finanzierungen braucht es eine Plattform\, wo die eigenen Leistungen/Produkte vorgestellt\, mit potentiellen Partnern gesprochen oder auch nur passiv zugehört werden kann. Diese Kommunikationslücke schließt unser Club durch die Bereitstellung eines in Deutschland einzigartigen Forums. \nDie Treffen – „Stammtische“ – finden ca. alle sechs Wochen mittwochs (zur Mittagszeit) in München statt. Dort werden in der Regel ca. 25-minütige Vorträge aus dem Venture Capital-Bereich\, vorwiegend mit praktischem Hintergrund\, gehalten. Zusätzlich bekommen jeweils zwei Start-Up-Teams die Chance zur Präsentation und ersten Kontaktaufnahme mit Investoren aus der PE/VC Szene sowie mit Business Angels. \nWeitere Informationen finden Sie hier
URL:https://www.vc-magazin.de/event/venture-capital-club-stammtisch-muenchen-5/
LOCATION:Kaufmanns-Casino\, Odeonsplatz 6\, München\, 80539
ATTACH;FMTTYPE=image/jpeg:https://www.vc-magazin.de/wp-content/uploads/2019/12/VCC.jpg
END:VEVENT
END:VCALENDAR