BEGIN:VCALENDAR
VERSION:2.0
PRODID:-//VC Magazin - ECPv6.15.15//NONSGML v1.0//EN
CALSCALE:GREGORIAN
METHOD:PUBLISH
X-ORIGINAL-URL:https://www.vc-magazin.de
X-WR-CALDESC:Veranstaltungen für VC Magazin
REFRESH-INTERVAL;VALUE=DURATION:PT1H
X-Robots-Tag:noindex
X-PUBLISHED-TTL:PT1H
BEGIN:VTIMEZONE
TZID:Europe/Berlin
BEGIN:DAYLIGHT
TZOFFSETFROM:+0100
TZOFFSETTO:+0200
TZNAME:CEST
DTSTART:20190331T010000
END:DAYLIGHT
BEGIN:STANDARD
TZOFFSETFROM:+0200
TZOFFSETTO:+0100
TZNAME:CET
DTSTART:20191027T010000
END:STANDARD
BEGIN:DAYLIGHT
TZOFFSETFROM:+0100
TZOFFSETTO:+0200
TZNAME:CEST
DTSTART:20200329T010000
END:DAYLIGHT
BEGIN:STANDARD
TZOFFSETFROM:+0200
TZOFFSETTO:+0100
TZNAME:CET
DTSTART:20201025T010000
END:STANDARD
BEGIN:DAYLIGHT
TZOFFSETFROM:+0100
TZOFFSETTO:+0200
TZNAME:CEST
DTSTART:20210328T010000
END:DAYLIGHT
BEGIN:STANDARD
TZOFFSETFROM:+0200
TZOFFSETTO:+0100
TZNAME:CET
DTSTART:20211031T010000
END:STANDARD
END:VTIMEZONE
BEGIN:VEVENT
DTSTART;TZID=Europe/Berlin:20200818T100000
DTEND;TZID=Europe/Berlin:20200818T104500
DTSTAMP:20260423T151622
CREATED:20200506T084516Z
LAST-MODIFIED:20200616T092405Z
UID:63338-1597744800-1597747500@www.vc-magazin.de
SUMMARY:Webinar I 10 big thinks: Tech M&A Update 2020
DESCRIPTION:Despite the continuing uncertainties due to the global pandemic\, there are still positive factors in 2020 that have driven the M&A market in recent years. The ongoing low interest rates\, high liquidity in the market and the high economic pressure among competitors should outweigh current concerns in the mid-term and lead to an increase in M&A activity. VC/PE investors in particular are likely to become a driver of M&A activity as many VC/PE firms have sufficient dry powder and are looking for investment opportunities in all sectors. In particular\, this applies to companies in the digital environment. \nRobin Eyben and Maximilian Vocke present 10 current M&A topics that were particularly relevant in 2020 and are expected to continue to determine the M&A activities in the German Technology\, Media and Telecommunications (TMC) Sector in 2020. \nRegister here.
URL:https://www.vc-magazin.de/event/webinar-i-10-big-thinks-tech-ma-update-2020/
LOCATION:online
ATTACH;FMTTYPE=image/png:https://www.vc-magazin.de/wp-content/uploads/2016/03/osborneclarke-e1588755335737.png
END:VEVENT
BEGIN:VEVENT
DTSTART;TZID=Europe/Berlin:20200825T090000
DTEND;TZID=Europe/Berlin:20200825T200000
DTSTAMP:20260423T151622
CREATED:20200625T154742Z
LAST-MODIFIED:20200625T154742Z
UID:63757-1598346000-1598385600@www.vc-magazin.de
SUMMARY:START Demo Day
DESCRIPTION:START Demo Day is the perfect environment to enable efficient matching of great ideas with the necessary capital and expertise. This year you will have the chance to experience all of this from the comfort of your home or office as the event will be fully virtual.
URL:https://www.vc-magazin.de/event/start-demo-day/
LOCATION:online
ATTACH;FMTTYPE=image/png:https://www.vc-magazin.de/wp-content/uploads/2020/06/start-demo-day.png
END:VEVENT
BEGIN:VEVENT
DTSTART;VALUE=DATE:20200831
DTEND;VALUE=DATE:20200905
DTSTAMP:20260423T151622
CREATED:20190409T152314Z
LAST-MODIFIED:20200817T135531Z
UID:50561-1598832000-1599263999@www.vc-magazin.de
SUMMARY:PIRATE Live - A week full of content
DESCRIPTION:A week dedicated to startup enthusiasts ARRRound the globe. \nStartup Safari Rhineland is taking place in the scope of PIRATE Live\, an all-remote event platform\, uniting the regional and global startup ecosystem to connect\, learn\, get inspired and interact. Followed by high-level keynotes and masterclasses\, as well as discussion tables to ask away and contribute yourself\, you can design your own agenda from a variety of sessions. PIRATE Live is built around like minded individuals no matter who they are or where they live. Everybody with an interest in startups\, entrepreneurship and digital innovation is welcome. Join us from the comfort of your home for behind the scenes office tours\, founder insight sessions and interactive meetups. \nBe part of it: 31.08. – 04.09.2020:  https://piratesummit.com/boarding
URL:https://www.vc-magazin.de/event/pirate-summit-2020/
LOCATION:Odonien\, Hornstraße 85\, Köln\, 50823\, Deutschland
ATTACH;FMTTYPE=image/png:https://www.vc-magazin.de/wp-content/uploads/2019/04/PIRATElive_Logo_black_Pirate-LIVE-01-1.png
END:VEVENT
END:VCALENDAR