BEGIN:VCALENDAR
VERSION:2.0
PRODID:-//VC Magazin - ECPv6.15.15//NONSGML v1.0//EN
CALSCALE:GREGORIAN
METHOD:PUBLISH
X-ORIGINAL-URL:https://www.vc-magazin.de
X-WR-CALDESC:Veranstaltungen für VC Magazin
REFRESH-INTERVAL;VALUE=DURATION:PT1H
X-Robots-Tag:noindex
X-PUBLISHED-TTL:PT1H
BEGIN:VTIMEZONE
TZID:Europe/Berlin
BEGIN:DAYLIGHT
TZOFFSETFROM:+0100
TZOFFSETTO:+0200
TZNAME:CEST
DTSTART:20190331T010000
END:DAYLIGHT
BEGIN:STANDARD
TZOFFSETFROM:+0200
TZOFFSETTO:+0100
TZNAME:CET
DTSTART:20191027T010000
END:STANDARD
BEGIN:DAYLIGHT
TZOFFSETFROM:+0100
TZOFFSETTO:+0200
TZNAME:CEST
DTSTART:20200329T010000
END:DAYLIGHT
BEGIN:STANDARD
TZOFFSETFROM:+0200
TZOFFSETTO:+0100
TZNAME:CET
DTSTART:20201025T010000
END:STANDARD
BEGIN:DAYLIGHT
TZOFFSETFROM:+0100
TZOFFSETTO:+0200
TZNAME:CEST
DTSTART:20210328T010000
END:DAYLIGHT
BEGIN:STANDARD
TZOFFSETFROM:+0200
TZOFFSETTO:+0100
TZNAME:CET
DTSTART:20211031T010000
END:STANDARD
END:VTIMEZONE
BEGIN:VEVENT
DTSTART;VALUE=DATE:20200831
DTEND;VALUE=DATE:20200905
DTSTAMP:20260423T133613
CREATED:20190409T152314Z
LAST-MODIFIED:20200817T135531Z
UID:50561-1598832000-1599263999@www.vc-magazin.de
SUMMARY:PIRATE Live - A week full of content
DESCRIPTION:A week dedicated to startup enthusiasts ARRRound the globe. \nStartup Safari Rhineland is taking place in the scope of PIRATE Live\, an all-remote event platform\, uniting the regional and global startup ecosystem to connect\, learn\, get inspired and interact. Followed by high-level keynotes and masterclasses\, as well as discussion tables to ask away and contribute yourself\, you can design your own agenda from a variety of sessions. PIRATE Live is built around like minded individuals no matter who they are or where they live. Everybody with an interest in startups\, entrepreneurship and digital innovation is welcome. Join us from the comfort of your home for behind the scenes office tours\, founder insight sessions and interactive meetups. \nBe part of it: 31.08. – 04.09.2020:  https://piratesummit.com/boarding
URL:https://www.vc-magazin.de/event/pirate-summit-2020/
LOCATION:Odonien\, Hornstraße 85\, Köln\, 50823\, Deutschland
ATTACH;FMTTYPE=image/png:https://www.vc-magazin.de/wp-content/uploads/2019/04/PIRATElive_Logo_black_Pirate-LIVE-01-1.png
END:VEVENT
BEGIN:VEVENT
DTSTART;VALUE=DATE:20200909
DTEND;VALUE=DATE:20200910
DTSTAMP:20260423T133613
CREATED:20191219T100612Z
LAST-MODIFIED:20200615T095602Z
UID:60015-1599609600-1599695999@www.vc-magazin.de
SUMMARY:The Food Chain Investor\, Frankfurt
DESCRIPTION:Sind Sie hungrig? \nVom Start-up bis zur Systemgastronomie – Investmentmöglichkeiten für institutionelle und private Anleger im Nahrungsmittelsektor gibt es viele. \nDoch wie sehen die Wertschöpfungsketten der Zukunft aus?\nWas sind die Erfolgsfaktoren?\nWas zeichnet interessante Investments aus? \nDiesen und weiteren interessanten Fragen widmet sich die Veranstaltungsreihe „The Food Chain Investor“\, die fünfmal jährlich an ausgewählten Orten gastiert. \nWeitere Informationen finden Sie hier
URL:https://www.vc-magazin.de/event/the-food-chain-investor-frankfurt-2/
LOCATION:Frankfurt
ATTACH;FMTTYPE=image/png:https://www.vc-magazin.de/wp-content/uploads/2019/12/thefoodchaininvestor.png
END:VEVENT
BEGIN:VEVENT
DTSTART;TZID=Europe/Berlin:20200909T140000
DTEND;TZID=Europe/Berlin:20200909T200000
DTSTAMP:20260423T133613
CREATED:20200907T100643Z
LAST-MODIFIED:20200907T101141Z
UID:64230-1599660000-1599681600@www.vc-magazin.de
SUMMARY:Signals Founders Academy
DESCRIPTION:Die signals Founders‘ Academy ist eine halbtägige interaktive Konferenz für Gründerinnen und Gründer sowie Startup-Interessierte. Thema der in diesem Jahr als Hybrid-Event stattfindenden Konferenz ist\, welche neuen Trends\, Möglichkeiten und Herausforderungen Startups in der Post-Corona-Welt bevorstehen und wie man es als GründerIn schafft\, seine Company durch die Neue Normalität zu navigieren.
URL:https://www.vc-magazin.de/event/signals-founders-academy/
LOCATION:hybrides Event
ATTACH;FMTTYPE=image/jpeg:https://www.vc-magazin.de/wp-content/uploads/2020/09/signals.jpg
END:VEVENT
BEGIN:VEVENT
DTSTART;VALUE=DATE:20200910
DTEND;VALUE=DATE:20201002
DTSTAMP:20260423T133613
CREATED:20200303T103709Z
LAST-MODIFIED:20200831T102316Z
UID:62881-1599696000-1601596799@www.vc-magazin.de
SUMMARY:Venture Breakfast Online
DESCRIPTION:Die Veranstaltung vermittelt alles\, was man in rechtlicher Hinsicht wissen muss\, um mit Business Angels\, Venture Capital Gesellschaften oder anderen Investoren auf Augenhöhe die Bedingungen eines Investments zu verhandeln. Sie erfahren auch\, wie Sie das Unternehmen auf die jedem Investment vorausgehende Due Diligence vorbereiten\, um das Unternehmen dem potentiellen Investor optimal zu präsentieren. \nDie Veranstaltung richtet sich an Start - ups und junge Unternehmen mit Venture Capital - Ambitionen. \nDer Lehrgang umfasst 7 Module\, die live mit GoToWebinar übertragen werden. Die Teilnahme kostet EUR 25\,- zzgl. MwSt. je Modul. Bei der Buchung aller sieben Module beträgt die Teilnahmegebühr 150\,- zzgl. MwSt. \nGenaueres finden Sie hier.
URL:https://www.vc-magazin.de/event/venture-breakfast-online/
LOCATION:online
ATTACH;FMTTYPE=image/png:https://www.vc-magazin.de/wp-content/uploads/2020/03/PP.png
END:VEVENT
BEGIN:VEVENT
DTSTART;VALUE=DATE:20200914
DTEND;VALUE=DATE:20200915
DTSTAMP:20260423T133613
CREATED:20201218T163900Z
LAST-MODIFIED:20201218T163900Z
UID:65099-1600041600-1600127999@www.vc-magazin.de
SUMMARY:Frankfurter Insolvenz- und M&A-Forum
DESCRIPTION:
URL:https://www.vc-magazin.de/event/frankfurter-insolvenz-und-ma-forum-2/
LOCATION:P+P Training
END:VEVENT
BEGIN:VEVENT
DTSTART;TZID=Europe/Berlin:20200914T170000
DTEND;TZID=Europe/Berlin:20200914T210000
DTSTAMP:20260423T133613
CREATED:20200902T090536Z
LAST-MODIFIED:20200902T090536Z
UID:64170-1600102800-1600117200@www.vc-magazin.de
SUMMARY:M&A Insurance Summer Forum 2020
DESCRIPTION:Mit dem „M&A Insurance Summer Forum“ soll ab sofort ein jährliches Branchentreffen zum Austausch in der Community stattfinden. Neben einem rund 75-minütigen Programm – bestehend aus 8 x 8 Minuten Kurzvorträgen („Elevator Pitch“) und einer anschließenden Diskussion steht das Networking im Vordergrund – mit Drinks\, Snacks und guten Gesprächen. \nAchtung: Aufgrund der aktuellen Lage ist das M&A Insurance Summer Forum 2020 auf 30–40 Teilnehmer beschränkt. Auf Mindestabstandsregeln und Hygienevorschriften wird geachtet. \nWir freuen uns auf den gemeinsamen Abend! \nIhr Ansprechpartner für Fragen:\nLeon Aidelsburger\n089 – 2000 339 28\naidelsburger@goingpublic.de \n  \nAnmeldung: \nDiese Seite benötigt die Unterstützung von Frames durch Ihren Browser. Bitte nutzen Sie einen Browser\, der die Darstellung von Frames unterstützt\, damit das Ticketvorverkaufs-Modul angezeigt werden kann.Probieren Sie die XING Events online Registrierung noch heute aus.  \n  \n 
URL:https://www.vc-magazin.de/event/ma-insurance-summer-forum-2020/
LOCATION:BANKINGCLUB Office\, Mainzer Lanstraße 33\, Frankfurt am Main\, 60329\, Deutschland
END:VEVENT
BEGIN:VEVENT
DTSTART;VALUE=DATE:20200915
DTEND;VALUE=DATE:20200917
DTSTAMP:20260423T133613
CREATED:20200617T112144Z
LAST-MODIFIED:20200806T123238Z
UID:63689-1600128000-1600300799@www.vc-magazin.de
SUMMARY:ICT Spring 2020 - Digital Week
DESCRIPTION:Postponed due to the worldwide Covid-19 pandemic\, ICT Spring will finally be held on September 15th and 16th\, at the very heart of Luxembourg. To comply with the health restrictions and stop the spread of the virus\, the event – from conferences to networking sessions – will be available via video from all around the world. \nICT Spring is a global tech conference hosting an array of international professionals. It offers the participants a unique opportunity to deepen their AI knowledge\, capture the value of the fast-growing FinTech\, drive innovation in the Supply Chain industry\, pierce the secrets of IT Security and explore the impact of Space technologies on terrestrial businesses. Register here!
URL:https://www.vc-magazin.de/event/ict-spring-2020/
LOCATION:online
ATTACH;FMTTYPE=image/jpeg:https://www.vc-magazin.de/wp-content/uploads/2020/06/DigitalWee_ICTSpring_2020_Facebook_LkdIn.jpg
END:VEVENT
BEGIN:VEVENT
DTSTART;TZID=Europe/Berlin:20200916T121500
DTEND;TZID=Europe/Berlin:20200916T140000
DTSTAMP:20260423T133613
CREATED:20191219T100958Z
LAST-MODIFIED:20200703T113403Z
UID:60017-1600258500-1600264800@www.vc-magazin.de
SUMMARY:Venture Capital Club Stammtisch\, München
DESCRIPTION:Der Venture Capital Club ist aus den seit 1983 regelmäßig durchgeführten „Venture-Stammtischen“ in München hervorgegangen. Ziel ist es\, die Finanzierung von Unternehmen mit Venture Capital und Private Equity durch die Verbesserung der Kommunikation zwischen allen am Venture Gedanken Interessierten zu ermöglichen und zu verbessern. \nZur Förderung genau dieser Finanzierungen braucht es eine Plattform\, wo die eigenen Leistungen/Produkte vorgestellt\, mit potentiellen Partnern gesprochen oder auch nur passiv zugehört werden kann. Diese Kommunikationslücke schließt unser Club durch die Bereitstellung eines in Deutschland einzigartigen Forums. \nDie Treffen – „Stammtische“ – finden ca. alle sechs Wochen mittwochs (zur Mittagszeit) in München statt. Dort werden in der Regel ca. 25-minütige Vorträge aus dem Venture Capital-Bereich\, vorwiegend mit praktischem Hintergrund\, gehalten. Zusätzlich bekommen jeweils zwei Start-Up-Teams die Chance zur Präsentation und ersten Kontaktaufnahme mit Investoren aus der PE/VC Szene sowie mit Business Angels. \nWeitere Informationen finden Sie hier
URL:https://www.vc-magazin.de/event/venture-capital-club-stammtisch-muenchen-6/
LOCATION:Kaufmanns-Casino\, Odeonsplatz 6\, München\, 80539
ATTACH;FMTTYPE=image/jpeg:https://www.vc-magazin.de/wp-content/uploads/2019/12/VCC.jpg
END:VEVENT
BEGIN:VEVENT
DTSTART;TZID=Europe/Berlin:20200917T183000
DTEND;TZID=Europe/Berlin:20200917T213000
DTSTAMP:20260423T133613
CREATED:20200911T135147Z
LAST-MODIFIED:20200911T135835Z
UID:64254-1600367400-1600378200@www.vc-magazin.de
SUMMARY:Fintech Germany Award 2020
DESCRIPTION:Eine der führenden Auszeichnungen für FinTech-Unternehmen in Deutschland findet am 17.September 2020\, um 18:30 Uhr als hybrides Event vor Ort in Frankfurt und via Liveübertragung statt. Mehr Infos: http://fintechgermanyaward.de/ 
URL:https://www.vc-magazin.de/event/fintech-germany-award-2020/
LOCATION:hybrides Event\, TATCRAFT NEW HARDWARE STUDIOS Gwinnerstr. 42\, Frankfurt am Main\, 60388
ATTACH;FMTTYPE=image/jpeg:https://www.vc-magazin.de/wp-content/uploads/2020/09/fintech-germany-award.jpg
END:VEVENT
BEGIN:VEVENT
DTSTART;VALUE=DATE:20200924
DTEND;VALUE=DATE:20200925
DTSTAMP:20260423T133613
CREATED:20200622T080038Z
LAST-MODIFIED:20200622T080038Z
UID:63721-1600905600-1600991999@www.vc-magazin.de
SUMMARY:Investforum Pitch-Day 2020
DESCRIPTION:Am 24. September 2020 schreiben innovative Startups die Geschichte fort: Auf dem ersten Investforum Pitch-Day in diesem Jahrzehnt treffen Startups aus unterschiedlichen Branchen mit einem Kapitalbedarf von 50.000 bis 5 Millionen Euro auf zahlreiche Investoren und erhalten die Möglichkeit\, in einem fünfminütigen Pitch den Grundstein für die Zukunft zu legen. Im Jahrtausendturm im Elbauenpark in Magdeburg\, der 6.000 Jahre Wissenschafts- und Technikgeschichte der Menschheit dokumentiert\, dreht sich an diesem Tag alles um disruptive Ideen sowie innovative Produkte und Dienstleistungen. Was war\, was ist und was kann zukünftig sein? Neben Startup-Pitches und Speedmatchings in der Kuppelhalle des Turms\, bietet eine begleitende Startup-Messe genügend Zeit für Gespräche und ein Kennenlernen in ungezwungener Atmosphäre. \nDer Pitch-Day und Covid-19: Aktuell ist das Event im September nicht von behördlichen Corona-Maßnahmen betroffen. Sollte sich die Lage ändern wird es eine digitale Alternative geben. Ob live oder digital – auch in diesem Jahr wird der Pitch-Day Investoren und Startups zusammenbringen.
URL:https://www.vc-magazin.de/event/investforum-pitch-day-2020/
LOCATION:Jahrtausendturm Magdeburg\, Tessenowstraße 7\, Magdeburg\, 39114
ATTACH;FMTTYPE=image/jpeg:https://www.vc-magazin.de/wp-content/uploads/2020/06/pitch-day-2020.jpg
END:VEVENT
BEGIN:VEVENT
DTSTART;TZID=Europe/Berlin:20200924T093000
DTEND;TZID=Europe/Berlin:20200925T235900
DTSTAMP:20260423T133613
CREATED:20200622T150524Z
LAST-MODIFIED:20200622T151504Z
UID:63736-1600939800-1601078340@www.vc-magazin.de
SUMMARY:EBSpreneurship
DESCRIPTION:We host inspiring speeches\, insightful panel discussions\, valuable workshops and creates an environment where partnerships are established and new ideas are spread\, giving the future to pioneers. \n\n\n\n\n\n\n\n\n\n\n\n\n\n\n\n\n\n\n\n\n\nJoin us at our annual startup summit & meet the best experts in the innovation field & learn more about the latest development trends from 24th to 25th of September.
URL:https://www.vc-magazin.de/event/ebspreneurship/
LOCATION:Oestrich-Winkel\, Rheingaustraße 1 \, Oestrich-Winkel\, 65375 Oestrich-Winkel \, Deutschland
END:VEVENT
BEGIN:VEVENT
DTSTART;VALUE=DATE:20200927
DTEND;VALUE=DATE:20201003
DTSTAMP:20260423T133613
CREATED:20200129T145600Z
LAST-MODIFIED:20200918T141658Z
UID:61561-1601164800-1601683199@www.vc-magazin.de
SUMMARY:Bits&Pretzels 2020
DESCRIPTION:BITS & PRETZELS IS GOING INTERNATIONAL & FULL WEEK\n\n\nThe Founders Festival extends to 6 days from September 27th to October 2nd in 2020 with live-sessions from 5 top-hotspots of the tech-industry.
URL:https://www.vc-magazin.de/event/bitspretzels/
LOCATION:online
ATTACH;FMTTYPE=image/png:https://www.vc-magazin.de/wp-content/uploads/2020/01/bits-banner.png
END:VEVENT
BEGIN:VEVENT
DTSTART;VALUE=DATE:20200930
DTEND;VALUE=DATE:20201001
DTSTAMP:20260423T133613
CREATED:20191218T145851Z
LAST-MODIFIED:20200615T095218Z
UID:59967-1601424000-1601510399@www.vc-magazin.de
SUMMARY:The Food Chain Investor\, New York\, USA
DESCRIPTION:Sind Sie hungrig? \nVom Start-up bis zur Systemgastronomie – Investmentmöglichkeiten für institutionelle und private Anleger im Nahrungsmittelsektor gibt es viele. \nDoch wie sehen die Wertschöpfungsketten der Zukunft aus?\nWas sind die Erfolgsfaktoren?\nWas zeichnet interessante Investments aus? \nDiesen und weiteren interessanten Fragen widmet sich die Veranstaltungsreihe „The Food Chain Investor“\, die fünfmal jährlich an ausgewählten Orten gastiert. \nWeitere Informationen finden Sie hier
URL:https://www.vc-magazin.de/event/the-food-chain-investor-new-york-usa/
LOCATION:New York\, USA
ATTACH;FMTTYPE=image/png:https://www.vc-magazin.de/wp-content/uploads/2019/12/thefoodchaininvestor.png
END:VEVENT
END:VCALENDAR