BEGIN:VCALENDAR
VERSION:2.0
PRODID:-//VC Magazin - ECPv6.15.15//NONSGML v1.0//EN
CALSCALE:GREGORIAN
METHOD:PUBLISH
X-WR-CALNAME:VC Magazin
X-ORIGINAL-URL:https://www.vc-magazin.de
X-WR-CALDESC:Veranstaltungen für VC Magazin
REFRESH-INTERVAL;VALUE=DURATION:PT1H
X-Robots-Tag:noindex
X-PUBLISHED-TTL:PT1H
BEGIN:VTIMEZONE
TZID:Europe/Berlin
BEGIN:DAYLIGHT
TZOFFSETFROM:+0100
TZOFFSETTO:+0200
TZNAME:CEST
DTSTART:20190331T010000
END:DAYLIGHT
BEGIN:STANDARD
TZOFFSETFROM:+0200
TZOFFSETTO:+0100
TZNAME:CET
DTSTART:20191027T010000
END:STANDARD
BEGIN:DAYLIGHT
TZOFFSETFROM:+0100
TZOFFSETTO:+0200
TZNAME:CEST
DTSTART:20200329T010000
END:DAYLIGHT
BEGIN:STANDARD
TZOFFSETFROM:+0200
TZOFFSETTO:+0100
TZNAME:CET
DTSTART:20201025T010000
END:STANDARD
BEGIN:DAYLIGHT
TZOFFSETFROM:+0100
TZOFFSETTO:+0200
TZNAME:CEST
DTSTART:20210328T010000
END:DAYLIGHT
BEGIN:STANDARD
TZOFFSETFROM:+0200
TZOFFSETTO:+0100
TZNAME:CET
DTSTART:20211031T010000
END:STANDARD
END:VTIMEZONE
BEGIN:VEVENT
DTSTART;VALUE=DATE:20200910
DTEND;VALUE=DATE:20201002
DTSTAMP:20260423T115246
CREATED:20200303T103709Z
LAST-MODIFIED:20200831T102316Z
UID:62881-1599696000-1601596799@www.vc-magazin.de
SUMMARY:Venture Breakfast Online
DESCRIPTION:Die Veranstaltung vermittelt alles\, was man in rechtlicher Hinsicht wissen muss\, um mit Business Angels\, Venture Capital Gesellschaften oder anderen Investoren auf Augenhöhe die Bedingungen eines Investments zu verhandeln. Sie erfahren auch\, wie Sie das Unternehmen auf die jedem Investment vorausgehende Due Diligence vorbereiten\, um das Unternehmen dem potentiellen Investor optimal zu präsentieren. \nDie Veranstaltung richtet sich an Start - ups und junge Unternehmen mit Venture Capital - Ambitionen. \nDer Lehrgang umfasst 7 Module\, die live mit GoToWebinar übertragen werden. Die Teilnahme kostet EUR 25\,- zzgl. MwSt. je Modul. Bei der Buchung aller sieben Module beträgt die Teilnahmegebühr 150\,- zzgl. MwSt. \nGenaueres finden Sie hier.
URL:https://www.vc-magazin.de/event/venture-breakfast-online/
LOCATION:online
ATTACH;FMTTYPE=image/png:https://www.vc-magazin.de/wp-content/uploads/2020/03/PP.png
END:VEVENT
BEGIN:VEVENT
DTSTART;VALUE=DATE:20200927
DTEND;VALUE=DATE:20201003
DTSTAMP:20260423T115246
CREATED:20200129T145600Z
LAST-MODIFIED:20200918T141658Z
UID:61561-1601164800-1601683199@www.vc-magazin.de
SUMMARY:Bits&Pretzels 2020
DESCRIPTION:BITS & PRETZELS IS GOING INTERNATIONAL & FULL WEEK\n\n\nThe Founders Festival extends to 6 days from September 27th to October 2nd in 2020 with live-sessions from 5 top-hotspots of the tech-industry.
URL:https://www.vc-magazin.de/event/bitspretzels/
LOCATION:online
ATTACH;FMTTYPE=image/png:https://www.vc-magazin.de/wp-content/uploads/2020/01/bits-banner.png
END:VEVENT
BEGIN:VEVENT
DTSTART;TZID=Europe/Berlin:20201001T113000
DTEND;TZID=Europe/Berlin:20201001T200000
DTSTAMP:20260423T115246
CREATED:20200828T124637Z
LAST-MODIFIED:20200828T124637Z
UID:64159-1601551800-1601582400@www.vc-magazin.de
SUMMARY:Hightech Summit Baden-Württemberg 2020
DESCRIPTION:Eine Großveranstaltung mit mehr als 1000 Gästen trotz der Corona-Pandemie? Ein hybrides Event an zahlreichen Locations und der Einsatz professioneller Matching- und Streamingtools machen es möglich! \nAm 01. Oktober 2020 findet der größte Technologiekongress in Baden-Württemberg statt – der Hightech Summit Baden-Württemberg! Die Veranstaltung wird von der Wirtschaftsinitiative Baden-Württemberg: Connected e.V. in Partnerschaft mit der Landeskampagne Startup-BW ausgeschrieben\, die vom Ministerium für Wirtschaft\, Arbeit und Wohnungsbau Baden-Württemberg getragen wird. \nVor Ort treffen Start-ups auf Investoren\, Corporates bzw. Entscheider\, Innovationsmanager und Business Development Manager. Die Kombination aus Lernen\, Vernetzen und Austauschen bietet eine einmalige Möglichkeit vom großen Netzwerk bwcons zu profitieren\, Ihr Start-up zu präsentieren und mit Investoren in Kontakt zu treten. Eine Teilnahme am Event ist vor Ort an einer der zahlreichen Locations in ganz Baden-Württemberg oder online möglich. \nWeiter Informationen hier!
URL:https://www.vc-magazin.de/event/hightech-summit-baden-wuerttemberg-2020/
ATTACH;FMTTYPE=image/jpeg:https://www.vc-magazin.de/wp-content/uploads/2020/08/200715_Header_HightechSummit_Unterstuetzt-durch.jpg
END:VEVENT
BEGIN:VEVENT
DTSTART;VALUE=DATE:20201008
DTEND;VALUE=DATE:20201009
DTSTAMP:20260423T115246
CREATED:20191219T121553Z
LAST-MODIFIED:20200616T101212Z
UID:60025-1602115200-1602201599@www.vc-magazin.de
SUMMARY:AVCO Annual Conference 2020\, Wien\, Österreich
DESCRIPTION:„Managing the Crisis: The Role of Private Capital in Financing Innovation and Growth“ \nAfter the first Corona shock we are happy to announce that our conference will take place as scheduled on October 8th. We decided\, however\, to turn it into an online event. \nA digital conference bears many advantages for attendees\, sponsors but also for us as organisers. We hope to reach attendees in the whole DACH and CEE region and to discuss relevant topics of the industry with high-notch speakers. We are working on user-friendly networking opportunities\, as well.
URL:https://www.vc-magazin.de/event/avco-annual-conference-2020-wien-oesterreich/
LOCATION:online
ATTACH;FMTTYPE=image/png:https://www.vc-magazin.de/wp-content/uploads/2019/12/indexavco.png
END:VEVENT
BEGIN:VEVENT
DTSTART;TZID=Europe/Berlin:20201008T080000
DTEND;TZID=Europe/Berlin:20201008T130000
DTSTAMP:20260423T115246
CREATED:20191219T122820Z
LAST-MODIFIED:20200616T103038Z
UID:60032-1602144000-1602162000@www.vc-magazin.de
SUMMARY:Biotech Presse Lounge\, Martinsried
DESCRIPTION:Die Biotech Presse-Lounge ist am 15. April 2016 ins Leben gerufen worden. Auf dem Networking-Event haben Spitzenforscher und Multiplikatoren der Biotech-Branche die Möglichkeit\, sich in ungezwungener Atmosphäre auszutauschen. Diese Veranstaltung findet drei Mal im Jahr im Faculty Club G2B (Gateway to Biotech) statt\, der sich im Herzen des Campus Martinsried auf dem Gelände des Innovations- und Gründerzentrum Biotechnologie befindet. \nGeschäftsführer\, Vorstände sowie Presseverantwortliche der Biotech-\, Pharma- und Venture Capital- Unternehmen sind zu diesem Event eingeladen. Außerdem sind Journalisten der Tages-\, Wirtschafts-\, Biotech- und Pharma-Medien Gäste der Veranstaltung. \nAuf jeder Veranstaltung werden drei Impulsvorträge zu aktuellen Themen von Multiplikatoren der Branche gehalten. Die Gäste haben die Möglichkeit\, nach den Vorträgen das Thema mit dem Referenten zu vertiefen. So hat sich die Presse-Lounge in den letzten Jahren als Netzwerktreffen der Biotechbranche etabliert. \nWeitere Informationen finden Sie hier
URL:https://www.vc-magazin.de/event/biotech-presse-lounge-martinsried-3/
LOCATION:Im Faculty Club G2B (Gateway to Biotech) im Innovations- und Gründerzentrum Biotechnologie\, Am Klopferspitz 21\, Planegg/Martinsried\, 82152
ATTACH;FMTTYPE=image/png:https://www.vc-magazin.de/wp-content/uploads/2019/12/logo-izb-biotechnologie-bayern-muenchen.png
END:VEVENT
BEGIN:VEVENT
DTSTART;TZID=Europe/Berlin:20201009T100000
DTEND;TZID=Europe/Berlin:20201010T180000
DTSTAMP:20260423T115246
CREATED:20200129T151622Z
LAST-MODIFIED:20201005T070807Z
UID:61570-1602237600-1602352800@www.vc-magazin.de
SUMMARY:Die Deutschen Gründer- und Unternehmertage 2020
DESCRIPTION:Die Deutschen Gründer- und Unternehmertage (deGUT) finden am 9. und 10. Oktober 2020 zum 36. Mal statt. Von A wie Analyse bis Z wie Zielgruppe: Auf der diesjährigen DeGUT gibt es wieder umfassende und praxisnahe Seminare\, Workshops und Foren im Messebereich zu allen Themen rund um die Selbstständigkeit. \nGenauere Informationen erhalten Sie hier.
URL:https://www.vc-magazin.de/event/die-deutschen-gruender-und-unternehmertage-2020/
LOCATION:Arena Berlin\, Eichenstraße 4\, Berlin\, 12435\, Deutschland
ATTACH;FMTTYPE=image/png:https://www.vc-magazin.de/wp-content/uploads/2020/01/degut_logo_einzeilig_560x196_1.png
END:VEVENT
BEGIN:VEVENT
DTSTART;VALUE=DATE:20201013
DTEND;VALUE=DATE:20201015
DTSTAMP:20260423T115246
CREATED:20191119T112010Z
LAST-MODIFIED:20191119T112010Z
UID:58737-1602547200-1602719999@www.vc-magazin.de
SUMMARY:HIGHTECH VENTURE DAYS
DESCRIPTION:Bereits zum 8. Mal bringt die HighTech Startbahn ausgewählte europäische Hochtechnologie-Unternehmen und internationale Kapitalgeber zu diesem auf Hochtechnologie spezialisierten Investorenkongress in Dresden zusammen. In jedem Jahr präsentieren sich 40 ausgewählte kapitalsuchende Hightech-Start-ups und Wachstumsunternehmen aus sechs Technologiefeldern (Maschinen- & Anlagenbau\, Mikro- & Nanotechnologie\, IKT\, Umwelt-/Energietechnik\, Materialwissenschaften\, Life Sciences\, und Transport & Logistik) ca. 160 nationalen und internationalen Investoren wie Business Angels\, Venture Capitalists\, Corporate VCs\, und dem „investierenden Mittelstand“. In hochqualitativen Pitches sowie einer Venture Exhibition mit anschließender Q/A lernen die Kapitalgeber die Unternehmen in familiärer und exklusiver Atmosphäre kennen. \nWeitere Informationen finden Sie hier
URL:https://www.vc-magazin.de/event/hightech-venture-days-2/
LOCATION:HighTech Startbahn Netzwerk e.V.\, Würzburger Straße 46\, Dresden\, 01187
ATTACH;FMTTYPE=image/png:https://www.vc-magazin.de/wp-content/uploads/2019/11/HTVD_Logo_gold.png
END:VEVENT
BEGIN:VEVENT
DTSTART;VALUE=DATE:20201015
DTEND;VALUE=DATE:20201018
DTSTAMP:20260423T115246
CREATED:20191219T124057Z
LAST-MODIFIED:20191219T124057Z
UID:60034-1602720000-1602979199@www.vc-magazin.de
SUMMARY:CPEA-Programm 2020/2021\, TUM/BVK\, Modul 1\, München
DESCRIPTION:Im Oktober 2020 startet der 8. Studienjahrgang des Weiterbildungsprogramms Certified Private Equity Analyst – CPEA® von BVK und TU München. Herzlich laden wir Weiterbildungswillige ein\, am etablierten CPEA-Programm 2020/21 teilzunehmen und sich anzumelden. \nDie zertifizierende CPEA-Maßnahme umfasst insgesamt fünf Module und wird in Kooperation mit dem BVK von der TUM – School of Management am Münchener Standort der Universität angeboten. Neben Investment Professionals der gesamten Beteiligungsbranche nehmen mittlerweile auch vermehrt Vertreter von Erstinvestoren\, Family Offices und Corporates an dem Programm teil. Die Ausbildung richtet sich somit nicht nur an Beteiligungs- und Investmentmanager\, sondern an alle\, die in der Beteiligungs- bzw. Investmentbranche sowie im M&A-Sektor tätig sind. \nDie Ausbildungsgruppe besteht aus maximal 25 Teilnehmern und selbstverständlich wird auf die unterschiedlichen Ausbildungsbedürfnisse eingegangen (Teilung der Gruppe in einen Venture Capital- und einen Buy-Out-Track). Für den Erwerb des Zertifikates ist die Teilnahme an den Präsenzmodulen (15 Präsenztage; Unterricht stets donnerstags bis samstags) obligatorisch und es sind Prüfungen vorgesehen (Klausur und Präsentation von Beispielfällen). Die Teilnehmer schließen mit dem Titel „Certified Private Equity Analyst“ ab. \nWeitere Informationen finden Sie hier \n 
URL:https://www.vc-magazin.de/event/cpea-programm-2020-2021-tum-bvk-modul-1-muenchen/
LOCATION:Residenz am Deutschen Theater\, Reinhardtstraße 29b\, Berlin\, 10117
ATTACH;FMTTYPE=image/png:https://www.vc-magazin.de/wp-content/uploads/2019/12/images.png
END:VEVENT
BEGIN:VEVENT
DTSTART;VALUE=DATE:20201020
DTEND;VALUE=DATE:20201023
DTSTAMP:20260423T115246
CREATED:20200211T085734Z
LAST-MODIFIED:20200914T142834Z
UID:62123-1603152000-1603411199@www.vc-magazin.de
SUMMARY:0100 Conferences - Virtual UK & Ireland
DESCRIPTION:0100 Virtual UK & Ireland \nA virtual conference for Private Equity & Venture Capital professionals with more than 500 attendees and 3 days of networking. LPs & GPs can apply for a complimentary ticket. Visit website
URL:https://www.vc-magazin.de/event/0100-conferences-virtual-uk-ireland/
LOCATION:online
ATTACH;FMTTYPE=image/jpeg:https://www.vc-magazin.de/wp-content/uploads/2020/02/300x250-calendar-logo_UK-Ireland.jpg
END:VEVENT
BEGIN:VEVENT
DTSTART;TZID=Europe/Berlin:20201021T140000
DTEND;TZID=Europe/Berlin:20201021T170000
DTSTAMP:20260423T115246
CREATED:20200204T145840Z
LAST-MODIFIED:20201014T134458Z
UID:61869-1603288800-1603299600@www.vc-magazin.de
SUMMARY:Finance Day 2020
DESCRIPTION:Das digitale Forum der Life Sciences-Branche mit dem Thema „Corona als Turbo für die Biotechnologie“ live aus dem Haus der bayrischen Wirtschaft. Mehr Infos hier.
URL:https://www.vc-magazin.de/event/finance-day-2020/
LOCATION:online\, Deutschland
ATTACH;FMTTYPE=image/png:https://www.vc-magazin.de/wp-content/uploads/2020/02/finance-day.png
END:VEVENT
BEGIN:VEVENT
DTSTART;TZID=Europe/Berlin:20201021T140000
DTEND;TZID=Europe/Berlin:20201021T210000
DTSTAMP:20260423T115246
CREATED:20200928T105014Z
LAST-MODIFIED:20200928T115359Z
UID:64337-1603288800-1603314000@www.vc-magazin.de
SUMMARY:Pitch Club #21 Social & MedTech Online-Edition
DESCRIPTION:Der Pitch Club veranstaltet seit mittlerweile sechs Jahren die “Pitch Club Edition”\, bei der vorselektierte Startups („early-stage“ mit „proof of concept“) ihre Geschäftsmodelle vor erfahrenen Investoren pitchen können. Kurz und Knapp zum Ablauf: 10 Startups\, 30-40 Investoren\, 6 Minuten Zeit für jedes Startup alles beim Pitch zu geben. Nach den Pitches geht es in 1-on-1 Gespräche. \nAm Mittwoch\, den 21. Oktober  2020\, findet die kommende Edition „Pitch Club #21 Social & MedTech Online-Edition “ statt. Spannende Startups aus den Bereichen Social\, Environmental und Governmental\, sowie aus dem MedTech Bereich präsentieren diesmal ihre Geschäftsideen vor erfahrenen Investoren.
URL:https://www.vc-magazin.de/event/pitch-club-21/
LOCATION:Online\, Deutschland
ATTACH;FMTTYPE=image/png:https://www.vc-magazin.de/wp-content/uploads/2020/09/Pitch-Club-21_Online-Edition.png
END:VEVENT
BEGIN:VEVENT
DTSTART;TZID=Europe/Berlin:20201021T170000
DTEND;TZID=Europe/Berlin:20201021T190000
DTSTAMP:20260423T115246
CREATED:20200904T125058Z
LAST-MODIFIED:20200904T125058Z
UID:64213-1603299600-1603306800@www.vc-magazin.de
SUMMARY:Austrian Business Angel Day 2020
DESCRIPTION:Der Austrian Business Angel Day richtig sich primär an Wagniskapital-Investoren und kürt den Business Angel of the year. Markus Ertler\, Johann Hansmann\, Dominik Greiner\, Luca Polagnoli sprechen zuvor noch in einer Panel Diskussion über „Startup Investments in unsicheren Zeiten“. \nZur Registrierung
URL:https://www.vc-magazin.de/event/austrian-business-angel-day-2020/
LOCATION:online
END:VEVENT
BEGIN:VEVENT
DTSTART;TZID=Europe/Berlin:20201026T080000
DTEND;TZID=Europe/Berlin:20201028T170000
DTSTAMP:20260423T115246
CREATED:20191219T130422Z
LAST-MODIFIED:20200109T112741Z
UID:60041-1603699200-1603904400@www.vc-magazin.de
SUMMARY:Bio Europe München 2020
DESCRIPTION:The 26th annual BIO-Europe® event is the largest biotechnology partnering conference held in Europe. Over 4\,400 global decision makers from biotechnology\, pharma and finance annually attend BIO-Europe to identify new business opportunities and develop strategic relationships. Business development executives and dealmakers consider BIO-Europe a must-attend event and an effective business strategy enabling them to meet and present to numerous potential partners. BIO-Europe features the industry’s most advanced partnering system enabling delegates from all parts of the biotechnology value chain to quickly identify\, engage and enter into strategic relationships that drive their business successfully forward. \nBIO-Europe’s world-class workshops\, panels and active exhibition along with thousands of prescheduled one-to-one meetings make this event an unrivaled forum for companies across the biotech value chain to meet and do business. \nFor further information click here
URL:https://www.vc-magazin.de/event/bio-europe-muenchen-2020/
LOCATION:Messe München\, Messegelände\, München\, 81823\, Deutschland
ATTACH;FMTTYPE=image/png:https://www.vc-magazin.de/wp-content/uploads/2019/12/BEU19-LOGOS-core-d43fc30021dfb1a6b6e8c043a2e932a0.png
ORGANIZER;CN="EBD Group GmbH":MAILTO:conferences@ebdgroup.com
END:VEVENT
BEGIN:VEVENT
DTSTART;VALUE=DATE:20201028
DTEND;VALUE=DATE:20201029
DTSTAMP:20260423T115246
CREATED:20191218T140552Z
LAST-MODIFIED:20200615T095339Z
UID:59943-1603843200-1603929599@www.vc-magazin.de
SUMMARY:The Food Chain Investor\, München
DESCRIPTION:Sind Sie hungrig? \nVom Start-up bis zur Systemgastronomie – Investmentmöglichkeiten für institutionelle und private Anleger im Nahrungsmittelsektor gibt es viele. \nDoch wie sehen die Wertschöpfungsketten der Zukunft aus?\nWas sind die Erfolgsfaktoren?\nWas zeichnet interessante Investments aus? \nDiesen und weiteren interessanten Fragen widmet sich die Veranstaltungsreihe „The Food Chain Investor“\, die fünfmal jährlich an ausgewählten Orten gastiert. \nWeitere Informationen finden Sie hier
URL:https://www.vc-magazin.de/event/the-food-chain-investor-muenchen-2/
LOCATION:München
ATTACH;FMTTYPE=image/png:https://www.vc-magazin.de/wp-content/uploads/2019/12/thefoodchaininvestor.png
END:VEVENT
BEGIN:VEVENT
DTSTART;VALUE=DATE:20201029
DTEND;VALUE=DATE:20201030
DTSTAMP:20260423T115246
CREATED:20200626T081600Z
LAST-MODIFIED:20200811T074447Z
UID:63760-1603929600-1604015999@www.vc-magazin.de
SUMMARY:VC Campus Ilmenau 2020
DESCRIPTION:Grenzen überwinden. Das ist das Prinzip des VC CAMPUS 2020. Erstmals wagt sich der VC CAMPUS aus der analogen Welt hinein in die Digitale. Am 29. Oktober 2020 treffen gründungsaffine Studierende und Alumni – insbesondere aber nicht ausschließlich – der Technischen Universität Ilmenau digital aufeinander. Dabei sollen die seit 10 Jahren etablierte Mischung aus Entrepreneurship\, Wissensvermittlung\, Networking und Spaß am Gründen nicht zu kurz kommen und aus den gesammelten Erfahrungen neue Ideen erblühen. Euch erwartet ein echtes Thüringer Gründerfrühstück aus eurem heimischen Wohnzimmer\, Workshops der etwas anderen Art und interessante Mentor*innen\, die mit euch gemeinsam ein Ziel haben: Die Welt ein Stück nachhaltiger gestalten. \n\n 
URL:https://www.vc-magazin.de/event/vc-campus-ilmenau-2020/
LOCATION:online
ATTACH;FMTTYPE=image/jpeg:https://www.vc-magazin.de/wp-content/uploads/2020/06/Logo-VC-campus-1.jpg
END:VEVENT
BEGIN:VEVENT
DTSTART;TZID=Europe/Berlin:20201029T090000
DTEND;TZID=Europe/Berlin:20201029T103000
DTSTAMP:20260423T115246
CREATED:20201019T131313Z
LAST-MODIFIED:20201019T135900Z
UID:64582-1603962000-1603967400@www.vc-magazin.de
SUMMARY:ONLINE SEMINAR: Auswirkungen von Corona auf M&A-Transaktionen
DESCRIPTION:Spiegelbildlich zu den Auswirkungen der Corona-Krise auf die Geschäftstätigkeit der Unternehmen wirkt sich die andauernde Pandemielage auch auf den Bereich M&A aus: Nachdem unmittelbar nach Eintritt der Krise zunächst ein Rückgang der M&A Aktivitäten zu beobachten war\, kehrt der M&A-Markt langsam wieder in eine „neue Normalität“ zurück. Dabei stellt sich regelmäßig die Frage\, wie die Beteiligten an einer Transaktion mit den Herausforderungen dieser „neuen Normalität“ umgehen können. \nIn unserem Online Seminar geben wir Ihnen einen komprimierten Überblick: \n\nWelche Besonderheiten sind bei der Vorbereitung von Transaktionen\, insbesondere bei der Due Diligence und bei der Verhandlung von Unternehmenskaufverträgen in der aktuellen Situation zu beachten?\nWelche Werkzeuge stehen für eine adäquate Verteilung von Risiken zur Verfügung?\n\nIm Rahmen des Seminars werden Sie zudem die Möglichkeit haben\, die aktuellen Entwicklungen mit den Referenten zu diskutieren. \nZielgruppe\nUnternehmensinhaber\, Investoren\, Mitarbeiter in M&A- bzw. Corporate-Development-Abteilungen sowie Investmentberater. \nTeilnehmerinfos\nUm verbindliche Anmeldung bis spätestens drei Tage vor dem Termin wird gebeten. Die Teilnahme ist kostenlos. \nMehr Infos im Flyer
URL:https://www.vc-magazin.de/event/online-seminar-auswirkungen-von-corona-auf-ma-transaktionen/
LOCATION:online
ATTACH;FMTTYPE=image/jpeg:https://www.vc-magazin.de/wp-content/uploads/2020/10/LUTZ_ABEL_Logo_4c_RGB_WEB_300dpi.jpg
END:VEVENT
BEGIN:VEVENT
DTSTART;TZID=Europe/Berlin:20201029T143000
DTEND;TZID=Europe/Berlin:20201029T200000
DTSTAMP:20260423T115246
CREATED:20201020T145643Z
LAST-MODIFIED:20201020T151500Z
UID:64591-1603981800-1604001600@www.vc-magazin.de
SUMMARY:VentureCon B2B
DESCRIPTION:Auf der Investorenkonferenz pitchen 15 vorselektierte B2B-Startups ihre innovativen Geschäftsmodelle und zukunftsweisenden Technologien aus den Bereichen ConstructionTech & Sustainability\, Software & AI\, Cleantech\, Industrie 4.0 und Quantentechnologie. Das Event findet hybrid mit einer begrenzten Gästeanzahl vor Ort statt und wird parallel online übertragen – inklusive Fragerunden und 1:1-Meetings in digitaler Form. Interessierte institutionelle und private Investoren können sich über diesen Link für die Online-Ausgabe anmelden: https://hopin.to/events/online-venturecon-b2b-2020 \nÜber die Online-Plattform können Teilnehmern sich mit den Startups auch direkt austauschen und detaillierte Fragen stellen. In 1:1-Meetings können Kapitalgeber darüber hinaus mit allen Teilnehmern der Investorenkonferenz in den Austausch treten\, um sich nicht nur mit Startups\, sondern auch mit anderen Investoren zu vernetzen.
URL:https://www.vc-magazin.de/event/venturecon-b2b/
LOCATION:online
END:VEVENT
END:VCALENDAR