BEGIN:VCALENDAR
VERSION:2.0
PRODID:-//VC Magazin - ECPv6.15.15//NONSGML v1.0//EN
CALSCALE:GREGORIAN
METHOD:PUBLISH
X-WR-CALNAME:VC Magazin
X-ORIGINAL-URL:https://www.vc-magazin.de
X-WR-CALDESC:Veranstaltungen für VC Magazin
REFRESH-INTERVAL;VALUE=DURATION:PT1H
X-Robots-Tag:noindex
X-PUBLISHED-TTL:PT1H
BEGIN:VTIMEZONE
TZID:Europe/Berlin
BEGIN:DAYLIGHT
TZOFFSETFROM:+0100
TZOFFSETTO:+0200
TZNAME:CEST
DTSTART:20190331T010000
END:DAYLIGHT
BEGIN:STANDARD
TZOFFSETFROM:+0200
TZOFFSETTO:+0100
TZNAME:CET
DTSTART:20191027T010000
END:STANDARD
BEGIN:DAYLIGHT
TZOFFSETFROM:+0100
TZOFFSETTO:+0200
TZNAME:CEST
DTSTART:20200329T010000
END:DAYLIGHT
BEGIN:STANDARD
TZOFFSETFROM:+0200
TZOFFSETTO:+0100
TZNAME:CET
DTSTART:20201025T010000
END:STANDARD
BEGIN:DAYLIGHT
TZOFFSETFROM:+0100
TZOFFSETTO:+0200
TZNAME:CEST
DTSTART:20210328T010000
END:DAYLIGHT
BEGIN:STANDARD
TZOFFSETFROM:+0200
TZOFFSETTO:+0100
TZNAME:CET
DTSTART:20211031T010000
END:STANDARD
END:VTIMEZONE
BEGIN:VEVENT
DTSTART;VALUE=DATE:20201201
DTEND;VALUE=DATE:20201203
DTSTAMP:20260423T083307
CREATED:20201023T073138Z
LAST-MODIFIED:20201023T073625Z
UID:64596-1606780800-1606953599@www.vc-magazin.de
SUMMARY:2b AHEAD Zukunftskongress
DESCRIPTION:Erleben Sie schon heute die Technologien\, die in den kommenden Jahren die Arbeitswelt von Grund auf verändern und diskutieren Sie auf Eye-Level\, intensiv\, tiefgründig und inspirierend über die Zukunft mit Persönlichkeiten\, deren Denk- und Handlungsweise neue Märkte erschlossen haben. Erfahren Sie\, wie sich unsere Geschäftsmodelle bis zum Jahr 2030 wandeln\, und welche Chancen sich für Visionäre ergeben. \nErwarten Sie den innovativsten Zukunftskongress Deutschlands mit kreativen Diskussionsformen\, Elevator Pitches\, einer Awardverleihung\, vielfältigen Netzwerkmöglichkeiten und zahlreichen Visionen! \nNehmen Sie schon heute an Sven Gábor Jánszkys kostenlosen Webinar zum Zukunftskongress teil und erfahren Sie direkt von ihm\, wie sich Ihre Technologien\, Wertschöpfungsketten\, Kundenbedürfnisse und Geschäftsmodelle bis zum Jahr 2030 wandeln\, und welche Chancen sich für Innovatoren ergeben. Hier geht es zur Anmeldung.  \nWeitere interessante Trendanalysen zum kostenlosen Download. \n 
URL:https://www.vc-magazin.de/event/2b-ahead-zukunftskongress/
LOCATION:BMW Welt München
ATTACH;FMTTYPE=image/jpeg:https://www.vc-magazin.de/wp-content/uploads/2020/10/2b.AHEAD_.jpg
END:VEVENT
BEGIN:VEVENT
DTSTART;TZID=Europe/Berlin:20201202T090000
DTEND;TZID=Europe/Berlin:20201202T164500
DTSTAMP:20260423T083307
CREATED:20191219T091018Z
LAST-MODIFIED:20200615T105420Z
UID:59995-1606899600-1606927500@www.vc-magazin.de
SUMMARY:Private Equity Conference\, Zürich\, Schweiz
DESCRIPTION:The 10th Anniversary of the Swiss Private Equity Conference is a one-day event taking place at the Park Hyatt\, Zurich on the 2nd of December 2020. The conference offers inspirational keynotes\, enriching panel discussions\, and – most importantly – valuable networking opportunities. \n450+ attendees consisting of the decision-makers from the top PE firms in the market will attend the conference. Firms like Stonehage Fleming\, Schroder Adveq\, Banque Heritage and Adams Street Partners will be participating\, ready to network. \nTo offer high value to all its attendants\, the conference offers speed networking and a dedicated matchmaking programme\, which consists of 1-on-1 meetings that are pre-qualified based on your profile and interest. \nRead more about the conference and register on https://pe-insights.com/private-equity-conferences/switzerland/.
URL:https://www.vc-magazin.de/event/private-equity-conference-zuerich-schweiz/
LOCATION:Park Hyatt Hotel Zürich\, Beethovenstrasse 21\, Zürich\, 8002\, Schweiz
ATTACH;FMTTYPE=image/jpeg:https://www.vc-magazin.de/wp-content/uploads/2019/12/indexseca.jpg
END:VEVENT
BEGIN:VEVENT
DTSTART;TZID=Europe/Berlin:20201202T140000
DTEND;TZID=Europe/Berlin:20201202T203000
DTSTAMP:20260423T083307
CREATED:20201104T124330Z
LAST-MODIFIED:20201104T124330Z
UID:64695-1606917600-1606941000@www.vc-magazin.de
SUMMARY:Pitch Club #22 “Hessen Ideen”
DESCRIPTION:Am Mittwoch\, den 02. Dezember  2020\, findet die kommende Pitch Club #22 “Hessen Ideen” Online-Edition statt. Bei dieser Edition pitchen die Finalisten des “Hessen Ideen” Wettbewerbs ihre Geschäftsmodelle vor erfahrenen Investoren. \nDabei wird den „pitchenden“ Startups alles abverlangt: Die virtuelle Bühne wird zum „Ring“\, in dem sich Gründer & Gründerinnen gegenüber den kritischen Fragen der Investoren “verteidigen” müssen. \nDer Pitch Club hat sich inzwischen mit seinem einzigartigen Format zu Rhein-Mains erfolgreichstem Pitch Event etabliert. Die Veranstalter setzen auf Exklusivität und stoßen damit auf großes Interesse bei innovativen und vielversprechenden Startups\, Top-Investoren sowie Sponsoren und Partnern. \nFür Investoren ist eine Anmeldung unter https://www.thepitchclub.com/de/investoren/ möglich.
URL:https://www.vc-magazin.de/event/pitch-club-22-hessen-ideen/
LOCATION:online
END:VEVENT
END:VCALENDAR