BEGIN:VCALENDAR
VERSION:2.0
PRODID:-//VC Magazin - ECPv6.15.15//NONSGML v1.0//EN
CALSCALE:GREGORIAN
METHOD:PUBLISH
X-WR-CALNAME:VC Magazin
X-ORIGINAL-URL:https://www.vc-magazin.de
X-WR-CALDESC:Veranstaltungen für VC Magazin
REFRESH-INTERVAL;VALUE=DURATION:PT1H
X-Robots-Tag:noindex
X-PUBLISHED-TTL:PT1H
BEGIN:VTIMEZONE
TZID:Europe/Berlin
BEGIN:DAYLIGHT
TZOFFSETFROM:+0100
TZOFFSETTO:+0200
TZNAME:CEST
DTSTART:20200329T010000
END:DAYLIGHT
BEGIN:STANDARD
TZOFFSETFROM:+0200
TZOFFSETTO:+0100
TZNAME:CET
DTSTART:20201025T010000
END:STANDARD
BEGIN:DAYLIGHT
TZOFFSETFROM:+0100
TZOFFSETTO:+0200
TZNAME:CEST
DTSTART:20210328T010000
END:DAYLIGHT
BEGIN:STANDARD
TZOFFSETFROM:+0200
TZOFFSETTO:+0100
TZNAME:CET
DTSTART:20211031T010000
END:STANDARD
BEGIN:DAYLIGHT
TZOFFSETFROM:+0100
TZOFFSETTO:+0200
TZNAME:CEST
DTSTART:20220327T010000
END:DAYLIGHT
BEGIN:STANDARD
TZOFFSETFROM:+0200
TZOFFSETTO:+0100
TZNAME:CET
DTSTART:20221030T010000
END:STANDARD
END:VTIMEZONE
BEGIN:VEVENT
DTSTART;VALUE=DATE:20210126
DTEND;VALUE=DATE:20210127
DTSTAMP:20260423T070236
CREATED:20201218T133435Z
LAST-MODIFIED:20210111T114004Z
UID:65064-1611619200-1611705599@www.vc-magazin.de
SUMMARY:Swiss Venture Capital Report\, Zürich
DESCRIPTION:
URL:https://www.vc-magazin.de/event/swiss-venture-capital-report-zuerich/
LOCATION:Zürich
END:VEVENT
BEGIN:VEVENT
DTSTART;TZID=Europe/Berlin:20210126T100000
DTEND;TZID=Europe/Berlin:20210126T180000
DTSTAMP:20260423T070236
CREATED:20201218T132405Z
LAST-MODIFIED:20210119T095237Z
UID:65063-1611655200-1611684000@www.vc-magazin.de
SUMMARY:M&A Konferenz 2021
DESCRIPTION:Seien Sie am 26. Januar 2021 bei der M&A-Konferenz in Düsseldorf dabei! Themen sind unter anderem Hot M&A Legal Topics\, Transaction Compliance und Strukturierung einer Managementbeteiligung. Hören Sie spannende Vorträge von Dr. Christian Mayer\, Thyssenkrupp Steel Europe AG\, Prof. Dr. Jens M. Schmittmann\, Betriebsberater\, Dr. Franz-Josef Schöne\, Hogan Lovells Int. LLP\, Jens Uhlendorf\, Hogan Lovells Int. LLP und vielen mehr. \nWeitere Informationen sowie die Möglichkeit zur Anmeldung finden Sie hier.
URL:https://www.vc-magazin.de/event/ma-konferenz-2021/
LOCATION:Düsseldorf
END:VEVENT
BEGIN:VEVENT
DTSTART;TZID=Europe/Berlin:20210127T173000
DTEND;TZID=Europe/Berlin:20210127T210000
DTSTAMP:20260423T070236
CREATED:20201218T134339Z
LAST-MODIFIED:20210111T115452Z
UID:65066-1611768600-1611781200@www.vc-magazin.de
SUMMARY:Münchner Unternehmenssteuerforum 2021
DESCRIPTION:Das Münchner Unternehmenssteuerforum widmet sich der Förderung des Steuerrechts\, insbesondere durch steuerwissenschaftliche Fachdiskussionen zwischen Repräsentanten der Richterschaft\, der Finanzverwaltung und der Wissenschaft sowie Experten aus der Wirtschaft und der steuer- und rechtsberatenden Berufe. \nDas 32. Münchner Unternehmenssteuerforum widmet sich dem Thema „Verlustnutzung“ und findet unter der Leitung von Herrn Prof. Dr. Klaus-Dieter Drüen (LMU München) statt. \nZu diesem Zweck lädt der Verein mehrmals jährlich zu Diskussionsrunden über bestimmte Problemstellungen auf dem Gebiet der Unternehmensbesteuerung ein. Nach ein bis zwei einführenden Referaten tauschen Vertreter aus Richterschaft\, Finanzverwaltung und Wirtschaft ihre unterschiedlichen Sichtweisen zu den referierten Themen aus. In dieser Podiumsdiskussion sind auch Beiträge aus dem Auditorium ausdrücklich erwünscht. \nPOELLATH als Fördermitglied und POELLATH-Partner Dr. Stephan Viskorf als Geschäftsführer sind maßgeblich an der Organisation der regelmäßigen Veranstaltungen beteiligt.
URL:https://www.vc-magazin.de/event/muenchner-unternehmenssteuerforum-2021/
LOCATION:online\, Deutschland
END:VEVENT
END:VCALENDAR