BEGIN:VCALENDAR
VERSION:2.0
PRODID:-//VC Magazin - ECPv6.15.15//NONSGML v1.0//EN
CALSCALE:GREGORIAN
METHOD:PUBLISH
X-WR-CALNAME:VC Magazin
X-ORIGINAL-URL:https://www.vc-magazin.de
X-WR-CALDESC:Veranstaltungen für VC Magazin
REFRESH-INTERVAL;VALUE=DURATION:PT1H
X-Robots-Tag:noindex
X-PUBLISHED-TTL:PT1H
BEGIN:VTIMEZONE
TZID:Europe/Berlin
BEGIN:DAYLIGHT
TZOFFSETFROM:+0100
TZOFFSETTO:+0200
TZNAME:CEST
DTSTART:20200329T010000
END:DAYLIGHT
BEGIN:STANDARD
TZOFFSETFROM:+0200
TZOFFSETTO:+0100
TZNAME:CET
DTSTART:20201025T010000
END:STANDARD
BEGIN:DAYLIGHT
TZOFFSETFROM:+0100
TZOFFSETTO:+0200
TZNAME:CEST
DTSTART:20210328T010000
END:DAYLIGHT
BEGIN:STANDARD
TZOFFSETFROM:+0200
TZOFFSETTO:+0100
TZNAME:CET
DTSTART:20211031T010000
END:STANDARD
BEGIN:DAYLIGHT
TZOFFSETFROM:+0100
TZOFFSETTO:+0200
TZNAME:CEST
DTSTART:20220327T010000
END:DAYLIGHT
BEGIN:STANDARD
TZOFFSETFROM:+0200
TZOFFSETTO:+0100
TZNAME:CET
DTSTART:20221030T010000
END:STANDARD
END:VTIMEZONE
BEGIN:VEVENT
DTSTART;VALUE=DATE:20210301
DTEND;VALUE=DATE:20211030
DTSTAMP:20260423T020843
CREATED:20210222T110557Z
LAST-MODIFIED:20210222T111042Z
UID:65526-1614556800-1635551999@www.vc-magazin.de
SUMMARY:Executive Trainings
DESCRIPTION:If you are a founder or C-level manager at a European growth company\, then this programme is for you: It offers tailored guidance and key insights on how to raise capital in different growth stages\, scale the business and manage growth effectively. For later stage companies it also comprises a module on how to scale long-term and – as the business becomes capital market ready – what it means to go public.\n\n\n\n\n\n\n1. Early Stage track (only bookable \nas a package of all three modules)\nModules 1-3 \n01 Mar – 05 Mar 2021\nFees: € 899 (excl. VAT)\n\n\n2. Later Stage track (only bookable \nas a package of all three modules)\nModule 4\n17-21 May 2021Module 5\n13 Sep – 17 Sep 2021Module 6\n25 Oct – 29 Oct 2021\nFees: € 1\,499 (excl. VAT)\n\n\n\n 
URL:https://www.vc-magazin.de/event/executive-trainings/
END:VEVENT
BEGIN:VEVENT
DTSTART;VALUE=DATE:20210413
DTEND;VALUE=DATE:20210909
DTSTAMP:20260423T020843
CREATED:20210210T150107Z
LAST-MODIFIED:20210617T124529Z
UID:65445-1618272000-1631145599@www.vc-magazin.de
SUMMARY:Media Lift - Content und Tech Incubator
DESCRIPTION:Wir fördern eure innovativen Geschäftsideen an der Schnittstelle von Content und Tech. Ob Studierende\, Gründungswillige oder Angestellte aus Medien- und Digitalunternehmen\, ob individuelle Ideengeber*innen oder eingespieltes Team – wir heben eure Idee auf das nächste Level. \nIn drei Phasen erwarten euch Netzwerk- und Mentoringangebote sowie individuell abgestimmte Workshops und professionelle Trainings. Außerdem stellen wir euch digitale Tools\, Arbeitsräume und finanzielle Unterstützung zur Verfügung\, damit ihr euch voll auf euer Projekt konzentrieren könnt. Das Besondere: Media Lift ist ein Programm für die Frühphase der Ideenfindung. Wir unterstützen euch dabei\, eure innovative Ideen zu konkretisieren und machen sie gemeinsam mit euch geschäftsfähig. \nAm 18.2. gibt es ein Open Incubator Event. \nBewerbung bis 07.03.
URL:https://www.vc-magazin.de/event/media-lift-content-und-tech-operator/
LOCATION:Remote und in Hamburg
ATTACH;FMTTYPE=image/jpeg:https://www.vc-magazin.de/wp-content/uploads/2021/02/Media-Lift-Tafel.jpg
END:VEVENT
BEGIN:VEVENT
DTSTART;VALUE=DATE:20210420
DTEND;VALUE=DATE:20210421
DTSTAMP:20260423T020843
CREATED:20210304T143945Z
LAST-MODIFIED:20210305T171612Z
UID:65638-1618876800-1618963199@www.vc-magazin.de
SUMMARY:The Grow - Show 2
DESCRIPTION:Die Veranstaltungsreihe „The Grow“ zur Vernetzung mittelständischer Unternehmen und Start-Ups im deutschsprachigen Raum startet am 17. Februar. Initiatoren der Reihe sind die Unternehmer und Investoren Bernhard Schindler und Gerold Wolfarth sowie „StartingUp“-CEO Dejan Jovicevic. Mit Grußworten werden auch der bayerische Wirtschaftsminister und stellvertretende Ministerpräsident Hubert Aiwanger\, die Head of Swiss Business Hub Germany Britta Thiele-Klapproth und die österreichische Bundesministerin für Digitalisierung Margarete Schramböck auf der Pressekonferenz vertreten sein. \nWeitere Informationen finden Sie hier.
URL:https://www.vc-magazin.de/event/start-der-roadshow-the-grow-2021-2/
LOCATION:Wien und virtuell
END:VEVENT
BEGIN:VEVENT
DTSTART;VALUE=DATE:20210426
DTEND;VALUE=DATE:20210429
DTSTAMP:20260423T020843
CREATED:20201218T161429Z
LAST-MODIFIED:20201218T161429Z
UID:65083-1619395200-1619654399@www.vc-magazin.de
SUMMARY:BioVaria 2021 virtuell
DESCRIPTION:BioVaria targets technology scouts\, business developers and investors highlighting commercially attractive licensing opportunities and promising startups from across Europe. \nThis unique event brings together Europe‘s leading tech transfer professionals\, innovators from academia and startups with investors and representatives of the global biotech and pharma industry.
URL:https://www.vc-magazin.de/event/biovaria-2021-virtuell/
LOCATION:online\, Deutschland
END:VEVENT
BEGIN:VEVENT
DTSTART;TZID=Europe/Berlin:20210426T080000
DTEND;TZID=Europe/Berlin:20210430T170000
DTSTAMP:20260423T020843
CREATED:20210323T160853Z
LAST-MODIFIED:20210323T160853Z
UID:65816-1619424000-1619802000@www.vc-magazin.de
SUMMARY:AI Bootcamp
DESCRIPTION:Um Daten richtig nutzen und Lösungen schaffen zu können\, die im Unternehmen zu einer erfolgreichen Digitalisierung führen\, muss das nötige Wissen vorhanden sein. Mit diesem Basis-Rüstzeug der Moderne beschäftigt sich das „Berkeley bwcon Data X Lab“ und bietet baden-Württembergischen Unternehmen die Möglichkeit\, sich aktiv mit Studierenden der UC Berkeley zu vernetzen und dort Projekte zu platzieren. Darüber hinaus bietet die UC Berkeley verschiedene Programme zur Weiterbildung an – die Online-Veranstaltung „AI Bootcamp“ setzt genau hier an. \nDie Online-Veranstaltung „AI Bootcamp“ vom 26. April bis 30. April 2021 setzt genau hier an. Um gezielt auf die Bedürfnisse der Interessenten eingehen zu können\, wird das\nWeiterbildungsprogramm in zwei Varianten angeboten. Zum einen wird das „AI Bootcamp für Teams“ für Start-ups\, Hochschulen und Unternehmen veranstaltet\, die bereits ein eigenes KIProjekt betreiben und dieses weiterentwickeln möchten. Diese erhalten Unterstützung für den Anstoß ihres KI-Geschäftsmodells und können sich mit ihrer KI-Geschäftsidee für das Bootcamp bewerben. In „Mentoring-Sessions“ erhalten die 20 ausgewählten Teams Unterstützung für ihre KI-Projekte und haben die Möglichkeit\, ihre Geschäftsidee vor einer hochkarätigen Jury zu präsentieren. \nWeitere Infos
URL:https://www.vc-magazin.de/event/ai-bootcamp/
LOCATION:virtuell
END:VEVENT
BEGIN:VEVENT
DTSTART;VALUE=DATE:20210427
DTEND;VALUE=DATE:20210501
DTSTAMP:20260423T020843
CREATED:20201218T161214Z
LAST-MODIFIED:20201218T161214Z
UID:65082-1619481600-1619827199@www.vc-magazin.de
SUMMARY:BAI Alternative Investor Conference
DESCRIPTION:Die Branchenkonferenz rund um das Thema Alternative Investments\nAssetklassen- und produktübergreifend\nAusgerichtet auf institutionelle Investoren\nErstmals als rein virtuelle Veranstaltung
URL:https://www.vc-magazin.de/event/bai-alternative-investor-conference/
LOCATION:online\, Deutschland
END:VEVENT
END:VCALENDAR