BEGIN:VCALENDAR
VERSION:2.0
PRODID:-//VC Magazin - ECPv6.15.15//NONSGML v1.0//EN
CALSCALE:GREGORIAN
METHOD:PUBLISH
X-ORIGINAL-URL:https://www.vc-magazin.de
X-WR-CALDESC:Veranstaltungen für VC Magazin
REFRESH-INTERVAL;VALUE=DURATION:PT1H
X-Robots-Tag:noindex
X-PUBLISHED-TTL:PT1H
BEGIN:VTIMEZONE
TZID:Europe/Berlin
BEGIN:DAYLIGHT
TZOFFSETFROM:+0100
TZOFFSETTO:+0200
TZNAME:CEST
DTSTART:20200329T010000
END:DAYLIGHT
BEGIN:STANDARD
TZOFFSETFROM:+0200
TZOFFSETTO:+0100
TZNAME:CET
DTSTART:20201025T010000
END:STANDARD
BEGIN:DAYLIGHT
TZOFFSETFROM:+0100
TZOFFSETTO:+0200
TZNAME:CEST
DTSTART:20210328T010000
END:DAYLIGHT
BEGIN:STANDARD
TZOFFSETFROM:+0200
TZOFFSETTO:+0100
TZNAME:CET
DTSTART:20211031T010000
END:STANDARD
BEGIN:DAYLIGHT
TZOFFSETFROM:+0100
TZOFFSETTO:+0200
TZNAME:CEST
DTSTART:20220327T010000
END:DAYLIGHT
BEGIN:STANDARD
TZOFFSETFROM:+0200
TZOFFSETTO:+0100
TZNAME:CET
DTSTART:20221030T010000
END:STANDARD
END:VTIMEZONE
BEGIN:VEVENT
DTSTART;VALUE=DATE:20210301
DTEND;VALUE=DATE:20211030
DTSTAMP:20260422T182115
CREATED:20210222T110557Z
LAST-MODIFIED:20210222T111042Z
UID:65526-1614556800-1635551999@www.vc-magazin.de
SUMMARY:Executive Trainings
DESCRIPTION:If you are a founder or C-level manager at a European growth company\, then this programme is for you: It offers tailored guidance and key insights on how to raise capital in different growth stages\, scale the business and manage growth effectively. For later stage companies it also comprises a module on how to scale long-term and – as the business becomes capital market ready – what it means to go public.\n\n\n\n\n\n\n1. Early Stage track (only bookable \nas a package of all three modules)\nModules 1-3 \n01 Mar – 05 Mar 2021\nFees: € 899 (excl. VAT)\n\n\n2. Later Stage track (only bookable \nas a package of all three modules)\nModule 4\n17-21 May 2021Module 5\n13 Sep – 17 Sep 2021Module 6\n25 Oct – 29 Oct 2021\nFees: € 1\,499 (excl. VAT)\n\n\n\n 
URL:https://www.vc-magazin.de/event/executive-trainings/
END:VEVENT
BEGIN:VEVENT
DTSTART;VALUE=DATE:20210413
DTEND;VALUE=DATE:20210909
DTSTAMP:20260422T182115
CREATED:20210210T150107Z
LAST-MODIFIED:20210617T124529Z
UID:65445-1618272000-1631145599@www.vc-magazin.de
SUMMARY:Media Lift - Content und Tech Incubator
DESCRIPTION:Wir fördern eure innovativen Geschäftsideen an der Schnittstelle von Content und Tech. Ob Studierende\, Gründungswillige oder Angestellte aus Medien- und Digitalunternehmen\, ob individuelle Ideengeber*innen oder eingespieltes Team – wir heben eure Idee auf das nächste Level. \nIn drei Phasen erwarten euch Netzwerk- und Mentoringangebote sowie individuell abgestimmte Workshops und professionelle Trainings. Außerdem stellen wir euch digitale Tools\, Arbeitsräume und finanzielle Unterstützung zur Verfügung\, damit ihr euch voll auf euer Projekt konzentrieren könnt. Das Besondere: Media Lift ist ein Programm für die Frühphase der Ideenfindung. Wir unterstützen euch dabei\, eure innovative Ideen zu konkretisieren und machen sie gemeinsam mit euch geschäftsfähig. \nAm 18.2. gibt es ein Open Incubator Event. \nBewerbung bis 07.03.
URL:https://www.vc-magazin.de/event/media-lift-content-und-tech-operator/
LOCATION:Remote und in Hamburg
ATTACH;FMTTYPE=image/jpeg:https://www.vc-magazin.de/wp-content/uploads/2021/02/Media-Lift-Tafel.jpg
END:VEVENT
BEGIN:VEVENT
DTSTART;VALUE=DATE:20210908
DTEND;VALUE=DATE:20210909
DTSTAMP:20260422T182115
CREATED:20210625T142152Z
LAST-MODIFIED:20210803T093107Z
UID:66416-1631059200-1631145599@www.vc-magazin.de
SUMMARY:IPEM 2021 Paris
DESCRIPTION:Get ready for the kick-off event of the year of European Private Equity Industry \nVC Magazin is partnering with IPEM for IPEM 2021 Special Paris Edition! Rendez-vous on September 8/9\, 2021\, at the Paris Longchamp racecourse. Gather & network with + 2\,000 delegates\, +250 LPs\, + 250 GPs\, + 100 Advisors & Business Services \nUntil June 30th\, benefit from the early bird offer: 20% off the ticket price! \nLast Bird Offer: 10% off July 1st – July 30th \nREGISTER NOW!
URL:https://www.vc-magazin.de/event/ipem-2021-paris/
LOCATION:Hippodrome Paris Longchamps
ATTACH;FMTTYPE=image/gif:https://www.vc-magazin.de/wp-content/uploads/2021/06/IPEM2021-ParisLongchamp-lateBird_300x250_anime.gif
END:VEVENT
BEGIN:VEVENT
DTSTART;VALUE=DATE:20210913
DTEND;VALUE=DATE:20210915
DTSTAMP:20260422T182115
CREATED:20200129T085836Z
LAST-MODIFIED:20210415T082318Z
UID:61515-1631491200-1631663999@www.vc-magazin.de
SUMMARY:Global Infrastructure Dialogue 2021
DESCRIPTION:The Global Infrastructure Dialogue 2021 will take place digitally on the 13th – 14th of September and brings together the senior elite of the infrastructure industry. \nGID provides a forum for international decision makers in infrastructure to get together in a series of interactive online sessions\, 1: 1 meetings and fire-side chats. Senior industry experts\, including investors\, lenders\, developers and policy makers will be discussing the latest global trends in infrastructure.\nAmong the topics covered will be the latest investment strategies and bidding tactics\, global investment opportunities in energy\, Tech & Telco and transport infrastructure as well as insights from developers that secured funding for mature and emerging market projects. \nFind more information here
URL:https://www.vc-magazin.de/event/global-infrastructure-dialogue-2021/
LOCATION:Villa Kennedy\, Rocco Forte Hotel\,  Kennedyallee 70\, Frankfurt am Main\, Hessen\, 69596\, Deutschland
ATTACH;FMTTYPE=image/jpeg:https://www.vc-magazin.de/wp-content/uploads/2020/01/shutterstock_240160432-min-scaled.jpg
END:VEVENT
BEGIN:VEVENT
DTSTART;TZID=Europe/Berlin:20210913T090000
DTEND;TZID=Europe/Berlin:20210917T180000
DTSTAMP:20260422T182115
CREATED:20210215T151104Z
LAST-MODIFIED:20210610T085538Z
UID:65488-1631523600-1631901600@www.vc-magazin.de
SUMMARY:Virtuelles Executive Training für Later Stage: Modul 5 Financing Growth
DESCRIPTION:Das Executive Training ist ein professionelles Managementprogramm\, das wir speziell auf unsere Netzwerkmitglieder zugeschnitten haben. Es unterstützt bei der Planung und Umsetzung der nächsten Schritte auf dem Wachstumsweg. Das Modul 5 konzentriert sich auf das Thema Financing Growth. Welcher Weg der weiteren Wachstumsfinanzierung passt zu meinem Unternehmen? Welche Optionen habe ich? Wie manage ich Investorenkonsortien im Later Stage-Bereich? Diese und andere Themen stehen auf der Agenda. \n\n\n\nWeitere Details zu Lernzielen\, Methoden und Referenten sowie allen Modulen finden Sie hier. \n\n\n\nDas Later Stage-Training (Module 4-6) ist der zweite Teil unseres Executive Trainingsprogramms für das C-Level-Management von Wachstumsunternehmen. \n\n\n\n\nJe nach Wachstumsphase des Unternehmens empfehlen wir den Einstieg in das Programm bei Modul 1 (Early Stage) oder bei Modul 4 (Unternehmen ab der Series B). \n\n\n\n\nSollten Sie sich für die Teilnahme an Modul 5 entschließen\, empfehlen wir ergänzend die Teilnahme an den Modulen 4 (Managing Growth) und 6 (Capital Market Readiness). Dies ist aber keine Voraussetzung. \n\n\n\n\nSobald die finale Agenda für den nächsten Durchgang feststeht\, erhalten sie die Teilnehmer per Mail zugeschickt.
URL:https://www.vc-magazin.de/event/virtuelles-executive-training-fuer-later-stage-modul-5-financing-growth/
LOCATION:Berlin/Remote
END:VEVENT
BEGIN:VEVENT
DTSTART;VALUE=DATE:20210914
DTEND;VALUE=DATE:20210916
DTSTAMP:20260422T182115
CREATED:20210421T085818Z
LAST-MODIFIED:20210507T161607Z
UID:65961-1631577600-1631750399@www.vc-magazin.de
SUMMARY:ICT Spring Europe 2021
DESCRIPTION:ICT Spring is a conference hosting an array of international professionals. The aim of ICT Spring is to encourage emulation\, and networking between business decision-makers\, innovation managers\, startups\, researchers and venture capitalists at a European scale. \nIt is a two-day yearly event held in Luxembourg City\, which is dedicated to exhibiting and demonstrating the latest relevant trends and innovations and discussing their impact on society and the working world. It offers the participants a unique opportunity to deepen their Digital knowledge\, capture the value of the fast-growing FinTech\, drive innovation in the Supply Chain industry\, pierce the secrets of IT Security and explore the impact of Space technologies on terrestrial businesses. 
URL:https://www.vc-magazin.de/event/ict-spring-europe-2021/
LOCATION:European Convention Center Luxembourg\, 4\, place de l'Europe\, Luxembourg-Kirchberg\, L-1499\, Luxemburg
ATTACH;FMTTYPE=image/png:https://www.vc-magazin.de/wp-content/uploads/2021/04/ICT-visual-new.png
END:VEVENT
BEGIN:VEVENT
DTSTART;TZID=Europe/Berlin:20210915T130000
DTEND;TZID=Europe/Berlin:20210915T140000
DTSTAMP:20260422T182115
CREATED:20210831T135355Z
LAST-MODIFIED:20210831T135355Z
UID:66850-1631710800-1631714400@www.vc-magazin.de
SUMMARY:FAQ Special - HR meets VC
DESCRIPTION:FAQ SPECIAL – HR MEETS VC\nIn einem Online FAQ informieren Anwälte von Lutz Abel über\nbrandaktuelle Themen aus der Beratungspraxis. Diesmal geht es um ein Crossover zwischen Venture Capital und Arbeitsrecht\, inklusive typischer Pitfalls in\nFinanzierungsrunden von Start-ups/Ventures: \n-Die richtigen Mitarbeiterverträge für die\nFinanzierungsrunde\n– Typische Issues in der Due Diligence |\nWomit kann man glänzen?\n– Mitarbeiterbeteiligung: Noch immer virtuell?!\n– Vorrausschauend in den Exit\n– Remote Work | Mitarbeiter im Ausland
URL:https://www.vc-magazin.de/event/faq-special-hr-meets-vc/
LOCATION:virtuell
END:VEVENT
BEGIN:VEVENT
DTSTART;TZID=Europe/Berlin:20210915T140000
DTEND;TZID=Europe/Berlin:20210915T190000
DTSTAMP:20260422T182115
CREATED:20210809T140852Z
LAST-MODIFIED:20210809T140955Z
UID:66706-1631714400-1631732400@www.vc-magazin.de
SUMMARY:Pitch Club #24 - 7 YEARS BIRTHDAY EDITION
DESCRIPTION:Spannende vorselektierte Startups („early-stage“ mit „proof of concept“) präsentieren ihre Ideen vor erfahrenen Investoren. Dabei wird den „pitchenden“ Startups alles abverlangt: Die Bühne wird zum „Ring“\, in dem sich Gründerinnen & Gründer den kritischen Fragen der Investoren stellen müssen. Unbequeme Fragen sowie kritische Anmerkungen sind hierbei nicht nur erwünscht\, sondern strikt vorgeschrieben. \nDer Pitch Club hat sich inzwischen mit seinem einzigartigen Format zu Rhein-Mains erfolgreichstem Pitch Event etabliert. Die Veranstalter setzen auf Exklusivität und stoßen damit auf großes Interesse bei innovativen und vielversprechenden Startups\, Top-Investoren sowie Sponsoren und Partnern. \nStartups können sich noch bis zum 26. August bewerben: http://thepitchclub.com/startup/ \nFür Investoren ist eine Anmeldung unter https://www.thepitchclub.com/de/investoren/ möglich.
URL:https://www.vc-magazin.de/event/pitch-club-24-7-years-birthday-edition/
ATTACH;FMTTYPE=image/png:https://www.vc-magazin.de/wp-content/uploads/2021/08/Grafik-1_Kalendereintrag_Pitch-Club-24.png
END:VEVENT
BEGIN:VEVENT
DTSTART;VALUE=DATE:20210917
DTEND;VALUE=DATE:20210918
DTSTAMP:20260422T182115
CREATED:20201218T163516Z
LAST-MODIFIED:20210610T082656Z
UID:65097-1631836800-1631923199@www.vc-magazin.de
SUMMARY:Business Angel Summit 2021
DESCRIPTION:Der Business Angel Summit führt im Herzen der österreichischen Alpen ausgewählte\, private Geldgeber mit herausragenden\, innovativen Start-ups aus Österreich zusammen und schafft so die besten Chancen für den perfekten Match. \nÖsterreichische Top Gründungsteams haben im Rahmen des Business Angel Summits am 17. September 2021 die einzigartige Möglichkeit\, nicht nur führende Unternehmer*innen aus Tirol\, sondern auch Key Player der internationalen Wirtschaftswelt als Partner und potenzielle Investoren für ihre Unternehmen zu gewinnen. Je nach weiterer Entwicklung findet der diesjährige Business Angel Summit in Kitzbühel oder hybrid/digital statt!
URL:https://www.vc-magazin.de/event/business-angel-summit-2020/
LOCATION:Kitzbühel
END:VEVENT
BEGIN:VEVENT
DTSTART;VALUE=DATE:20210920
DTEND;VALUE=DATE:20210922
DTSTAMP:20260422T182115
CREATED:20201218T164053Z
LAST-MODIFIED:20210119T141803Z
UID:65101-1632096000-1632268799@www.vc-magazin.de
SUMMARY:Deutsche Biotechnologietage 2021
DESCRIPTION:Deutschlands größtes Biotech-Event\, die Deutschen Biotechnologietage 2021 finden am 20. und 21. September in Stuttgart statt. Die Veranstaltung gilt mit über 800 Teilnehmerinnen und Teilnehmern als deutsches Klassentreffen für die Biotechnologie. Auf den DBT kommen Unternehmerinnen und Unternehmer mit Wissenschaftlern und Partnern aus Politik\, Förderinstitutionen und Verwaltung zusammen. \nIn Plenen sowie zahlreichen Symposien präsentieren und diskutieren hochkarätige Referenten die vielfältigen Anwendungsfelder und das Potenzial der Biotechnologie\, von der Gesundheitsforschung bis zur Bioökonomie\, von Medizin über industrielle Produktion bis zur Pflanzenzucht. Austausch und Netzwerken haben auf den DBT traditionell einen hohen Stellenwert. Die große Abendveranstaltung am ersten Konferenztag ist daher ein weiteres Highlight. Neben dem Konferenzprogramm gibt es zudem eine große Ausstellung. \nDie Deutschen Biotechnologietage werden gemeinsam von BIO Deutschland und dem Arbeitskreis der BioRegionen veranstaltet. Gastgebende Region ist 2021 die BioRegio STERN aus Stuttgart\, als Partnerregion freuen wir uns auf BioLAGO\, dem Netzwerk für die Gesundheitsindustrie in der Vierländerregion Bodensee.
URL:https://www.vc-magazin.de/event/deutsche-biotechnologietage-2021/
LOCATION:Stuttgart
END:VEVENT
BEGIN:VEVENT
DTSTART;VALUE=DATE:20210920
DTEND;VALUE=DATE:20210924
DTSTAMP:20260422T182115
CREATED:20210804T142629Z
LAST-MODIFIED:20210805T112823Z
UID:66686-1632096000-1632441599@www.vc-magazin.de
SUMMARY:SuperInvestor 2021
DESCRIPTION:Be the first to reconnect face-to-face with the most senior LPs & GPs from the private capital industry.\nFundraising. Private Debt. Secondaries. The connections and ideas you need are at SuperInvestor.\n\nEurope’s private equity industry in one place\nSuperInvestor is back! And is still the most time-efficient way to connect with 1\,000 of the most senior and influential people in private capital. \nReflect on the past year and compare the views of the industry’s leading lights on projections for 2022 and beyond. \nIndustry-leading expert speakers\n150+ expert speakers will take to the stage to share their knowledge and expertise with you. \n10% discount – VIP code: FKR2559VCM
URL:https://www.vc-magazin.de/event/superinvestor-2021-2/
LOCATION:InterContinental O2\, London
ATTACH;FMTTYPE=image/jpeg:https://www.vc-magazin.de/wp-content/uploads/2021/08/SI-VC-Magazine-400x400-1.jpg
END:VEVENT
BEGIN:VEVENT
DTSTART;VALUE=DATE:20210923
DTEND;VALUE=DATE:20210924
DTSTAMP:20260422T182115
CREATED:20210901T090053Z
LAST-MODIFIED:20210901T091456Z
UID:66855-1632355200-1632441599@www.vc-magazin.de
SUMMARY:Investforum Pitch-Day 2021
DESCRIPTION:Die Kompassnadel zeigt am 23. September 2021 auf die Händelstadt direkt am Saale-Ufer. Start-ups bekommen die Chance ihre zukünftigen Kapitalgeber*innen zu treffen\, Investor*innen werden neue Entwicklungen und disruptive Geschäftsmodelle geboten. Gemeinsam wird der Kurs in Richtung erfolgreiche Zukunft gestellt. Unsere jährliche Matching-Veranstaltung bietet Deutschlands Startups die perfekte Bühne. Hier trifft Innovation auf Kapital. Leinen los und Anker lichten: Auf zum Investforum Pitch-Day No. 13!
URL:https://www.vc-magazin.de/event/investforum-pitch-day-2021/
LOCATION:Multimediazentrum Halle
END:VEVENT
END:VCALENDAR