BEGIN:VCALENDAR
VERSION:2.0
PRODID:-//VC Magazin - ECPv6.15.15//NONSGML v1.0//EN
CALSCALE:GREGORIAN
METHOD:PUBLISH
X-WR-CALNAME:VC Magazin
X-ORIGINAL-URL:https://www.vc-magazin.de
X-WR-CALDESC:Veranstaltungen für VC Magazin
REFRESH-INTERVAL;VALUE=DURATION:PT1H
X-Robots-Tag:noindex
X-PUBLISHED-TTL:PT1H
BEGIN:VTIMEZONE
TZID:Europe/Berlin
BEGIN:DAYLIGHT
TZOFFSETFROM:+0100
TZOFFSETTO:+0200
TZNAME:CEST
DTSTART:20200329T010000
END:DAYLIGHT
BEGIN:STANDARD
TZOFFSETFROM:+0200
TZOFFSETTO:+0100
TZNAME:CET
DTSTART:20201025T010000
END:STANDARD
BEGIN:DAYLIGHT
TZOFFSETFROM:+0100
TZOFFSETTO:+0200
TZNAME:CEST
DTSTART:20210328T010000
END:DAYLIGHT
BEGIN:STANDARD
TZOFFSETFROM:+0200
TZOFFSETTO:+0100
TZNAME:CET
DTSTART:20211031T010000
END:STANDARD
BEGIN:DAYLIGHT
TZOFFSETFROM:+0100
TZOFFSETTO:+0200
TZNAME:CEST
DTSTART:20220327T010000
END:DAYLIGHT
BEGIN:STANDARD
TZOFFSETFROM:+0200
TZOFFSETTO:+0100
TZNAME:CET
DTSTART:20221030T010000
END:STANDARD
END:VTIMEZONE
BEGIN:VEVENT
DTSTART;VALUE=DATE:20210301
DTEND;VALUE=DATE:20211030
DTSTAMP:20260422T165717
CREATED:20210222T110557Z
LAST-MODIFIED:20210222T111042Z
UID:65526-1614556800-1635551999@www.vc-magazin.de
SUMMARY:Executive Trainings
DESCRIPTION:If you are a founder or C-level manager at a European growth company\, then this programme is for you: It offers tailored guidance and key insights on how to raise capital in different growth stages\, scale the business and manage growth effectively. For later stage companies it also comprises a module on how to scale long-term and – as the business becomes capital market ready – what it means to go public.\n\n\n\n\n\n\n1. Early Stage track (only bookable \nas a package of all three modules)\nModules 1-3 \n01 Mar – 05 Mar 2021\nFees: € 899 (excl. VAT)\n\n\n2. Later Stage track (only bookable \nas a package of all three modules)\nModule 4\n17-21 May 2021Module 5\n13 Sep – 17 Sep 2021Module 6\n25 Oct – 29 Oct 2021\nFees: € 1\,499 (excl. VAT)\n\n\n\n 
URL:https://www.vc-magazin.de/event/executive-trainings/
END:VEVENT
BEGIN:VEVENT
DTSTART;TZID=Europe/Berlin:20211005T160000
DTEND;TZID=Europe/Berlin:20211005T190000
DTSTAMP:20260422T165717
CREATED:20210908T083127Z
LAST-MODIFIED:20210908T083234Z
UID:66892-1633449600-1633460400@www.vc-magazin.de
SUMMARY:Webinar: What is the toolkit of a modern venture capital CFO/COO?
DESCRIPTION:This virtual webinar has been designed to cover all the current hot topics and challenges regarding the innovations in the back office for CFOs/COOs in managing venture capital firms for upcoming years. \nIt will provide you with lessons learned and valuable tips shared by top players. You will also benefit from remarkable networking opportunities due to the presence of high-level attendees. \n  \nRegister for free HERE.
URL:https://www.vc-magazin.de/event/webinar-what-is-the-toolkit-of-a-modern-venture-capital-cfo-coo/
END:VEVENT
BEGIN:VEVENT
DTSTART;VALUE=DATE:20211006
DTEND;VALUE=DATE:20211007
DTSTAMP:20260422T165717
CREATED:20211007T074259Z
LAST-MODIFIED:20211007T125108Z
UID:67044-1633478400-1633564799@www.vc-magazin.de
SUMMARY:invest austria
DESCRIPTION:invest austria ist das zentrale Event für die Akteur:innen des vorbörslichen Kapitalmarkts. Die ganztägige Veranstaltung wird der Hotspot für europäische Business Angels sowie Private Equity und Venture Capital Investor:innen.
URL:https://www.vc-magazin.de/event/invest-ausria/
LOCATION:Park Hyatt Vienna\, Am Hof 2\, Wien\, 1010\, Österreich
END:VEVENT
BEGIN:VEVENT
DTSTART;VALUE=DATE:20211008
DTEND;VALUE=DATE:20211010
DTSTAMP:20260422T165717
CREATED:20210514T121918Z
LAST-MODIFIED:20210514T121918Z
UID:66135-1633651200-1633823999@www.vc-magazin.de
SUMMARY:Hackerkiste Augsburg
DESCRIPTION:Die diesjährige virtuelle Hackerkiste ist eine Kombination aus Konferenz und Hackathon. Schwerpunktthemen sind Web\, IT-Security\, IoT und alles zwischendrin. Selbstverständlich sind auch UI/UX-Themen immer gerne gesehen. Das Event erstreckt sich über 2 Tage (08. & 09. Oktober) und richtet sich an digital-interessierte Studierende\, Angestellte\, Wissenschaftler:innen\, Programmierer:innen und Designer:innen.
URL:https://www.vc-magazin.de/event/hackerkiste-augsburg/
LOCATION:virtuell
END:VEVENT
BEGIN:VEVENT
DTSTART;VALUE=DATE:20211013
DTEND;VALUE=DATE:20211014
DTSTAMP:20260422T165717
CREATED:20211006T113941Z
LAST-MODIFIED:20211007T070808Z
UID:67028-1634083200-1634169599@www.vc-magazin.de
SUMMARY:0100 Conference Cyprus
DESCRIPTION:The second edition of an in-person conference that brings together PE & VC investors from Middle East and Europe. The main investors‘ event of Reflect Festival\, a tech festival gathering 3000+ attendees and 50+ speakers.
URL:https://www.vc-magazin.de/event/0100-conference-cyprus/
END:VEVENT
BEGIN:VEVENT
DTSTART;VALUE=DATE:20211019
DTEND;VALUE=DATE:20211020
DTSTAMP:20260422T165717
CREATED:20210406T134915Z
LAST-MODIFIED:20210610T094758Z
UID:65893-1634601600-1634687999@www.vc-magazin.de
SUMMARY:CyberOne Hightech Award 2021
DESCRIPTION:Bis zum 28. Mai können sich aufstrebende Start-ups aus Baden-Württemberg mit ihren Businessplänen für den Award bewerben. Der offizielle Landespreis Baden-Württembergs wird im Rahmen des hybriden Hightech Summits am 19. Oktober 2021 im Hospitalhof in Stuttgart verliehen. \nBegleitend zur aktuellen Ausschreibungsrunde veranstaltet bwcon eine virtuelle Entrepreneurship Roadshow und vernetzt damit Gründer*innen mit den Akteuren der Wirtschaft. Sie informiert über die Einreichung zum CyberOne und vermittelt Praxiswissen für Gründer*innen. In Fachvorträgen sprechen Referent*innen zu zentralen Themen wie Finanzierung\, Marketing oder Vertrieb und erfolgreiche Existenzgründer*innen berichten von ihren Erfahrungen. \nMehr Informationen finden Sie hier.
URL:https://www.vc-magazin.de/event/cyberone-hightech-award-2021/
END:VEVENT
BEGIN:VEVENT
DTSTART;TZID=Europe/Berlin:20211019T140000
DTEND;TZID=Europe/Berlin:20211019T170000
DTSTAMP:20260422T165717
CREATED:20211008T102540Z
LAST-MODIFIED:20211008T102837Z
UID:67079-1634652000-1634662800@www.vc-magazin.de
SUMMARY:VentureCon TechTrends
DESCRIPTION:BayStartUP präsentiert die innovativsten und technologisch spannendsten Startups aus seinem Netzwerk: 70 Unternehmen\, die Kapitalgeber schon jetzt für Finanzierungsrunden im kommenden Jahr auf dem Schirm haben sollten. Damit ermöglichen wir Startups und Kapitalgebern\, frühzeitig Kontakte aufzubauen und schon deutlich vor den Finanzierungsrunden in den gemeinsamen Austausch zu treten.
URL:https://www.vc-magazin.de/event/venturecon-techtrends/
LOCATION:virtuell
END:VEVENT
BEGIN:VEVENT
DTSTART;VALUE=DATE:20211021
DTEND;VALUE=DATE:20211022
DTSTAMP:20260422T165717
CREATED:20210304T144807Z
LAST-MODIFIED:20210305T171357Z
UID:65644-1634774400-1634860799@www.vc-magazin.de
SUMMARY:The Grow - Show 6 - Finale
DESCRIPTION:Die Veranstaltungsreihe „The Grow“ zur Vernetzung mittelständischer Unternehmen und Start-Ups im deutschsprachigen Raum startet am 17. Februar. Initiatoren der Reihe sind die Unternehmer und Investoren Bernhard Schindler und Gerold Wolfarth sowie „StartingUp“-CEO Dejan Jovicevic. Mit Grußworten werden auch der bayerische Wirtschaftsminister und stellvertretende Ministerpräsident Hubert Aiwanger\, die Head of Swiss Business Hub Germany Britta Thiele-Klapproth und die österreichische Bundesministerin für Digitalisierung Margarete Schramböck auf der Pressekonferenz vertreten sein. \nWeitere Informationen finden Sie hier.
URL:https://www.vc-magazin.de/event/start-der-roadshow-the-grow-2021-5/
LOCATION:Roadshow-Finale in Landshut und virtuell
END:VEVENT
BEGIN:VEVENT
DTSTART;TZID=Europe/Berlin:20211023T100000
DTEND;TZID=Europe/Berlin:20211023T123000
DTSTAMP:20260422T165717
CREATED:20210910T153006Z
LAST-MODIFIED:20210910T153127Z
UID:66912-1634983200-1634992200@www.vc-magazin.de
SUMMARY:QS Online MBA Messe
DESCRIPTION:Online MBA-Event – Samstag\, 23. Oktober\nAlle Informationen zum MBA-Studium im direkten Gespräch mit 20 Top Business Schools. Erfahre mehr zu Karrieremöglichkeiten\, ROI und Leadership. Plus CV-Check. Mit u.a. WHU\, St. Gallen\, HEC Paris\, IE\, ESCP\, Alliance Manchester\, und Univ. Zürich. Limitierte Plätze\, Anmeldung unter www.topmba.com/events
URL:https://www.vc-magazin.de/event/qs-online-mba-messe/
ATTACH;FMTTYPE=image/png:https://www.vc-magazin.de/wp-content/uploads/2021/09/Asset108@4x.png
END:VEVENT
BEGIN:VEVENT
DTSTART;VALUE=DATE:20211025
DTEND;VALUE=DATE:20211030
DTSTAMP:20260422T165717
CREATED:20210215T151259Z
LAST-MODIFIED:20210215T151259Z
UID:65489-1635120000-1635551999@www.vc-magazin.de
SUMMARY:Virtuelles Executive Training für Later Stage: Modul 6 Capital Market Readiness
DESCRIPTION:Das Executive Training ist ein professionelles Managementprogramm\, das wir speziell auf unsere Netzwerkmitglieder zugeschnitten haben. Es unterstützt bei der Planung und Umsetzung der nächsten Schritte auf dem Wachstumsweg. Das Modul 6 konzentriert sich auf das Thema Capital Market Readiness. Welche strategischen Überlegungen sind im Vorfeld eines Börsengangs wichtig? Welche Anforderungen stellt der Kapitalmarkt an mein Unternehmen und wie betreibe ich Investor Relations? Welche Voraussetzungen und Pflichten sind im Falle eines Börsengangs zu erfüllen? Was passiert bei einer Investoren-Road Show? Wieviel kostet ein Börsengang? \n\n\n\nWeitere Details zu Lernzielen\, Methoden und Referenten sowie allen Modulen finden Sie hier. \n\n\n\nDas Later Stage-Training (Module 4-6) ist der zweite Teil unseres Executive Trainingsprogramms für das C-Level-Management von Wachstumsunternehmen. \n\n\n\n\nJe nach Wachstumsphase des Unternehmens empfehlen wir den Einstieg in das Programm bei Modul 1 (Early Stage) oder bei Modul 4 (Unternehmen ab der Series B). \n\n\n\n\nSollten Sie sich für die Teilnahme an Modul 6 entschließen\, empfehlen wir ergänzend die Teilnahme an den Modulen 4 (Managing Growth) und 5 (Financing Growth). Dies ist aber keine Voraussetzung.
URL:https://www.vc-magazin.de/event/virtuelles-executive-training-fuer-later-stage-modul-6-capital-market-readiness/
LOCATION:virtuell
END:VEVENT
BEGIN:VEVENT
DTSTART;VALUE=DATE:20211026
DTEND;VALUE=DATE:20211028
DTSTAMP:20260422T165717
CREATED:20201218T164906Z
LAST-MODIFIED:20201218T164906Z
UID:65107-1635206400-1635379199@www.vc-magazin.de
SUMMARY:HIGHTECH VENTURE DAYS ON-SITE
DESCRIPTION:
URL:https://www.vc-magazin.de/event/hightech-venture-days-on-site/
LOCATION:Dresden
END:VEVENT
BEGIN:VEVENT
DTSTART;VALUE=DATE:20211027
DTEND;VALUE=DATE:20211028
DTSTAMP:20260422T165717
CREATED:20201218T165115Z
LAST-MODIFIED:20201218T165115Z
UID:65110-1635292800-1635379199@www.vc-magazin.de
SUMMARY:VC Funds on Stage
DESCRIPTION:
URL:https://www.vc-magazin.de/event/vc-funds-on-stage/
LOCATION:Zürich
END:VEVENT
BEGIN:VEVENT
DTSTART;VALUE=DATE:20211028
DTEND;VALUE=DATE:20211030
DTSTAMP:20260422T165717
CREATED:20201218T165012Z
LAST-MODIFIED:20210610T101050Z
UID:65109-1635379200-1635551999@www.vc-magazin.de
SUMMARY:HIGHTECH VENTURE DAYS ONLINE
DESCRIPTION:
URL:https://www.vc-magazin.de/event/hightech-venture-days-online/
LOCATION:online\, Deutschland
END:VEVENT
BEGIN:VEVENT
DTSTART;TZID=Europe/Berlin:20211029T100000
DTEND;TZID=Europe/Berlin:20211030T180000
DTSTAMP:20260422T165717
CREATED:20210423T124217Z
LAST-MODIFIED:20210430T080942Z
UID:65990-1635501600-1635616800@www.vc-magazin.de
SUMMARY:Deutsche Gründer- und Unternehmertage 2021
DESCRIPTION:Die deGUT ist die traditionsreichste Gründer- und Unternehmermesse Deutschlands und erreicht jedes Jahr rund 6.000 Besucher. \nAm 29. und 30. Oktober 2021 gibt es auf den 37. Deutschen Gründer und Unternehmertagen wieder alles\, was Unternehmen für einen guten Start und ein gesundes Wachstum brauchen. Neben einem im Eintrittspreis enthaltenen Seminarprogramm bietet die Messe fundiertes Wissen und Beratung zu allen Themen der beruflichen Selbstständigkeit und Unternehmensführung. \nWerden Sie ein aktiver Teil der deGUT 2021 und melden Sie sich noch heute an!
URL:https://www.vc-magazin.de/event/deutsche-gruender-und-unternehmertage-2021/
LOCATION:Arena Berlin\, Eichenstraße 4\, Berlin\, 12435\, Deutschland
END:VEVENT
END:VCALENDAR