BEGIN:VCALENDAR
VERSION:2.0
PRODID:-//VC Magazin - ECPv6.15.15//NONSGML v1.0//EN
CALSCALE:GREGORIAN
METHOD:PUBLISH
X-WR-CALNAME:VC Magazin
X-ORIGINAL-URL:https://www.vc-magazin.de
X-WR-CALDESC:Veranstaltungen für VC Magazin
REFRESH-INTERVAL;VALUE=DURATION:PT1H
X-Robots-Tag:noindex
X-PUBLISHED-TTL:PT1H
BEGIN:VTIMEZONE
TZID:Europe/Berlin
BEGIN:DAYLIGHT
TZOFFSETFROM:+0100
TZOFFSETTO:+0200
TZNAME:CEST
DTSTART:20210328T010000
END:DAYLIGHT
BEGIN:STANDARD
TZOFFSETFROM:+0200
TZOFFSETTO:+0100
TZNAME:CET
DTSTART:20211031T010000
END:STANDARD
BEGIN:DAYLIGHT
TZOFFSETFROM:+0100
TZOFFSETTO:+0200
TZNAME:CEST
DTSTART:20220327T010000
END:DAYLIGHT
BEGIN:STANDARD
TZOFFSETFROM:+0200
TZOFFSETTO:+0100
TZNAME:CET
DTSTART:20221030T010000
END:STANDARD
BEGIN:DAYLIGHT
TZOFFSETFROM:+0100
TZOFFSETTO:+0200
TZNAME:CEST
DTSTART:20230326T010000
END:DAYLIGHT
BEGIN:STANDARD
TZOFFSETFROM:+0200
TZOFFSETTO:+0100
TZNAME:CET
DTSTART:20231029T010000
END:STANDARD
END:VTIMEZONE
BEGIN:VEVENT
DTSTART;VALUE=DATE:20220118
DTEND;VALUE=DATE:20220120
DTSTAMP:20260422T120413
CREATED:20211125T111455Z
LAST-MODIFIED:20220113T142402Z
UID:67407-1642464000-1642636799@www.vc-magazin.de
SUMMARY:Life Science Factory Pre-Opening
DESCRIPTION:
URL:https://www.vc-magazin.de/event/life-science-factory-opening/
LOCATION:online
END:VEVENT
BEGIN:VEVENT
DTSTART;TZID=Europe/Berlin:20220126T173000
DTEND;TZID=Europe/Berlin:20220126T193000
DTSTAMP:20260422T120413
CREATED:20220125T134546Z
LAST-MODIFIED:20220125T134546Z
UID:67748-1643218200-1643225400@www.vc-magazin.de
SUMMARY:35. Münchner Unternehmenssteuerforum
DESCRIPTION:Das 35. Münchner Unternehmenssteuerforum mit dem Thema „Das Optionsmodell des Körperschaftsteuer-Modernisierungsgesetzes“ findet dieses Jahr im Literaturhaus München als Online-Veranstaltung statt.
URL:https://www.vc-magazin.de/event/35-muenchner-unternehmenssteuerforum/
LOCATION:online
ATTACH;FMTTYPE=image/jpeg:https://www.vc-magazin.de/wp-content/uploads/2022/01/cropped-Muenchner-Unternehmenssteuerforum.jpg
END:VEVENT
BEGIN:VEVENT
DTSTART;VALUE=DATE:20220128
DTEND;VALUE=DATE:20220130
DTSTAMP:20260422T120413
CREATED:20201218T143830Z
LAST-MODIFIED:20210311T094311Z
UID:65075-1643328000-1643500799@www.vc-magazin.de
SUMMARY:Chance Messe Gießen 2022
DESCRIPTION:Die Chance ist die Fachmesse in Gießen für Ausbildung\, Studium\, Weiterbildung und Fachkräfte. Diese Messe bietet Unternehmen\, öffentlichen und privaten Bildungseinrichtungen\, Verbänden und weiteren Institutionen die Möglichkeit ein interessiertes Publikum zu erreichen und somit Kontakte zu potentiellen Mitarbeitern\, Unternehmen und Schülern zu knüpfen. \nDie Chance findet vom 28.-29.1.22 statt.
URL:https://www.vc-magazin.de/event/chance-messe-giessen-2021/
LOCATION:Messe Gießen
END:VEVENT
END:VCALENDAR