BEGIN:VCALENDAR
VERSION:2.0
PRODID:-//VC Magazin - ECPv6.15.15//NONSGML v1.0//EN
CALSCALE:GREGORIAN
METHOD:PUBLISH
X-ORIGINAL-URL:https://www.vc-magazin.de
X-WR-CALDESC:Veranstaltungen für VC Magazin
REFRESH-INTERVAL;VALUE=DURATION:PT1H
X-Robots-Tag:noindex
X-PUBLISHED-TTL:PT1H
BEGIN:VTIMEZONE
TZID:Europe/Berlin
BEGIN:DAYLIGHT
TZOFFSETFROM:+0100
TZOFFSETTO:+0200
TZNAME:CEST
DTSTART:20210328T010000
END:DAYLIGHT
BEGIN:STANDARD
TZOFFSETFROM:+0200
TZOFFSETTO:+0100
TZNAME:CET
DTSTART:20211031T010000
END:STANDARD
BEGIN:DAYLIGHT
TZOFFSETFROM:+0100
TZOFFSETTO:+0200
TZNAME:CEST
DTSTART:20220327T010000
END:DAYLIGHT
BEGIN:STANDARD
TZOFFSETFROM:+0200
TZOFFSETTO:+0100
TZNAME:CET
DTSTART:20221030T010000
END:STANDARD
BEGIN:DAYLIGHT
TZOFFSETFROM:+0100
TZOFFSETTO:+0200
TZNAME:CEST
DTSTART:20230326T010000
END:DAYLIGHT
BEGIN:STANDARD
TZOFFSETFROM:+0200
TZOFFSETTO:+0100
TZNAME:CET
DTSTART:20231029T010000
END:STANDARD
END:VTIMEZONE
BEGIN:VEVENT
DTSTART;VALUE=DATE:20220218
DTEND;VALUE=DATE:20220219
DTSTAMP:20260422T103553
CREATED:20220125T084153Z
LAST-MODIFIED:20220208T094627Z
UID:67742-1645142400-1645228799@www.vc-magazin.de
SUMMARY:4C Accelerator Tübingen
DESCRIPTION:Registriert euch für den kostenlosen „4C Accelerator Tübingen“ der Medical Innovations Incubator GmbH! Das Qualifizierungsprogramm richtet sich an internationale Gründungsinteressierte und Startups aus dem medizinischen Life Science und Health Sektor.\nBewerbt euch bis zum 18.02.2022 auf unserer Website.
URL:https://www.vc-magazin.de/event/4c-accelerator-tuebingen/
ATTACH;FMTTYPE=image/png:https://www.vc-magazin.de/wp-content/uploads/2022/01/4C-Accelerator-Tuebingen.png
END:VEVENT
END:VCALENDAR