BEGIN:VCALENDAR
VERSION:2.0
PRODID:-//VC Magazin - ECPv6.15.15//NONSGML v1.0//EN
CALSCALE:GREGORIAN
METHOD:PUBLISH
X-WR-CALNAME:VC Magazin
X-ORIGINAL-URL:https://www.vc-magazin.de
X-WR-CALDESC:Veranstaltungen für VC Magazin
REFRESH-INTERVAL;VALUE=DURATION:PT1H
X-Robots-Tag:noindex
X-PUBLISHED-TTL:PT1H
BEGIN:VTIMEZONE
TZID:Europe/Berlin
BEGIN:DAYLIGHT
TZOFFSETFROM:+0100
TZOFFSETTO:+0200
TZNAME:CEST
DTSTART:20210328T010000
END:DAYLIGHT
BEGIN:STANDARD
TZOFFSETFROM:+0200
TZOFFSETTO:+0100
TZNAME:CET
DTSTART:20211031T010000
END:STANDARD
BEGIN:DAYLIGHT
TZOFFSETFROM:+0100
TZOFFSETTO:+0200
TZNAME:CEST
DTSTART:20220327T010000
END:DAYLIGHT
BEGIN:STANDARD
TZOFFSETFROM:+0200
TZOFFSETTO:+0100
TZNAME:CET
DTSTART:20221030T010000
END:STANDARD
BEGIN:DAYLIGHT
TZOFFSETFROM:+0100
TZOFFSETTO:+0200
TZNAME:CEST
DTSTART:20230326T010000
END:DAYLIGHT
BEGIN:STANDARD
TZOFFSETFROM:+0200
TZOFFSETTO:+0100
TZNAME:CET
DTSTART:20231029T010000
END:STANDARD
END:VTIMEZONE
BEGIN:VEVENT
DTSTART;VALUE=DATE:20220531
DTEND;VALUE=DATE:20220602
DTSTAMP:20260422T042318
CREATED:20220307T120255Z
LAST-MODIFIED:20220307T123645Z
UID:68019-1653955200-1654127999@www.vc-magazin.de
SUMMARY:0100 Conference DACH in Vienna
DESCRIPTION:The in-person conference that brings together 250+ PE and VC international leaders looking at the DACH region for the 8th time. Hamilton Lane\, Adams Street Partners\, Top Tier Capital Partners\, Wilshire Private Markets\, EIF\, Alpha Associates\, Balderton Capital\, DN Capital\, Earlybird Venture Capital\, Altor Equity Partners\, Paragon Partners\, Redalpine\, aws Fondsmanagement are just some of the speakers that are already confirmed.
URL:https://www.vc-magazin.de/event/0100-conference-dach-in-vienna/
LOCATION:Palais Auersperg\, Auerspergstraße 1\, Wien\, Wien\, 1080\, Österreich
END:VEVENT
BEGIN:VEVENT
DTSTART;VALUE=DATE:20220601
DTEND;VALUE=DATE:20220603
DTSTAMP:20260422T042318
CREATED:20220126T122932Z
LAST-MODIFIED:20220126T122932Z
UID:67777-1654041600-1654214399@www.vc-magazin.de
SUMMARY:VIR Online Innovationstage 2022
DESCRIPTION:Die VIR Online Innovationstage 2022 stehen am 1. und 2. Juni 2022 unter dem Leitthema „Future of Travel“. Durch sie hat der Verband Internet Reisevertrieb e. V. ein professionelles Forum geschaffen\, in welchem Fachvorträge und Diskussionen zu wichtigen Zukunftsthemen wie Nachhaltigkeit und zu neuen Technologien wie Künstlicher Intelligenz gehalten werden.
URL:https://www.vc-magazin.de/event/vir-online-innovationstage-2022/
LOCATION:Messe Berlin\, Messedamm 22\, Berlin\, 14055\, Deutschland
ATTACH;FMTTYPE=image/png:https://www.vc-magazin.de/wp-content/uploads/2022/01/voit-logo.png
END:VEVENT
BEGIN:VEVENT
DTSTART;VALUE=DATE:20220601
DTEND;VALUE=DATE:20220603
DTSTAMP:20260422T042318
CREATED:20220426T130706Z
LAST-MODIFIED:20220426T132452Z
UID:68294-1654041600-1654214399@www.vc-magazin.de
SUMMARY:Lead Today. Shape Tomorrow.
DESCRIPTION:LTST2022 is Europe’s leading event for female entrepreneurship\, creating meaningful connections between more than 2.500 participants in a hybrid format. It is where startup and tech opinion leaders come together to contribute to an ecosystem with equal opportunities for everyone.
URL:https://www.vc-magazin.de/event/lead-today-shape-tomorrow/
LOCATION:Wien und online\, Palais Wertheim\, Wien\, Wien\, 1010\, Österreich
ATTACH;FMTTYPE=image/png:https://www.vc-magazin.de/wp-content/uploads/2022/04/6953938F-9D3C-4AA6-8BD7-1A9DA916F541.png
END:VEVENT
BEGIN:VEVENT
DTSTART;VALUE=DATE:20220601
DTEND;VALUE=DATE:20220602
DTSTAMP:20260422T042318
CREATED:20220518T084416Z
LAST-MODIFIED:20220518T084751Z
UID:68438-1654041600-1654127999@www.vc-magazin.de
SUMMARY:15. Deutscher Innovationsgipfel
DESCRIPTION:Digitalpioniere\, Vordenker\, Wegbereiter und andere kreative Köpfe treffen sich\, um ihr Wissen und ihre Erfahrungen miteinander zu teilen. Menschen mit Engagement\, Herzblut und Empathie kommen zusammen\, Partnerschaften und Allianzen entstehen\, neue Kunden werden gewonnen und gemeinsam Geschäftsmodelle mit Zukunftsperspektive werden entwickelt.
URL:https://www.vc-magazin.de/event/15-deutscher-innovationsgipfel/
LOCATION:The Charles Hotel\, Sophienstraße 28\, München \, 80333
END:VEVENT
BEGIN:VEVENT
DTSTART;VALUE=DATE:20220608
DTEND;VALUE=DATE:20220609
DTSTAMP:20260422T042318
CREATED:20220114T093327Z
LAST-MODIFIED:20220126T135644Z
UID:67693-1654646400-1654732799@www.vc-magazin.de
SUMMARY:Investor Summit Liechtenstein 2022
DESCRIPTION:Aufgrund der anhaltenden Pandemie wurde der Investor Summit Liechtenstein auf den 08. Juni 2022 verschoben. Das Event soll Start-ups und KMU auf Kapitalsuche mit hochkarätigen Investoren und Entscheidungsträgern vernetzen. Der Fokus der Veranstaltung ist die Unternehmenspräsentationen.\nEs werden Pitches ausgewählter Start-ups sowie Auftritte von Investor Carsten Maschmeyer («Die Höhle der Löwen»)\, LGT-Verwaltungsratspräsident Prinz Max von Liechtenstein und Liechtensteins Wirtschaftsministerin Sabine Monauni stattfinden.
URL:https://www.vc-magazin.de/event/investor-summit-liechtenstein-2022/
LOCATION:SAL\, Saal am Lindenplatz in Schaan\, Liechtenstein
ATTACH;FMTTYPE=image/jpeg:https://www.vc-magazin.de/wp-content/uploads/2022/01/Downloadisl.jpg
ORGANIZER;CN="Verein Investor Summit Liechstenstein":MAILTO:info@investorsummit.li
END:VEVENT
BEGIN:VEVENT
DTSTART;VALUE=DATE:20220614
DTEND;VALUE=DATE:20220616
DTSTAMP:20260422T042318
CREATED:20220125T143717Z
LAST-MODIFIED:20220404T094300Z
UID:67747-1655164800-1655337599@www.vc-magazin.de
SUMMARY:Investor Days Thüringen
DESCRIPTION:Das Event Investor Days Thüringen (IDT) bringt die Start-up Community und Investoren zusammen\, um Innovationen ins Spotlight zu stellen\, Kooperationen zu erzeugen und den einen Dealflow zu generieren. Die zweitägige Veranstaltung bietet bahnbrechende Technologien verschiedener Branchen\, Know-how-Impulsen\, Pitch Awards und Vernetzungsmöglichkeiten mit nationalen und internationalen Stakeholdern des Innovationsökosystems\, Start-ups\, Scale-ups\, Investoren und Industrie. Der erste Tag hat wieder den Fokus auf die Start-ups\, der 2. Tag steht im Zeichen der Wachstumsunternehmen und wird den Schwerpunkt Life Science haben. Die Zukunftskonferenz von medways e.V. wird am 2. Tag der IDT stattfinden. \nPreise:\nGäste: early Bird: 50€ (bis 01.05.2022) danach 75€\nInvestoren: early Bird: 150€ (bis 01.05.2022) danach 200€
URL:https://www.vc-magazin.de/event/investor-days-thueringen-2/
LOCATION:Multifunktionsarena Erfurt\, Arnstädter Str. 55\, Erfurt\, 99096
ATTACH;FMTTYPE=image/jpeg:https://www.vc-magazin.de/wp-content/uploads/2022/01/unnamed-1.jpg
END:VEVENT
BEGIN:VEVENT
DTSTART;VALUE=DATE:20220614
DTEND;VALUE=DATE:20220616
DTSTAMP:20260422T042318
CREATED:20220208T105700Z
LAST-MODIFIED:20220208T110214Z
UID:67835-1655164800-1655337599@www.vc-magazin.de
SUMMARY:High-Tech Gründerfonds Family Day 2022
DESCRIPTION:Der High-Tech Gründerfonds Family Day ist eine Networking-Veranstaltung für die Venture Capital- und Start-up-Szene. Private Investoren\, Business Angels\, Vertreter von VC-Fonds und öffentlichen Investoren erhalten einen Zugang zum Portfolio des HTGF. Gründer haben die Möglichkeit\, Kontakte zu potenziellen Investoren für eine Folgefinanzierung zu knüpfen. Es ist ein Programm mit visionären Keynotes renommierter Speaker\, Panels zu aktuellen Themen\, Workshops und spannenden Start-up-Pitches ausgewählter HTGF-Portfoliounternehmen zu erwarten.
URL:https://www.vc-magazin.de/event/high-tech-gruenderfonds-family-day-2022/
LOCATION:Kameha Grand Bonn\, Am Bonner Bogen 1\, Bonn\, NRW\, 53227\, Deutschland
ATTACH;FMTTYPE=image/png:https://www.vc-magazin.de/wp-content/uploads/2022/02/FF678144-C844-48FE-8A10-6F819F237D30.png
END:VEVENT
BEGIN:VEVENT
DTSTART;VALUE=DATE:20220614
DTEND;VALUE=DATE:20220618
DTSTAMP:20260422T042318
CREATED:20220208T111253Z
LAST-MODIFIED:20220309T110347Z
UID:67837-1655164800-1655510399@www.vc-magazin.de
SUMMARY:SuperReturn International 2022
DESCRIPTION:Neue Formate\, Diskussionsrunden\, Möglichkeiten des Netzwerken\, Gespräche und noch mehr hat das Event SuperReturn International 2022 im Juni zu bieten. Um 10% Nachlass zu erhalten\, kann folgender Discount-Code genutzt werden: FKR2632VCM
URL:https://www.vc-magazin.de/event/superreturn-international-2022/
LOCATION:InterContinental Hotel Berlin\, Budapester Str. 2\, Berlin\, 10787
ATTACH;FMTTYPE=image/jpeg:https://www.vc-magazin.de/wp-content/uploads/2022/02/SRI-VC-Magazine-banner.jpg
END:VEVENT
BEGIN:VEVENT
DTSTART;VALUE=DATE:20220614
DTEND;VALUE=DATE:20220617
DTSTAMP:20260422T042318
CREATED:20220309T105442Z
LAST-MODIFIED:20220309T110510Z
UID:68041-1655164800-1655423999@www.vc-magazin.de
SUMMARY:SuperVenture
DESCRIPTION:Not just another tech event. SuperVenture gives you three days full of insight and networking\nfocused on VC and LP perspectives. Take stock of 2021 and the rise in European technology\, get to grips with the latest trends in Web 3.0\, health-tech and LP/VC relations\, and make lasting connections with industry peers. The event gives the opportunity to meet 450+ senior attendees\, 130+ local and international LPs and 250+ leading VCs to network with. Create new connections and catch up with your peers through a series of networking drinks\nreceptions\, interactive boardroom discussions\, hosted roundtable discussions\, speed networking and one-to-one meetings. Use VIP code FKR2643VCM for a 10% discount.
URL:https://www.vc-magazin.de/event/superventure/
LOCATION:Hotel Palace Berlin\,  Budapester Str. 45\, Berlin\, 10787
ATTACH;FMTTYPE=image/jpeg:https://www.vc-magazin.de/wp-content/uploads/2022/03/SV-300x250..jpg
END:VEVENT
BEGIN:VEVENT
DTSTART;TZID=Europe/Berlin:20220615T121500
DTEND;TZID=Europe/Berlin:20220615T190000
DTSTAMP:20260422T042318
CREATED:20220530T114723Z
LAST-MODIFIED:20220530T115012Z
UID:68504-1655295300-1655319600@www.vc-magazin.de
SUMMARY:PE Legal
DESCRIPTION:Wie beeinflusst die ver­än­der­te geo­po­li­ti­sche La­ge die pri­va­ten Märk­te? Welche Aus­wir­kun­gen hat die Co­ro­na-Pan­de­mie auf die glo­ba­len Lie­fer­ket­ten? Neben diesen Fragen werden bei PE Legal am 15.6. in Berlin auch Themen wie In­vest­ments in Cryp­to As­sets oder ESG- und Continuation Funds beleuchtet. Jetzt kostenlos anmelden und mitdiskutieren! Alle Infos zum Programm und zur Anmeldung finden Sie »hier«.
URL:https://www.vc-magazin.de/event/pe-legal/
LOCATION:Waldorf Astoria Berlin\, Hardenbergstraße 28\, Berlin\, Berlin\, 10623\, Deutschland
ATTACH;FMTTYPE=image/png:https://www.vc-magazin.de/wp-content/uploads/2022/05/61BC05BB-AA80-4367-80CF-4BC385B9BE33.png
END:VEVENT
BEGIN:VEVENT
DTSTART;TZID=Europe/Berlin:20220616T090000
DTEND;TZID=Europe/Berlin:20220616T170000
DTSTAMP:20260422T042318
CREATED:20220426T140141Z
LAST-MODIFIED:20220426T140330Z
UID:68298-1655370000-1655398800@www.vc-magazin.de
SUMMARY:VC in Africa -  The World's fastest growing Venture Landscape
DESCRIPTION:In 2021\, the Africa tech ecosystem grew faster than any other region in the world. Join us to our unique venue in the heart of Berlin on value and impact creation in the African VC space. This is a perfect opportunity to learn about investment opportunities\, hear African success stories and meet local GPs and entrepreneurs.
URL:https://www.vc-magazin.de/event/vc-in-africa-the-worlds-fastest-growing-venture-landscape/
LOCATION:Allianz Forum\, Pariser Platz 6\, Berlin\, Berlin\, 10117\, Deutschland
ATTACH;FMTTYPE=image/jpeg:https://www.vc-magazin.de/wp-content/uploads/2022/04/5CEA1CB6-C6DD-4FAC-8A20-5734DAD791C7.jpeg
END:VEVENT
BEGIN:VEVENT
DTSTART;TZID=Europe/Berlin:20220620T104500
DTEND;TZID=Europe/Berlin:20220622T153000
DTSTAMP:20260422T042318
CREATED:20220518T090428Z
LAST-MODIFIED:20220518T090705Z
UID:68440-1655721900-1655911800@www.vc-magazin.de
SUMMARY:8. Zukunftskongress
DESCRIPTION:Der 8. Zukunftskongress Staat & Verwaltung 2022 hat sich zur Aufgabe gemacht\, 10 Handlungsfelder zu identifizieren\, die aus den Erfahrungen der vergangenen Jahre (bzw. Jahrzehnte) einen wesentlichen Beitrag leisten sollen\, damit Staat und Verwaltung schneller im digitalen Heute ankommen. Die nachfolgenden Punkte beruhen auf Ergebnisinterpretationen von Studien von Wegweiser (u. a. Zukunftspanel Staat & Verwaltung) in Zusammenarbeit mit Hertie-School sowie weiteren Sekundärquellen und sollen eine lebhafte\, ergebnisorientierte Debatte auf dem Zukunftskongress sowie auf dem Weg dahin befeuern.
URL:https://www.vc-magazin.de/event/8-zukunftskongress/
LOCATION:bcc Berlin Congress Center GmbH\, Alexanderstraße 11\, Berlin\, 10178\, Deutschland
END:VEVENT
BEGIN:VEVENT
DTSTART;TZID=Europe/Berlin:20220622T150000
DTEND;TZID=Europe/Berlin:20220622T171500
DTSTAMP:20260422T042318
CREATED:20220307T124140Z
LAST-MODIFIED:20220307T124313Z
UID:68026-1655910000-1655918100@www.vc-magazin.de
SUMMARY:Forward-thinking CFO in a digital era: deep dive (Webinar powered by Vestberry)
DESCRIPTION:During this webinar\, innovative case studies of the digitalization process in top\nventure capital funds will be shared. What forms of the digitalization CFOs need to explore to secure a data-driven approach? How does the CFO mindset need to change when it comes to investing in disruptive innovation? What can simplify the decision-making process for CFO while maintaining correct data?
URL:https://www.vc-magazin.de/event/forward-thinking-cfo-in-a-digital-era-deep-dive-webinar-powered-by-vestberry/
LOCATION:online
END:VEVENT
BEGIN:VEVENT
DTSTART;TZID=Europe/Berlin:20220622T163000
DTEND;TZID=Europe/Berlin:20220622T193000
DTSTAMP:20260422T042318
CREATED:20220430T115443Z
LAST-MODIFIED:20220430T115443Z
UID:68334-1655915400-1655926200@www.vc-magazin.de
SUMMARY:Tech-M&A Executive Briefing
DESCRIPTION:Alles Wissenswerte rund um Fundraising und M&A in diversen Technologie-Sektoren erfahren Sie bei dem Tech-M&A Executive Briefing in Berlin.\nDie Veranstaltung von Hampleton gemeinsam mit Osborne Clarke findet am 22. Juni 2022 statt und informiert Sie unter anderem\, welche Möglichkeiten der M&A-Markt für Ihr Unternehmen bereit hält.
URL:https://www.vc-magazin.de/event/tech-ma-executive-briefing/
LOCATION:Osborne Clarke\, Schinkelplatz 5\, Berlin\, 10117\, Deutschland
ATTACH;FMTTYPE=image/jpeg:https://www.vc-magazin.de/wp-content/uploads/2022/04/https___cdn.evbuc_.com_images_251478159_571931123045_1_original.jpg
END:VEVENT
BEGIN:VEVENT
DTSTART;VALUE=DATE:20220629
DTEND;VALUE=DATE:20220701
DTSTAMP:20260422T042318
CREATED:20220607T092436Z
LAST-MODIFIED:20220607T092436Z
UID:68620-1656460800-1656633599@www.vc-magazin.de
SUMMARY:Bits & Pretzels HealthTech Conference
DESCRIPTION:On 29–30 June 2022\, the first annual Bits & Pretzels HealthTech Conference will take place at ICM Munich. Don’t miss when the best founders\, startups\, and scaleups invite all other players in the healthcare ecosystem to join them in forging new alliances that will shape a healthier future.
URL:https://www.vc-magazin.de/event/bits-pretzels-healthtech-conference/
LOCATION:ICM – Internationales Congress Center München\, Messegelände\, München\, 81823
END:VEVENT
BEGIN:VEVENT
DTSTART;VALUE=DATE:20220630
DTEND;VALUE=DATE:20220702
DTSTAMP:20260422T042318
CREATED:20220307T133417Z
LAST-MODIFIED:20220307T133828Z
UID:68028-1656547200-1656719999@www.vc-magazin.de
SUMMARY:ICT Spring 2022
DESCRIPTION:ICT Spring is a yearly global tech conference hosting an array of international professionals\,\nit offers participants a unique opportunity to deepen their Digital knowledge\, capture the\nvalue of the fast-growing FinTech\, drive innovation in the Supply Chain industry\, pierce the\nsecrets of IT Security and explore the impact of Space technologies on terrestrial\nbusinesses; all through high level conferences\, exhibitions and demonstrations of the latest\ntech trends and innovations. ICT Spring is hosted by Farvest in order to stimulate digital\ntransformation\, illustrate the latest tech trends and present growth opportunities for start-ups and SMEs.
URL:https://www.vc-magazin.de/event/ict-spring-2022/
LOCATION:LuxExpo The Box\, Luxembourg
ATTACH;FMTTYPE=image/jpeg:https://www.vc-magazin.de/wp-content/uploads/2022/03/ICT-Spring_2022_Banner_300x250_V01.-1.jpg
END:VEVENT
BEGIN:VEVENT
DTSTART;TZID=Europe/Berlin:20220630T090000
DTEND;TZID=Europe/Berlin:20220630T183000
DTSTAMP:20260422T042318
CREATED:20220518T091703Z
LAST-MODIFIED:20220518T091703Z
UID:68442-1656579600-1656613800@www.vc-magazin.de
SUMMARY:MUPET 2022
DESCRIPTION:Auf der MUPET Munich Private Equity Training werden jährlich die aktuellen Themen und Entwicklungen der Private Equity-Branche vorgestellt und diskutiert. Die Private Equity-Veranstaltung bietet zahlreiche Vorträge und Paneldiskussionen mit führenden Expertinnen und Experten in den Bereichen Private Funds\, M&A und Tax.
URL:https://www.vc-magazin.de/event/mupet-2022/
LOCATION:Literaturhaus München\, Salvatorplatz 1\, München\, 80333\, Deutschland
END:VEVENT
BEGIN:VEVENT
DTSTART;TZID=Europe/Berlin:20220630T190000
DTEND;TZID=Europe/Berlin:20220701T190000
DTSTAMP:20260422T042318
CREATED:20220621T103508Z
LAST-MODIFIED:20220621T103508Z
UID:68740-1656615600-1656702000@www.vc-magazin.de
SUMMARY:Gründerszene Spätschicht Berlin
DESCRIPTION:Bei der Gründerszene Spätschicht Berlin trifft sich das Who’s who der Startup-Szene. Hier kommen Gründende\, Business Angels\, VCs und digitale Enthusiasten zum entspannten After Work zusammen. Für einen Discount nutzen Sie den Rabattcode „VentureCapital_Magazin20“.
URL:https://www.vc-magazin.de/event/gruenderszene-spaetschicht-berlin/
LOCATION:Napoleon Komplex\, Modersohnstraße 35-45\, Berlin\, Berlin\, 10245\, Deutschland
END:VEVENT
END:VCALENDAR