BEGIN:VCALENDAR
VERSION:2.0
PRODID:-//VC Magazin - ECPv6.15.15//NONSGML v1.0//EN
CALSCALE:GREGORIAN
METHOD:PUBLISH
X-WR-CALNAME:VC Magazin
X-ORIGINAL-URL:https://www.vc-magazin.de
X-WR-CALDESC:Veranstaltungen für VC Magazin
REFRESH-INTERVAL;VALUE=DURATION:PT1H
X-Robots-Tag:noindex
X-PUBLISHED-TTL:PT1H
BEGIN:VTIMEZONE
TZID:Europe/Berlin
BEGIN:DAYLIGHT
TZOFFSETFROM:+0100
TZOFFSETTO:+0200
TZNAME:CEST
DTSTART:20210328T010000
END:DAYLIGHT
BEGIN:STANDARD
TZOFFSETFROM:+0200
TZOFFSETTO:+0100
TZNAME:CET
DTSTART:20211031T010000
END:STANDARD
BEGIN:DAYLIGHT
TZOFFSETFROM:+0100
TZOFFSETTO:+0200
TZNAME:CEST
DTSTART:20220327T010000
END:DAYLIGHT
BEGIN:STANDARD
TZOFFSETFROM:+0200
TZOFFSETTO:+0100
TZNAME:CET
DTSTART:20221030T010000
END:STANDARD
BEGIN:DAYLIGHT
TZOFFSETFROM:+0100
TZOFFSETTO:+0200
TZNAME:CEST
DTSTART:20230326T010000
END:DAYLIGHT
BEGIN:STANDARD
TZOFFSETFROM:+0200
TZOFFSETTO:+0100
TZNAME:CET
DTSTART:20231029T010000
END:STANDARD
END:VTIMEZONE
BEGIN:VEVENT
DTSTART;VALUE=DATE:20220922
DTEND;VALUE=DATE:20221209
DTSTAMP:20260421T142424
CREATED:20220724T095959Z
LAST-MODIFIED:20221118T104844Z
UID:68999-1663804800-1670543999@www.vc-magazin.de
SUMMARY:M&A Lehrgang 2022
DESCRIPTION:Der Lehrgang vermittelt in 10 Modulen die Grundlagen für eine erfolgreiche Durchführung von M&A-Transaktionen. Expertinnen und Experten verschiedenster Fachbereiche werden vor allem Berufsträgerinnen und Berufsträgern mit bis zu drei Jahren Berufserfahrung aus allen Bereichen der M&A-Praxisdurch einen interdisziplinären Austausch ein abgerundetes Bild der aktuellen Transaktionspraxis bieten. Aber auch Interessierte können im Zeitraum 22.09. – 08.12.2022 jeden Donnerstag von 17:30 Uhr bis 20:00 Uhr am M&A Lehrgang visuell oder vor Ort in den Kanzleiräumen von POELLATH in Frankfurt teilnehmen.
URL:https://www.vc-magazin.de/event/ma-lehrgang-2022/
LOCATION:hybrid – Frankfurt am Main und visuell
END:VEVENT
BEGIN:VEVENT
DTSTART;TZID=Europe/Berlin:20221201T163000
DTEND;TZID=Europe/Berlin:20221201T193000
DTSTAMP:20260421T142424
CREATED:20221123T091300Z
LAST-MODIFIED:20221123T091300Z
UID:70014-1669912200-1669923000@www.vc-magazin.de
SUMMARY:Sächsisches Gründerforum I: Geschäftsmodelle entwickeln und innovieren
DESCRIPTION:Auf dem Sächsischen Gründerforum am 1. Dezember 2022 erwartet Gründungsinteressierte von 16:30 Uhr bis 19:30 Uhr im Leuchtenbau Leipzig ein Mix aus Expertenvorträgen\, Fachdiskussionen und persönlicher Austausch rund um das Thema „Geschäftsmodelle (weiter-) entwickeln und innovieren“. Am Ende des Tages wird der Wettbewerb um den Sächsischen Gründerpreis 2023 eröffnet. \nDie von futureSAX – der Innovationsplattform des Freistaates Sachsen ausgerichtete Veranstaltung stellt gleichzeitig den Auftakt für den Sächsischen Staatspreis für Gründen 2023 dar\, dessen Wettbewerb am Ende des Tages in Anwesenheit der Jurorin Sabine Fuhrmann (Spirit Legal) und des futureSAX-Alumnus Benedict Rehbein (Geschäftsführer eCovery\, Publikumspreisträger 2022) sowie eines Vertreters des SMWA eröffnet wird. \nDas Event ist besonders für Sächsische Gründende (in der Vorgründungsphase und Gründungsphase) mit innovativen Geschäftsmodellen geplant.
URL:https://www.vc-magazin.de/event/saechsisches-gruenderforum-2022/
LOCATION:Leuchtenbau Eventlocation\, Riesaer Str. 56\, Leipzig\, Sachsen\, 04329\, Deutschland
END:VEVENT
BEGIN:VEVENT
DTSTART;TZID=Europe/Berlin:20221201T190000
DTEND;TZID=Europe/Berlin:20221202T010000
DTSTAMP:20260421T142424
CREATED:20220621T114500Z
LAST-MODIFIED:20220621T114500Z
UID:68756-1669921200-1669942800@www.vc-magazin.de
SUMMARY:Gründerszene Spätschicht Berlin – Christmas Edition
DESCRIPTION:Bei der Gründerszene Spätschicht Berlin trifft sich das Who’s who der Startup-Szene. Hier kommen Gründende\, Business Angels\, VCs und digitale Enthusiasten zum entspannten After Work zusammen. Für einen Discount können Sie „VentureCapital_Magazin20“ nutzen.
URL:https://www.vc-magazin.de/event/gruenderszene-spaetschicht-berlin-christmas-edition/
LOCATION:Napoleon Komplex\, Modersohnstraße 35-45\, Berlin\, Berlin\, 10245\, Deutschland
END:VEVENT
BEGIN:VEVENT
DTSTART;TZID=Europe/Berlin:20221207T180000
DTEND;TZID=Europe/Berlin:20221207T230000
DTSTAMP:20260421T142424
CREATED:20221206T141356Z
LAST-MODIFIED:20221206T141430Z
UID:70194-1670436000-1670454000@www.vc-magazin.de
SUMMARY:shortlist Launch Event
DESCRIPTION:Heute schon die nächste Generation von Gründer*innen und VCs kennenlernen\n \nNach 50+ Besuchen bei Europas erfolgreichsten Startups und VCs wird mit der Community aus 500+ top-tier entrepreneurial Talenten shortlist gelaunched. Shortlist vernetzt die nächste Generation (GenZ) von ambitionierten Tech- und Business Talenten miteinander und gleichzeitig mit erstklassigen Startups\, VCs und Unternehmen (z.B. Tesla\, Enpal\, Sumup\, Celus\, Charles\, Lightspeed Ventures\, Earlybird Ventures\, Project A Ventures). \nZum offiziellen Launch Event der shortlist Brand\, am Abend des 7. Dezember in der Factory am Görlitzerpark\, sind neben Größen aus der Startup Branche z.B. Julian Teicke und Thomas Bachem zum ersten Mal auch Pressevertreter eingeladen. \nAuf der Startup Ecosystem Tours wird regelmäßig mit 30 ausgewählten Talenten für 3 Tage eine Startup-relevante\, europäische Stadt besucht\, um dort Start-ups und VCs näher kennenzulernen. Beim kommenden Trip (8. + 9. Dezember) wird unter anderem die Tesla Giga Factory\, Enpal\, Flink\, HV Capital\, Cherry Ventures\, Visonaries Club\, La Fagmila\, Target Global\, bunch\, KoRo und Surein besucht.
URL:https://www.vc-magazin.de/event/shortlist-launch-berlin/
LOCATION:Factory am Görlitzerpark\, Lohmühlenstraße 65\, Berlin\, 12435\, Deutschland
END:VEVENT
BEGIN:VEVENT
DTSTART;TZID=Europe/Berlin:20221214T140000
DTEND;TZID=Europe/Berlin:20221214T235900
DTSTAMP:20260421T142425
CREATED:20220803T112715Z
LAST-MODIFIED:20221027T094625Z
UID:69083-1671026400-1671062340@www.vc-magazin.de
SUMMARY:Pitch Club #27
DESCRIPTION:Gestartet mit dem Ziel und der Idee aus der stark fragmentierten Gründerszene\nFrankfurt Rhein-Main ein solides und starkes Startup-Ökosystem aufzubauen\, ist der\nPitch Club das mittlerweile erfolgreichste Pitch Format der Region. An den vergangenen\n26 Editionen haben 263 spannende\, vorselektierte Startups teilgenommen und ihre\nUnternehmen vor insgesamt mehr als 1.000 Investoren präsentiert. Dabei hat sich der\nPitch Club von Anfang an bewusst auf das Kernproblem der Gründer fokussiert –\nnämlich auf die Kapitalbeschaffung. \nUnd das mit großem Erfolg: Von den teilnehmenden Unternehmen haben bis heute\nüber 40% – direkt oder indirekt über die am Pitch Club teilnehmenden Investoren –\neine Finanzierung erhalten. Insgesamt wurden so über den Pitch Club schon weit\nmehr als 40 Mio. EUR an Fundings vermittelt. \nAm Mittwoch\, den 14. Dezember 2022\, findet die kommende Pitch Club #27 Edition\nstatt. Bis zu zehn vorselektierte early-stage Startups mit proof of concept haben sechs\nMinuten Zeit\, um die anwesenden Investoren mit ihrem Pitch zu überzeugen. Im\nAnschluss können Einzelgespräche geführt und tiefergehende Fragen besprochen\nwerden. \nStartups können sich bis zum 27. November unter https://thepitchclub.com/startup/ bewerben. \nInvestoren können sich unter https://www.thepitchclub.com/de/investoren/\nbewerben.
URL:https://www.vc-magazin.de/event/pitch-club-27/
LOCATION:Franfurt am Main\, Frankfurt am Main\, Hessen\, Deutschland
ATTACH;FMTTYPE=image/png:https://www.vc-magazin.de/wp-content/uploads/2022/08/Pitch-Club-27_Grafik.png
END:VEVENT
END:VCALENDAR