BEGIN:VCALENDAR
VERSION:2.0
PRODID:-//VC Magazin - ECPv6.15.15//NONSGML v1.0//EN
CALSCALE:GREGORIAN
METHOD:PUBLISH
X-WR-CALNAME:VC Magazin
X-ORIGINAL-URL:https://www.vc-magazin.de
X-WR-CALDESC:Veranstaltungen für VC Magazin
REFRESH-INTERVAL;VALUE=DURATION:PT1H
X-Robots-Tag:noindex
X-PUBLISHED-TTL:PT1H
BEGIN:VTIMEZONE
TZID:Europe/Berlin
BEGIN:DAYLIGHT
TZOFFSETFROM:+0100
TZOFFSETTO:+0200
TZNAME:CEST
DTSTART:20220327T010000
END:DAYLIGHT
BEGIN:STANDARD
TZOFFSETFROM:+0200
TZOFFSETTO:+0100
TZNAME:CET
DTSTART:20221030T010000
END:STANDARD
BEGIN:DAYLIGHT
TZOFFSETFROM:+0100
TZOFFSETTO:+0200
TZNAME:CEST
DTSTART:20230326T010000
END:DAYLIGHT
BEGIN:STANDARD
TZOFFSETFROM:+0200
TZOFFSETTO:+0100
TZNAME:CET
DTSTART:20231029T010000
END:STANDARD
BEGIN:DAYLIGHT
TZOFFSETFROM:+0100
TZOFFSETTO:+0200
TZNAME:CEST
DTSTART:20240331T010000
END:DAYLIGHT
BEGIN:STANDARD
TZOFFSETFROM:+0200
TZOFFSETTO:+0100
TZNAME:CET
DTSTART:20241027T010000
END:STANDARD
END:VTIMEZONE
BEGIN:VEVENT
DTSTART;TZID=Europe/Berlin:20230118T090000
DTEND;TZID=Europe/Berlin:20230118T130000
DTSTAMP:20260421T125752
CREATED:20230111T121351Z
LAST-MODIFIED:20230111T121351Z
UID:70571-1674032400-1674046800@www.vc-magazin.de
SUMMARY:SECA Private Equity Trainings (Start)
DESCRIPTION:The SECA (Swiss Private Equity and Corporate Finance Association) offers a series of training courses to help professionals interested in private equity improve their skills. \nA series of eight training courses was designed for a wide audience\, ranging from newcomers to the private equity business to more established professionals\, but also account managers and middle and back-office staff wishing to deepen their knowledge\, professionals in finance\, banking\, insurance and pension funds. The majority of the training sessions are accredited by VSV-ASG and Cicero. \n6 modules are conducted in English and online. However\, the legal modules will be held in French and German and physically for better understanding and wording. \nMore information and the program here.
URL:https://www.vc-magazin.de/event/seca-private-equity-trainings/
LOCATION:online
END:VEVENT
BEGIN:VEVENT
DTSTART;TZID=Europe/Berlin:20230120T090000
DTEND;TZID=Europe/Berlin:20230122T170000
DTSTAMP:20260421T125752
CREATED:20221110T110145Z
LAST-MODIFIED:20221110T110145Z
UID:69837-1674205200-1674406800@www.vc-magazin.de
SUMMARY:KarriereStart 2023
DESCRIPTION:Vom 20. – 22. Januar 2023 findet die KarriereStart – Die Messe für Bildung\, Job und Gründung in Sachsen zum 24. Mal statt. \nDie Messe vereint die verschiedenen arbeitsmarktrelevanten Themenbereiche unter einem Dach. Sie bietet sowohl Schülern und Auszubildenden als auch Berufsstartern\, Profis\, Quer- und Wiedereinsteigern an drei Tagen vielfältige Gesprächs- und Bewerbungsmöglichkeiten zur beruflichen Planung in jeder Bildungs- und Karrierephase. Dabei sichert die enge Zusammenarbeit mit starken\, kompetenten Partnern die Aktualität und das hohe Niveau der Bildungs- und Arbeitsmarktthemen. \nMehr zur Veranstaltung finden Sie hier.
URL:https://www.vc-magazin.de/event/karrierestart-2023-dresden/
LOCATION:Ostragehege\, Messering 6\, Dresden\, 01067\, Deutschland
ATTACH;FMTTYPE=image/png:https://www.vc-magazin.de/wp-content/uploads/2022/11/Unbenannt.png
END:VEVENT
BEGIN:VEVENT
DTSTART;VALUE=DATE:20230123
DTEND;VALUE=DATE:20230126
DTSTAMP:20260421T125752
CREATED:20221202T114302Z
LAST-MODIFIED:20230105T142911Z
UID:70161-1674432000-1674691199@www.vc-magazin.de
SUMMARY:IPEM Cannes 2023
DESCRIPTION:Die Veranstaltung in Cannes stellt zum Jahresauftakt unter anderem eine Möglichkeit dar\, das komplexe makroökonomische Umfeld sowie die neuen Herausforderungen und Chancen zu diskutieren\, die sich für Investoren ergeben. Beginnen Sie das Jahr 2023 mit Branchenexperten und erleben Sie 3 Tage voller Treffen\, Konferenzen\, Networking und mehr! \nMehr Informationen folgen hier. \n  \n \n  \nKick off the year 2023 with the private market community and dive into 3 days of meetings\, conferences\, networking\, and more! \nMore information will be available soon. \n  \n 
URL:https://www.vc-magazin.de/event/ipem-cannes-2023/
LOCATION:Cannes Palais des Festivals\, 1 Boulevard de la Croisette\, Cannes\, 06400
ATTACH;FMTTYPE=image/gif:https://www.vc-magazin.de/wp-content/uploads/2022/12/IPEM2023_300x250_final-price1.gif
END:VEVENT
BEGIN:VEVENT
DTSTART;VALUE=DATE:20230127
DTEND;VALUE=DATE:20230129
DTSTAMP:20260421T125752
CREATED:20221110T120143Z
LAST-MODIFIED:20221110T120236Z
UID:69844-1674777600-1674950399@www.vc-magazin.de
SUMMARY:Chance 2023
DESCRIPTION:Bei der CHANCE 2023 (27.-28. Januar 2023) in Gießen werden die Themengebiete Ausbildung und Berufsorientierung\, Studium und Weiterbildung\, Berufe\, Jobs und Fachkräfte unter einem Dach vereint. \nMit dem reichhaltigen Informationsangebot ist die CHANCE Anlaufstelle Nummer 1\, wenn es um die Gestaltung der eigenen Karriere und beruflichen Zukunft geht. \nDen hohen Stellenwert und ihre wichtige Position als größte Veranstaltung dieser Art in der Region verdeutlicht das Wachstum der Messe. \nMehr Informationen und die Anmeldung finden Sie hier.
URL:https://www.vc-magazin.de/event/chance-2023-giesen/
LOCATION:Gießener Hessenhallen\, An der Hessenhalle 11\, Gießen\, 35398\, Deutschland
ATTACH;FMTTYPE=image/jpeg:https://www.vc-magazin.de/wp-content/uploads/2022/11/gieessn.jpg
END:VEVENT
END:VCALENDAR