BEGIN:VCALENDAR
VERSION:2.0
PRODID:-//VC Magazin - ECPv6.15.15//NONSGML v1.0//EN
CALSCALE:GREGORIAN
METHOD:PUBLISH
X-WR-CALNAME:VC Magazin
X-ORIGINAL-URL:https://www.vc-magazin.de
X-WR-CALDESC:Veranstaltungen für VC Magazin
REFRESH-INTERVAL;VALUE=DURATION:PT1H
X-Robots-Tag:noindex
X-PUBLISHED-TTL:PT1H
BEGIN:VTIMEZONE
TZID:Europe/Berlin
BEGIN:DAYLIGHT
TZOFFSETFROM:+0100
TZOFFSETTO:+0200
TZNAME:CEST
DTSTART:20220327T010000
END:DAYLIGHT
BEGIN:STANDARD
TZOFFSETFROM:+0200
TZOFFSETTO:+0100
TZNAME:CET
DTSTART:20221030T010000
END:STANDARD
BEGIN:DAYLIGHT
TZOFFSETFROM:+0100
TZOFFSETTO:+0200
TZNAME:CEST
DTSTART:20230326T010000
END:DAYLIGHT
BEGIN:STANDARD
TZOFFSETFROM:+0200
TZOFFSETTO:+0100
TZNAME:CET
DTSTART:20231029T010000
END:STANDARD
BEGIN:DAYLIGHT
TZOFFSETFROM:+0100
TZOFFSETTO:+0200
TZNAME:CEST
DTSTART:20240331T010000
END:DAYLIGHT
BEGIN:STANDARD
TZOFFSETFROM:+0200
TZOFFSETTO:+0100
TZNAME:CET
DTSTART:20241027T010000
END:STANDARD
END:VTIMEZONE
BEGIN:VEVENT
DTSTART;VALUE=DATE:20230208
DTEND;VALUE=DATE:20230209
DTSTAMP:20260421T112504
CREATED:20230105T124525Z
LAST-MODIFIED:20230105T124525Z
UID:70504-1675814400-1675900799@www.vc-magazin.de
SUMMARY:19th SECA Conference - Excellence in Europe
DESCRIPTION:After 30 years of hard work\, private equity has finally caught on big time across Europe\, becoming a major force in the innovation and corporate world. It is now a well-established industry that affects all segments\, sectors\, geographies\, governments\, and investment decisions. We can even boast that venture capital and private equity in Europe are rivaling the US in terms of performance. The 19th SECA Congress will focus on “Excellence in Europe” and help stimulate further insights and discussions on where we go from here. Join now! An exciting program awaits you. More details will follow soon.\n \nMore information here.
URL:https://www.vc-magazin.de/event/19th-seca-conference-excellence-in-europe/
LOCATION:SIX ConventionPoint\,  Selnaustrasse 30 \, Zürich\,  8001\, Schweiz
ATTACH;FMTTYPE=image/jpeg:https://www.vc-magazin.de/wp-content/uploads/2023/01/unnamed-scaled.jpg
END:VEVENT
BEGIN:VEVENT
DTSTART;TZID=Europe/Berlin:20230208T093000
DTEND;TZID=Europe/Berlin:20230208T180000
DTSTAMP:20260421T112504
CREATED:20221027T101919Z
LAST-MODIFIED:20221027T101919Z
UID:69608-1675848600-1675879200@www.vc-magazin.de
SUMMARY:Frankfurt Digital Finance 2023
DESCRIPTION:Frankfurt Digital Finance 2023 kommt in voller Stärke zurück! Die vierte Ausgabe der Frankfurt Digital Finance Conference findet am 8. Februar 2023 wieder als Präsenz- und Online-Veranstaltung statt. \nFrankfurt Digital Finance bringt Führungskräfte\, Investoren\, Unternehmer\, Wissenschaftler und politische Entscheidungsträger aus den wichtigsten Finanzzentren auf einer Plattform zusammen. Die Veranstaltung dient dem Ideenaustausch und der Förderung der Zusammenarbeit im europäischen digitalen Finanzökosystem. Sie unterstützt innovative Unternehmen\, Partner und Investoren zu finden\, um schneller zu wachsen\, und etablierten Finanzdienstleistern\, ihre Geschäftsmodelle zu transformieren. \nDie Konferenz bietet einen Tag voller hochwertiger Inhalte zu den Schlüsselthemen der Finanzbranche: Kryptowährungen\, Blockchain und digitale Assets\, Daten\, KI und Cloud\, digitale und nachhaltige Bank(ing)-Transformation\, ESG und Green Finance\, FinTech-Funding und Exit-Strategien. Erweitern Sie Ihr Netzwerk und lernen Sie von ausgewählten Expertinnen und Experten in Keynotes\, Panels und interaktiven Workshops. \nZu den bisherigen Rednerinnen und Rednern gehören u.a.: Julian Teicke – CEO & Gründer\, wefox Group\, Roland Folz – CEO Solarisbank\, Nicola Beer – Vizepräsidentin des Europäischen Parlaments\, Miriam Wohlfarth – Gründerin von Ratepay & banxware\, Jörg Hessenmüller – ehemaliger COO Commerzbank\, Bernd Leukert – CTO Deutsche Bank\, Jan Kemper – CFO N26\, Prof. Philipp Sandner – Leiter Blockchain Center Frankfurt School of Finance\, Ali Niknam – CEO & Gründer von bunq\, Markus Pertlwieser – CEO Penta; Dr. Tamaz Georgadze – CEO und Co- Founder Raisin\, Alex Manson\, SC Ventures of Standard Chartered Bank Singapore\, und Prof. Joachim Wuermeling – Vorstandsmitglied der Deutschen Bundesbank u.v.m. \nMehr Informationen & Tickets unter www.frankfurt-digital-finance.de
URL:https://www.vc-magazin.de/event/frankfurt-digital-finance-2023/
LOCATION:Gesellschaftshaus Palmengarten\, Palmengartenstraße 11\, Frankfurt am Main\, 60325\, Deutschland
ATTACH;FMTTYPE=image/jpeg:https://www.vc-magazin.de/wp-content/uploads/2022/10/FDF2023_v4.jpg
ORGANIZER;CN="FDF Conferences GmbH":MAILTO:mh@frankfurt-digital-finance.de
END:VEVENT
BEGIN:VEVENT
DTSTART;VALUE=DATE:20230214
DTEND;VALUE=DATE:20230215
DTSTAMP:20260421T112504
CREATED:20221202T113630Z
LAST-MODIFIED:20230130T140846Z
UID:70158-1676332800-1676419199@www.vc-magazin.de
SUMMARY:PlanB Prämierungsevent
DESCRIPTION:PlanB – Biobasiert.Business.Bayern. – der Start-up Wettbewerb für biobasierte Geschäftsideen kürt zum 5. Mal die besten Bioökonomie-Start-ups des Jahres. Nachdem die Jury die eingereichten Pitch Decks ausgewertet hat\, folgt das Prämierungsevent in Straubing & Online! \nEs wartet ein spannender Abend mit: \n\nGrußwort Roland Weigert\, Staatssekretär im Bayerischen Staatsministerium für Wirtschaft\, Landesentwicklung und Energie\nKey Note mit:\nMichael Brandkamp\, General Partner European Circular Bioeconomy Fund\nGwen Schröter\, Early Stage Impact Investor & Advisor\nPitches der Top 5 Bioökonomie Start-ups 2023\nLive-Voting „Publikumspreis“ – auch im Livestream möglich!\nMöglichkeit\, online Fragen zu stellen\nEinblick in das PlanB Ökosystem und den aktuellen PlanB Batch\n\nMehr Informationen\, zur Agenda und zur Anmeldung hier!
URL:https://www.vc-magazin.de/event/planb-praemierungsevent-2023/
LOCATION:Straubing\, Straubing\, Bayern\, Deutschland
ATTACH;FMTTYPE=image/png:https://www.vc-magazin.de/wp-content/uploads/2022/12/key_visual-e1675087572529.png
END:VEVENT
BEGIN:VEVENT
DTSTART;VALUE=DATE:20230222
DTEND;VALUE=DATE:20230223
DTSTAMP:20260421T112504
CREATED:20230131T155614Z
LAST-MODIFIED:20230202T142111Z
UID:70662-1677024000-1677110399@www.vc-magazin.de
SUMMARY:E-Commerce Germany Awards 2023
DESCRIPTION:Einmal im Jahr wird der E-Commerce Germany Award in 12 verschiedenen Kategorien verliehen. \nJedes Unternehmen\, das auf dem deutschen Markt präsent und aktiv ist und einen Beitrag zur E-Commerce-Branche in der DACH-Region leistet\, hatte die Möglichkeit an den E-commerce Germany Awards (EGA) teilzunehmen. \nMehr zum Award\, zur Verleihung und zur Registrierung hier.\n  \nZur dazugehörigen E-Commerce Berlin Expo 2023 hier.
URL:https://www.vc-magazin.de/event/e-commerce-germany-awards-2023/
END:VEVENT
BEGIN:VEVENT
DTSTART;TZID=Europe/Berlin:20230223T100000
DTEND;TZID=Europe/Berlin:20230223T170000
DTSTAMP:20260421T112504
CREATED:20230131T155005Z
LAST-MODIFIED:20230202T141845Z
UID:70659-1677146400-1677171600@www.vc-magazin.de
SUMMARY:E-commerce Berlin Expo 2023
DESCRIPTION:Die kostenlose E-commerce Berlin Expo 2023 Konferenz bietet Keynotes und Podiumsdiskussionen mit über 70 Branchenexperten von Unternehmen wie Eventim\, Thomann\, Home24\, Borussia Dortmund\, Computer BILD\, Amorelie\, Mercedes-Benz Cars\, Farfetch\, CAMP DAVID\, Zalando und Google! \nEinige Themen sind Metaverse und KI bis hin zu Sport-Merchandising\, Marktplätzen\, Shoppable Videos\, Business-Skalierung und E-Commerce-Wertschöpfung. \nHier zur Anmeldung und zur Agenda.
URL:https://www.vc-magazin.de/event/e-commerce-berlin-expo-2023/
LOCATION:STATION Berlin\, Luckenwalder Str. 4-6\, Berlin\, 10963\, Deutschland
ATTACH;FMTTYPE=image/jpeg:https://www.vc-magazin.de/wp-content/uploads/2023/01/Berlin-Expo-banner_820x312.jpg
END:VEVENT
END:VCALENDAR