BEGIN:VCALENDAR
VERSION:2.0
PRODID:-//VC Magazin - ECPv6.15.15//NONSGML v1.0//EN
CALSCALE:GREGORIAN
METHOD:PUBLISH
X-ORIGINAL-URL:https://www.vc-magazin.de
X-WR-CALDESC:Veranstaltungen für VC Magazin
REFRESH-INTERVAL;VALUE=DURATION:PT1H
X-Robots-Tag:noindex
X-PUBLISHED-TTL:PT1H
BEGIN:VTIMEZONE
TZID:Europe/Berlin
BEGIN:DAYLIGHT
TZOFFSETFROM:+0100
TZOFFSETTO:+0200
TZNAME:CEST
DTSTART:20220327T010000
END:DAYLIGHT
BEGIN:STANDARD
TZOFFSETFROM:+0200
TZOFFSETTO:+0100
TZNAME:CET
DTSTART:20221030T010000
END:STANDARD
BEGIN:DAYLIGHT
TZOFFSETFROM:+0100
TZOFFSETTO:+0200
TZNAME:CEST
DTSTART:20230326T010000
END:DAYLIGHT
BEGIN:STANDARD
TZOFFSETFROM:+0200
TZOFFSETTO:+0100
TZNAME:CET
DTSTART:20231029T010000
END:STANDARD
BEGIN:DAYLIGHT
TZOFFSETFROM:+0100
TZOFFSETTO:+0200
TZNAME:CEST
DTSTART:20240331T010000
END:DAYLIGHT
BEGIN:STANDARD
TZOFFSETFROM:+0200
TZOFFSETTO:+0100
TZNAME:CET
DTSTART:20241027T010000
END:STANDARD
END:VTIMEZONE
BEGIN:VEVENT
DTSTART;TZID=Europe/Berlin:20230822T090000
DTEND;TZID=Europe/Berlin:20230822T180000
DTSTAMP:20260421T013810
CREATED:20230327T083624Z
LAST-MODIFIED:20230327T083624Z
UID:71155-1692694800-1692727200@www.vc-magazin.de
SUMMARY:futureSAX-Pitchworkshop
DESCRIPTION:Im futureSAX-Pitchworkshop erhalten die Teilnehmenden der Sächsischen Investoren Roadshow Input und Feedback zur optimalen Kommunikation während der Pitches und die wichtigsten Punkte in Bezug auf die Vorstellung ihres Unternehmens bzw. ihrer Idee vor Investoren. \nIn Vorbereitung auf die Sächsische Investoren Roadshow findet am 22. August 2023 ab 09:00 Uhr in Dresden für die teilnehmenden Unternehmen ein Pitchworkshop statt. Dieser bereitet diese optimal auf die Veranstaltung mit den Besonderheiten eines Investorenpitches vor. \nMehr Informationen hier.
URL:https://www.vc-magazin.de/event/futuresax-pitchworkshop-2023/
LOCATION:Dresden
END:VEVENT
BEGIN:VEVENT
DTSTART;TZID=Europe/Berlin:20230829T080000
DTEND;TZID=Europe/Berlin:20230829T170000
DTSTAMP:20260421T013810
CREATED:20230829T105440Z
LAST-MODIFIED:20230829T105440Z
UID:72260-1693296000-1693328400@www.vc-magazin.de
SUMMARY:M&A Lehrgang 2023
DESCRIPTION:Der nächste Lehrgang findet von 14. September – 23. November 2023 als Präsenzveranstaltung bei POELLATH in München statt.  \nDer Lehrgang wurde von den POELLATH-Partnern Dr. Frank Thiäner und Jens Hörmann etabliert und vermittelt die Grundlagen für die erfolgreiche Durchführung von M&A-Transaktionen. Die Veranstaltungsreihe der P+ Training findet jährlich im Wechsel zwischen München und Frankfurt statt. Die beiden POELLATH-Partner\, Dr. Georg Greitemann und Dr. Peter Bujotzek\, sind für die inhaltliche Gestaltung des M&A Lehrgangs in Frankfurt zuständig. \nEr richtet sich in erster Linie an Berufsanfänger mit bis zu drei Jahren Berufserfahrung aus allen Bereichen der M&A-Praxis (z.B. Private Equity-Fonds\, Unternehmen\, Banken\, Corporate Finance-Beratung\, Wirtschaftsprüfung\, Rechts- und Steuerberatung). Aber auch Teilnehmer\, die bereits über Grundkenntnisse zu M&A-Transaktionen verfügen\, können ihr Wissen auf einzelnen Gebieten erweitern. Den Teilnehmern werden von erfahrenen M&A-Praktikern die rechtlichen und wirtschaftlichen Grundlagen von M&A-Transaktionen vermittelt. \nAlle Informationen zur Veranstaltung finden Sie hier.
URL:https://www.vc-magazin.de/event/ma-lehrgang-2023/
LOCATION:POELLATH\, Hofstatt 1\, 80331 München\, Deutschland
END:VEVENT
BEGIN:VEVENT
DTSTART;TZID=Europe/Berlin:20230830T080000
DTEND;TZID=Europe/Berlin:20230830T170000
DTSTAMP:20260421T013810
CREATED:20230830T150417Z
LAST-MODIFIED:20230830T150417Z
UID:72278-1693382400-1693414800@www.vc-magazin.de
SUMMARY:Venture Capital Forum 2023
DESCRIPTION:This year’s Venture Capital​ Forum will be taking place in Paris\, on 11-12 October 2023. \nThe Venture Capital Forum is recognised as a leading European conference for LPs and GPs engaged in VC activity. Every year LPs and GPs gather to gain insight into the evolution of VC investment and debate the key topics for the future. \nMore information\, the agenda and registration form can be found here.
URL:https://www.vc-magazin.de/event/venture-capital-forum-2023/
LOCATION:Paris
END:VEVENT
END:VCALENDAR