BEGIN:VCALENDAR
VERSION:2.0
PRODID:-//VC Magazin - ECPv6.15.15//NONSGML v1.0//EN
CALSCALE:GREGORIAN
METHOD:PUBLISH
X-ORIGINAL-URL:https://www.vc-magazin.de
X-WR-CALDESC:Veranstaltungen für VC Magazin
REFRESH-INTERVAL;VALUE=DURATION:PT1H
X-Robots-Tag:noindex
X-PUBLISHED-TTL:PT1H
BEGIN:VTIMEZONE
TZID:Europe/Berlin
BEGIN:DAYLIGHT
TZOFFSETFROM:+0100
TZOFFSETTO:+0200
TZNAME:CEST
DTSTART:20220327T010000
END:DAYLIGHT
BEGIN:STANDARD
TZOFFSETFROM:+0200
TZOFFSETTO:+0100
TZNAME:CET
DTSTART:20221030T010000
END:STANDARD
BEGIN:DAYLIGHT
TZOFFSETFROM:+0100
TZOFFSETTO:+0200
TZNAME:CEST
DTSTART:20230326T010000
END:DAYLIGHT
BEGIN:STANDARD
TZOFFSETFROM:+0200
TZOFFSETTO:+0100
TZNAME:CET
DTSTART:20231029T010000
END:STANDARD
BEGIN:DAYLIGHT
TZOFFSETFROM:+0100
TZOFFSETTO:+0200
TZNAME:CEST
DTSTART:20240331T010000
END:DAYLIGHT
BEGIN:STANDARD
TZOFFSETFROM:+0200
TZOFFSETTO:+0100
TZNAME:CET
DTSTART:20241027T010000
END:STANDARD
END:VTIMEZONE
BEGIN:VEVENT
DTSTART;VALUE=DATE:20230901
DTEND;VALUE=DATE:20230906
DTSTAMP:20260421T000223
CREATED:20230623T130326Z
LAST-MODIFIED:20230623T130326Z
UID:71767-1693526400-1693958399@www.vc-magazin.de
SUMMARY:IFA 2023
DESCRIPTION:Die IFA ist die weltweit größte Messe für Unterhaltungselektronik und Haushaltsgeräte. \nDie IFA gibt es seit 1924\, und da wir nun 99 Jahre feiern\, ist es wichtig\, einen Blick in die Vergangenheit zu werfen\, um zu sehen\, wohin wir gekommen sind und wie die IFA im Zentrum von Technologie und Innovation gestanden hat. \nExpect fireworks from IFA Next in 2023. With Berlin and the rest of Europe hosting one of the world’s most diverse and exciting startup ecosystems\, IFA decided it was time to shine a proper light on it.
URL:https://www.vc-magazin.de/event/ifa-2023/
LOCATION:Messe Berlin\, Messedamm 22\, Berlin\, 14055\, Deutschland
END:VEVENT
BEGIN:VEVENT
DTSTART;TZID=Europe/Berlin:20230904T160000
DTEND;TZID=Europe/Berlin:20230904T173000
DTSTAMP:20260421T000223
CREATED:20230821T085215Z
LAST-MODIFIED:20230821T085215Z
UID:72211-1693843200-1693848600@www.vc-magazin.de
SUMMARY:BANDakademie - Secondaries als Exitkanal: Wie realisieren?
DESCRIPTION:Aktive Angels schildern das Problem wie folgt: Als Angel ist man von Anfang an dabei\, begleitet die Entwicklung des Start-ups in der schwierigen Anfangsphase\, erlebt mit den Grünungsteams eine tolle Zusammenarbeit. Es folgt der Einstieg von ein\, zwei VC Fonds und schon bald spielt die Angel Beteiligung keine Rolle mehr. Jetzt wartet Angel nur noch auf den EXIT\,drei\, fünf … Jahre? Wäre es nicht besser\, der Business Angel könnte aussteigen\, seine Anteile verkaufen und in neue Start-ups investieren? Im angel-sächsischen Raum sehen wir bereits die Etablierung von Secondaries. Welche Ideen Angels haben\, um auch hierzulande den Investitionszyklus um Secondaries für Business Angel zu komplettieren\, darum geht es in diesem Workshop.\n \nZur Anmeldung
URL:https://www.vc-magazin.de/event/bandakademie-secondaries-als-exitkanal-wie-realisieren/
LOCATION:Online\, Deutschland
END:VEVENT
BEGIN:VEVENT
DTSTART;TZID=Europe/Berlin:20230907T190000
DTEND;TZID=Europe/Berlin:20230907T233000
DTSTAMP:20260421T000223
CREATED:20230321T141458Z
LAST-MODIFIED:20230321T141458Z
UID:71087-1694113200-1694129400@www.vc-magazin.de
SUMMARY:CTO Dinner Berlin
DESCRIPTION:Das Gründerszene CTO Dinner bringt führende Köpfe der Tech-Szene in gehobener Atmosphäre zusammen\, um sich über branchenbezogene Herausforderungen und Trends auszutauschen. \nDatum: \n7. September 2023 / 19:00 – 00:00 Uhr \nOrt: \nBerlin \nMehr Informationen hier.
URL:https://www.vc-magazin.de/event/cto-dinner-berlin-2023/
LOCATION:Berlin
END:VEVENT
BEGIN:VEVENT
DTSTART;TZID=Europe/Berlin:20230912T130000
DTEND;TZID=Europe/Berlin:20230912T180000
DTSTAMP:20260421T000223
CREATED:20230321T144131Z
LAST-MODIFIED:20230321T144131Z
UID:71090-1694523600-1694541600@www.vc-magazin.de
SUMMARY:Sächsische Investoren Roadshow
DESCRIPTION:Auf der 24. Etappe der Sächsischen Investoren Roadshow haben Sie als Kapitalgebende die exklusive Möglichkeit\, ausgewählte topaktuelle Gründungs- und Wachstumskonzepte „Made in Saxony“ kennenzulernen. Zusätzlich zu den gewohnten Pitch-Sessions sind individuelle One-on-One Meetings möglich und können vorab vereinbart werden. \nDer Freistaat Sachsen entwickelt sich zu einer der führenden Innova­ti­ons­re­gionen Europas. Hier entstehen viele innovative Ideen und Geschäfts­mo­delle. futureSAX\, die Innova­ti­ons­plattform des Freistaates Sachsen\, identi­fi­ziert und fördert poten­zi­al­trächtige Investment Cases und stellt diese im Rahmen der Sächsischen Inves­toren Roadshow vor. \nMehr Informationen hier. \n 
URL:https://www.vc-magazin.de/event/saechsische-investoren-roadshow-2023/
LOCATION:Berlin
END:VEVENT
BEGIN:VEVENT
DTSTART;TZID=Europe/Berlin:20230912T190000
DTEND;TZID=Europe/Berlin:20230912T233000
DTSTAMP:20260421T000223
CREATED:20230830T080233Z
LAST-MODIFIED:20230830T080233Z
UID:72268-1694545200-1694561400@www.vc-magazin.de
SUMMARY:21. Deutscher Gründerpreis [Verleihung]
DESCRIPTION:Aus den jeweils drei Finalisten des Deutschen Gründerpreises\, die in den Kategorien StartUp und Aufsteiger für die hohe Auszeichnung nominiert sind\, werden am Dienstag\, 12. September 2023 die Preisträger gekürt. Ebenso wird eine vorbildliche Unternehmerpersönlichkeit für ihr Lebenswerk ausgezeichnet. In den vergangenen Jahren waren dies beispielsweise Badezimmer-Visionär Klaus Grohe\, Götz Rehn (Alnatura)\, Alfred Theodor Ritter („Ritter Sport“) und Götz Werner (dm-drogerie markt). Zudem wird die Jury in diesem Jahr erneut einen Sonderpreis vergeben. Im vergangenen Jahr war dieser an Tatjana Kiel (#WeAreAllUkrainians) verliehen worden\, davor an die BioNTech-Gründer Professor Dr. Uğur Şahin und Dr. Özlem Türeci. \nDer Deutsche Gründerpreis\, ausgelobt von den Partnern stern\, Sparkassen\, ZDF und Porsche\, wird in diesem Jahr zum 21. Mal verliehen. Mit dem Preis werden jährlich Unternehmen in den unterschiedlichen Phasen ihres erfolgreichen Bestehens ausgezeichnet. \nDie Finalisten in der Kategorie StartUp\, ein- bis maximal dreijährige Unternehmen\, die ihre Geschäftsidee besonders erfolgreich am Markt etabliert haben\, sind: Edurino GmbH\, Friendly Captcha GmbH und Klim GmbH. \nIn der Kategorie Aufsteiger werden Unternehmen ausgezeichnet\, die nicht älter als neun Jahre sind und bereits ein außerordentliches Wachstum erreicht haben. Nominiert sind in diesem Jahr: DealCircle GmbH\, Enpal B.V. und happybrush GmbH.
URL:https://www.vc-magazin.de/event/21-deutscher-gruenderpreis/
LOCATION:ZDF Hauptstadt-Studio\, Berlin\, Berlin\, Deutschland
END:VEVENT
BEGIN:VEVENT
DTSTART;VALUE=DATE:20230913
DTEND;VALUE=DATE:20230915
DTSTAMP:20260421T000223
CREATED:20230123T141522Z
LAST-MODIFIED:20230406T083831Z
UID:70601-1694563200-1694735999@www.vc-magazin.de
SUMMARY:IMPACT FESTIVAL 2023
DESCRIPTION:Zu den Ersten gehören\, die sich Tickets für das IMPACT FESTIVAL am 13. – 14. Sept.\n2023 sichern! \nDas IMPACT FESTIVAL\, ein Projekt der neosfer GmbH\, hat seinen Ticketshop geöffnet und startet mit einem begrenzten Kontingent an rabattierten Tickets in den Verkauf. Wer Teil von Europas größtem B2B-Event für die nachhaltige Transformation werden möchte\, dem stehen Business Tickets während der Early-Bird-Phase für 239 Euro zur Verfügung. Rabatt gewähren die Veranstalter auch Start-ups\, NGOs und Universitätsmitarbeiter:innen. \nMit einem umfangreichen Programm verfolgt das IMPACT FESTIVAL das Ziel\, die\nnachhaltige Transformation unserer Wirtschaft maßgeblich zu beschleunigen.\nDazu treffen am 13. und 14. September 2023 zum dritten Mal in Folge Investoren\nund Unternehmen auf innovative Lösungen von Start-ups sowie erstmals in 2023\nauch auf klein- und mittelständische Unternehmen (KMUs)\, die innovative\nLösungen anbieten. Besucher:innen des Events können sich im Ausstellungsbereich inspirieren lassen und sich mit anderen Unternehmensvertretern über transformative Geschäftsmodelle sowie deren \nAnwendungsmöglichkeiten und -beispiele informieren und austauschen. Start-\nups und KMUs bietet das IMPACT FESTIVAL damit eine Plattform\, durch Netzwerk\, \nProdukte und Dienstleistungen Synergien zu schaffen. Darüber hinaus vernetzen\nsich im Rahmen des Events Investor:innen und Start-ups und legen damit auch das\nfinanzielle Fundament für die Skalierung und den weiteren Erfolg ihrer\nUnternehmensziele. Die vielversprechendsten Start-ups und KMUs zeichnet das\nFestival erneut mit dem IMPACT AWARD aus. Highlights des Events präsentieren\nden Veranstaltern in geführten Messetouren\, die sich an Investoren\,\nUnternehmen und Medienvertretern richten. \nNeu hinzu kommt in diesem Jahr die Transformation Stage\, die Besuchern gezielt mit Best Practices und Inhalten rund um die nachhaltige Transformation in Unternehmen versorgt. Damit ergänzt die Bühne die Impact Stage\, auf der Meinungsführern und Expert:innen ihr Wissen in Keynotes und Panels teilen. Auf der dritten Bühne\, der Innovation Stage\, pitchen die ausstellenden Start-ups ihre Lösungen rund um den nachhaltigen Wandel und stellen sich den Fragen ausgewählter Investoren. \nFür die dritte Ausgabe rechnet das IMPACT FESTIVAL mit rund 200 Ausstellern\, 80 Speakern und 3.000 Besuchern. Ein umfangreiches Rahmenprogramm sowie informative Formate wie der Podcast IMPACT TALK und die IMPACT COMMUNITY\, in der sich Interessierte über das ganze Jahr hinweg miteinander vernetzen und austauschen können\, ergänzen das Event. Start-ups sowie klein- und mittelständische Unternehmen können sich momentan noch unter folgendem Link als Aussteller für das IMPACT FESTIVAL bewerben: https://impact-festival.earth/exhibitor/. Tickets sind ab sofort unter https://impact-festival.earth/ticket/ verfügbar. \nMehr Informationen hier. \nImpact Festival
URL:https://www.vc-magazin.de/event/impact-festival-2023/
LOCATION:Fredenhagen-Halle\, Offenbach
ATTACH;FMTTYPE=image/png:https://www.vc-magazin.de/wp-content/uploads/2023/01/728-x-90-–-Leaderboard-Date-1.png
END:VEVENT
BEGIN:VEVENT
DTSTART;VALUE=DATE:20230913
DTEND;VALUE=DATE:20230914
DTSTAMP:20260421T000223
CREATED:20230717T102108Z
LAST-MODIFIED:20230717T102108Z
UID:71945-1694563200-1694649599@www.vc-magazin.de
SUMMARY:Founders League Live-Show
DESCRIPTION:Die Founders League ist die Plattform für Start-ups. Hier kommt es zur Vernetzung mit Investoren\, Agenturen & neuen Mitarbeitenden. \nUnabhängig davon\, ob ihr schon Pre-Seed mit 2 Mitarbeitenden seid oder auch schon eine Series A durch habt. Die Founders League sucht Gründerinnen und Gründer\, die ihr Start-up und ihre Vision vorstellen und sich für eine bessere Welt und ein nachhaltigeres Morgen einsetzen. \nIn der Jury sitzen: Marcus Diekmann (aktiver Beirat ROSE Bikes & Gründer JobAid)\, Johannes Kliesch (Gründer & CEO Snocks)\, Benjamin Diedering (CEO BDX Media)\, Dr. Med. Mareike Awe (Co-Founder intumind) und Uwe Schüder (Unternehmer). \nMehr Informationen zum Event im Palazzo Mannheim hier.
URL:https://www.vc-magazin.de/event/founders-league-mannheim-2023/
LOCATION:Palazzo Mannheim\, Schneeberger Straße 1\, Mannheim\, Baden-Württemberg\, 68309\, Deutschland
ORGANIZER;CN="Founders League":MAILTO:info@foundersleague.de
END:VEVENT
BEGIN:VEVENT
DTSTART;VALUE=DATE:20230913
DTEND;VALUE=DATE:20230915
DTSTAMP:20260421T000223
CREATED:20230824T110818Z
LAST-MODIFIED:20230824T110818Z
UID:72249-1694563200-1694735999@www.vc-magazin.de
SUMMARY:BAND Business Angels Community Summit 2023
DESCRIPTION:Der Summit beginnt am Mittwoch\, 13. September 2023\, 18:00 Uhr\, im Herzen von Wiesbaden\, in der Sporthalle des 1.Volleyball Clubs Wiesbaden. Unter dem Motto TEAM.TEAM.TEAM lädt Matthias Helfrich\, Business Angel des Jahres 2021\, zu einem Freundschaftsspiel 1. Bundesliga Damen Volleyball Wiesbaden ein. Sportliche Highlights und entspanntes Networking bei Drinks und Snacks erwarten Sie. \nAm Donnerstag\, 14. September 2023\, heißt es dann “AI: NEW AGE of ANGEL INVESTING!?” Von 09:30 bis 17:30 Uhr kommt es in der ehrwürdigen Casino Gesellschaft der hessischen Landeshauptstadt zu Dialog und Arbeit: In welchen Feldern und Branchen der künstlichen Intelligenz stecken Chancen für Angel Investing? Welche Erfahrungen liegen bereits vor? Wo lauern die Gefahren? Erfolge und Misserfolge? Statements\, Positionen der Politik\, Panels und Pitches! Interaktives Mitmachen gefragt. \nZum Abschluss folgt die feierliche Verleihung der „Goldenen Nase“ an den „Business Angel des Jahres 2023“(f/m) \nDie Gastgeber des diesjährigen Summits: Business Angels Deutschland e.V. (BAND)\, Matthias Helfrich\, Business Angel\, Wiesbaden/Berlin. \nMehr Informationen und zur Anmeldung hier.
URL:https://www.vc-magazin.de/event/band-business-angels-community-summit-2023/
LOCATION:Wiesbaden
END:VEVENT
BEGIN:VEVENT
DTSTART;TZID=Europe/Berlin:20230913T170000
DTEND;TZID=Europe/Berlin:20230913T190000
DTSTAMP:20260421T000223
CREATED:20230822T103523Z
LAST-MODIFIED:20230822T103523Z
UID:72230-1694624400-1694631600@www.vc-magazin.de
SUMMARY:3.KfW Capital VC-Academy
DESCRIPTION:2020 betrug der Anteil von Venture Debt am Gesamtvolumen von risikofinanziertem Eigen- und Fremdkapital in Europa rund 15%. Im vergangenen Jahr waren es bereits fast 24%. Anfang März dieses Jahres schockte den Markt die Insolvenz der amerikanischen Silicon-Valley-Bank\, die auf Venture Debt spezialisiert war. Wie geht es dem Markt der Venture Debt-Finanzierung heute? Welches Potential gibt es in Deutschland und Europa für diese Finanzierungsform – und für wen eignet sie sich besonders? Welchen Marktblick haben Venture Debt-Fonds\, Start-ups\, Banken\, Kanzleien auf Venture Debt in dieser Zeit? \nDiesen und weiteren Fragen wird im Rahmen der 3. KfW Capital-VC-Academy nachgegangen. Registrierungen sind bis zum 04. September 2023 möglich.
URL:https://www.vc-magazin.de/event/3-kfw-capital-vc-academy/
LOCATION:KfW Berlin
END:VEVENT
BEGIN:VEVENT
DTSTART;TZID=Europe/Berlin:20230914T190000
DTEND;TZID=Europe/Berlin:20230914T233000
DTSTAMP:20260421T000223
CREATED:20230321T141713Z
LAST-MODIFIED:20230321T141713Z
UID:71088-1694718000-1694734200@www.vc-magazin.de
SUMMARY:CFO Dinner Berlin
DESCRIPTION:Das Gründerszene CFO Dinner bringt führende Köpfe der Finanzszene in gehobener Atmosphäre zusammen\, um sich über branchenbezogene Herausforderungen und Trends auszutauschen.  \nDatum: \n14. September 2023 / 19:00 – 00:00 Uhr \nOrt: \nFleischerei\nSchönhauser Allee 8\n10119 Berlin \nMehr Informationen hier.
URL:https://www.vc-magazin.de/event/cfo-dinner-berlin-2023/
LOCATION:Berlin
END:VEVENT
BEGIN:VEVENT
DTSTART;TZID=Europe/Berlin:20230915T130000
DTEND;TZID=Europe/Berlin:20230915T140000
DTSTAMP:20260421T000223
CREATED:20230821T085416Z
LAST-MODIFIED:20230821T085416Z
UID:72212-1694782800-1694786400@www.vc-magazin.de
SUMMARY:BANDakademie „Female Angel Investing“ in Kooperation mit VdU - Session III: Due Diligence
DESCRIPTION:Im Due Diligence Process wird ein Unternehmen sorgfältig auf wirtschaftliche\, rechtliche\, steuerliche und finanzielle Verhältnisse analysiert. Die Due Diligence ist nicht nur ein Instrument zur Entscheidungsfindung pro/kontra Investment. Sie ist eng verknüpft mit Term Sheet Verhandlungen und Vertragsgestaltung und stellt Weichen für den Kontakt zwischen Business Angel und Start-up während der Investmentphase. Was es zu beachten gilt und wo Stolperfallen im Prozess verhindert werden können\, ist Thema der dritten Lunch-Session „Female Angels Investing“. \nZur Anmeldung.
URL:https://www.vc-magazin.de/event/bandakademie-female-angel-investing-in-kooperation-mit-vdu-session-iii-due-diligence/
LOCATION:Online\, Deutschland
END:VEVENT
BEGIN:VEVENT
DTSTART;VALUE=DATE:20230918
DTEND;VALUE=DATE:20230921
DTSTAMP:20260421T000223
CREATED:20230419T093653Z
LAST-MODIFIED:20230419T093710Z
UID:71351-1694995200-1695254399@www.vc-magazin.de
SUMMARY:IPEM Paris 2023
DESCRIPTION:With $2.6 trillion under management and over $10 trillion in institutional capital\, Paris is the Nr. 1 hub for private markets in Europe\, and the perfect stage for a decisive industry gathering. In September\, the Jardin des Tuileries (in a 10\,000 m² venue!) and the Westin Hotel will offer a magical setting for your fundraising meetings. \nIPEM’s very own “private-equity-meets-tradeshow” format and its special\, relaxed atmosphere have won the hearts of the industry since 2016. With IPEM’s digital services\, plan curated meetings and prepare your event in advance – allowing for more quality time and better networking! \nFind the program here. \nMore information and registration here.
URL:https://www.vc-magazin.de/event/ipem-paris-2023/
LOCATION:Jardin des Tuileries\, Paris\, Frankreich
END:VEVENT
BEGIN:VEVENT
DTSTART;TZID=Europe/Berlin:20230919T080000
DTEND;TZID=Europe/Berlin:20230919T170000
DTSTAMP:20260421T000223
CREATED:20230908T083933Z
LAST-MODIFIED:20230908T083933Z
UID:72359-1695110400-1695142800@www.vc-magazin.de
SUMMARY:pemacom
DESCRIPTION:Die global tätige Anwaltskanzlei Reed Smith lädt gemeinsam mit pwc\, DealCircle und AON als Hauptsponsoren zum internationalen eintägigen Branchentreff pemacom für Private Equity Spezialisten und M&A-Experten am 19. September 2023 nach München ein. \nDie Münchner Private Equity M&A Konferenz wird seit 2010 veranstaltet und hat das Themenspektrum kontinuierlich zu einer Private Equity und M&A Plattform erweitert. Die Veranstaltung versteht sich als „Networking-Place-to-be“\, um sich über die aktuellen Entwicklungen in Geopolitik\, Wirtschaft und Strategie auszutauschen und zu verständigen. Prof. Dr. Sebastian Heilmann von der Universität Trier wird die diesjährige pemacom mit einer Keynote zu dem Auseinanderdriften von West und Ost (Decoupling) und einer neuen multipolaren Welt eröffnen. Dr. Nikolaus von Jacobs und Christian von Sydow\, beide Private Equity und M&A-Experten und Partner/Senior Counsel von Reed Smith\, führen in die Veranstaltung ein. \nMehr Informationen hier.
URL:https://www.vc-magazin.de/event/pemacom-2023/
LOCATION:Hotel Bayerischer Hof\, Promenadeplatz 2-6\, München\, Bayern\, 80333\, Deutschland
END:VEVENT
BEGIN:VEVENT
DTSTART;TZID=Europe/Berlin:20230919T120000
DTEND;TZID=Europe/Berlin:20230919T130000
DTSTAMP:20260421T000223
CREATED:20230821T085553Z
LAST-MODIFIED:20230821T085553Z
UID:72213-1695124800-1695128400@www.vc-magazin.de
SUMMARY:BANDakademie: Q&A – Sie fragen – Experten antworten
DESCRIPTION:Gemeinsam mit LUTZ | ABEL hat BAND ein neues Akademieformat entwickelt: In loser Folge geben wir Angels\, GründerInnen und anderen AkteurInnen entlang der Finanzierungskette die Möglichkeit\, ihre Fragen rund um Start-up Beteiligungen zu stellen und von unseren ExpertInnen beantworten zu lassen. Übermitteln Sie uns Ihre Fragen gerne vorab an band@business-angels.de \nZur Anmeldung.
URL:https://www.vc-magazin.de/event/bandakademie-qa-sie-fragen-experten-antworten/
LOCATION:Online\, Deutschland
END:VEVENT
BEGIN:VEVENT
DTSTART;VALUE=DATE:20230920
DTEND;VALUE=DATE:20230921
DTSTAMP:20260421T000223
CREATED:20230802T141737Z
LAST-MODIFIED:20230802T141737Z
UID:72183-1695168000-1695254399@www.vc-magazin.de
SUMMARY:The Migrant Accelerator Demo Day
DESCRIPTION:The Migrant Accelerator (TMA) ist ein dreimonatiges Mentoring-Programm für Gründerinnen und Gründer mit Migrationserfahrung\, die in Deutschland leben und bietet Live-Workshops zu gründungsrelevanten Themen und Empowerment an. Teilnehmerinnen und Teilnehmer werden durch erfahrene migrantische Gründerinnen und Gründer sowie Expertinnen und Experten in der Ausarbeitung ihres Geschäftsmodells\, Produktentwicklung und in der Anschluss-finanzierung unterstützt. \nEs richtet sich an migrantische Gründerinnen und Gründer\, die bereits einen Prototyp / MVP–Minimum Viable Product entwickelt haben und findet von Juni bis August 2023 wöchentlich\, online und auf Englisch statt. TMA ist ein Zusatzangebot für Gründerinnen und Gründer mit Migrationserfahrung\, um sich in der deutschen Start-up-Landschaft besser zurecht zu finden und bietet Zugang zu Mentoring\, Workshops und einem Netzwerk aus Gleichgesinnten. \nDie Registrierung öffnet ab März 2023\, Interessierte dürfen sich gerne für die Warteliste einschreiben. \nBei Fragen zum Projekt dürfen Sie sich an Frau Laila Zohaib (zohaib@hdm-stuttgart)\, Gründungsberaterin an der Hochschule der Medien Stuttgart\, wenden. \nZur Anmeldung zum Online Demo Day hier.
URL:https://www.vc-magazin.de/event/the-migrant-accelerator-demo-day/
LOCATION:Online\, Deutschland
END:VEVENT
BEGIN:VEVENT
DTSTART;VALUE=DATE:20230924
DTEND;VALUE=DATE:20230927
DTSTAMP:20260421T000223
CREATED:20230823T084732Z
LAST-MODIFIED:20230823T084732Z
UID:72234-1695513600-1695772799@www.vc-magazin.de
SUMMARY:Bits & Pretzels 2023
DESCRIPTION:Join Bits & Pretzels 2023 and meet 5\,000 founders\, investors\, and industry leaders for three days full of learning\, networking & doing business. \nSome speakers are: Michelle Obama\, Nathan Blecharczyk\, Klaas Heufer-Umlauf\, Nicolas Julia (Sorare)\, Alexander Rinke (Celonis)\, Verena Pausder\, Hanno Renner (Personio) und Dr. Mokgweetsi Eric Keabetswe Masisi (President Botswana). \nMore information\, registration and agenda here.
URL:https://www.vc-magazin.de/event/bits-pretzels-2023/
LOCATION:München\, Deutschland
END:VEVENT
BEGIN:VEVENT
DTSTART;VALUE=DATE:20230927
DTEND;VALUE=DATE:20230930
DTSTAMP:20260421T000223
CREATED:20230821T173437Z
LAST-MODIFIED:20230821T173437Z
UID:72221-1695772800-1696031999@www.vc-magazin.de
SUMMARY:Inspiration Days 2023
DESCRIPTION:Die teech Inspiration Days gehen in die vierte Runde und begeistern vom 27. bis 29. September 2023 Zehntausende Schüler aus dem gesamten DACH-Raum. Das erste Mal wird Europas größte Veranstaltung für Berufsorientierung und -inspiration am 29. September 2023 sogar vor Ort in der Factory Berlin mit über 4.000 Schülern stattfinden. Als eines der großen Highlights steht ein Pitch-Contest für Schüler aus ganz Deutschland auf der Agenda\, der Geldpreise im Gesamtwert von über 20.000€ bereithält. \nDie teech Inspiration Days haben als digitale Veranstaltung für Berufsorientierung und -inspiration deutschlandweit seit 2021 mehr als 120.000 Schüler aus über 600 Schulen begeistert. Von bekannten Gesichtern wie Multitalent Paul Ripke und Bestseller-Autor Sebastian Fitzek bis hin zu den beiden reichweitenstarken Creatoren Emilia Bartoeck und Younes Zarou wird sogar der albanische Ministerpräsident Edi Rama autehntische Einblicke in vielfältigste Berufsalltage geben. \nIn diesem Jahr wird der dritte und letzte Tag der Veranstaltung das erste Mal als hybrides Format stattfinden\, den Schulen sowohl virtuell als auch vor Ort in der Factory Berlin am Görlitzer Park erleben. Neben der Möglichkeit\, vor Ort den eigenen Vorbildern live zu begegnen\, zählt zu den Highlights ein Pitch-Contest\, der gemeinsam mit trivago-Gründer Rolf Schrömgens und seinem Unternehmen brafe.space präsentiert wird. \nEgal\, ob als technisches Genie\, sozialer Visionär oder Umweltveränderer\, wird den Teilnehmenden ermöglicht\, ihre Ideen in den beiden Kategorien Profit und Non-profit vor einer renommierten Jury zu pitchen und sich mit anderen talentierten Schülern zu messen. Insgesamt 10 Finalisten erhalten die Möglichkeit\, am 29. September 2023 ihr Konzept in einem klassischen Pitch-Format vor der Jury und dem Publikum unter Beweis zu stellen. Die jeweils ersten drei Platzierungen je Kategorie erhalten Preise im Gesamtwert von über 30.000€\, die dabei helfen sollen\, den Visionen Leben einzuhauchen. Somit zählt der Pitch-Contest der Inspiration Days zu den höchstdotierten Wettbewerben in seiner Kategorie. \nEin weiterer wichtiger Bestandteil der Veranstaltung sind nach wie vor Unternehmen\, die als Branchenrepräsentanten vor allem in diesem Jahr ein Zeichen gegen den Fachkräftemangel setzen\, indem ihre Mitarbeitenden authentische Einblicke in ihre Berufswege und Aufgabenfelder geben – sowohl online als auch erstmals vor Ort. \nDie teech Inspiration Days werden in Zusammenarbeit mit der Factory Berlin und JMES World organisiert: Am 27. und 28. September 2023 finden sie ausschließlich digital statt\, am dritten und letzten Veranstaltungstag werden in der Factory Berlin am Görlitzer Park über 4.000 Jugendliche erwartet. Von dort aus wird die Veranstaltung über die Plattform von teech gestreamt\, um weiterhin allen Schulen die Erfahrung der Veranstaltung zu ermöglichen. \nZur Anmeldung.
URL:https://www.vc-magazin.de/event/inspiration-days-2023/
LOCATION:Berlin
END:VEVENT
BEGIN:VEVENT
DTSTART;TZID=Europe/Berlin:20230928T100000
DTEND;TZID=Europe/Berlin:20230928T200000
DTSTAMP:20260421T000223
CREATED:20230822T094847Z
LAST-MODIFIED:20230822T095129Z
UID:72225-1695895200-1695931200@www.vc-magazin.de
SUMMARY:AgriTech Pitch Day 2023
DESCRIPTION:Hightech-Lösungen für eine nachhaltige Landwirtschaft – Jetzt bewerben! \nSie sind Agritech-Gründer und möchten Ihre Hightech-Lösungen für eine nachhaltige Landwirtschaft führenden Investoren und Unternehmensentscheidern vorstellen? \nDer AgriTech Pitch Day 2023 findet am 28. September im RootCamp in Hannover statt.\nNutzen Sie die Gelegenheit\, Ihre Technologie einem exklusiven Publikum aus Investoren\, Corporate VCs und Branchenexperten zu präsentieren! \nBewerben Sie sich bis zum 10. September – Registrieren Sie sich hier mit Ihren Unternehmensdaten und reichen Sie Ihr nicht-vertrauliches Pitch Deck ein.\nDiese Veranstaltung ist kostenlos und wird in englischer Sprache abgehalten. \nDie eingereichten Pitch Decks werden vom erfahrenen Investment-Team des HTGF gescreent. \nMehr Informationen und zur Registrierung hier.
URL:https://www.vc-magazin.de/event/agritech-pitch-day-2023/
LOCATION:Hannover\, Hannover\, Deutschland
ATTACH;FMTTYPE=image/png:https://www.vc-magazin.de/wp-content/uploads/2023/08/Agritech_VC-Mag_220px.png
END:VEVENT
BEGIN:VEVENT
DTSTART;TZID=Europe/Berlin:20230928T160000
DTEND;TZID=Europe/Berlin:20230928T190000
DTSTAMP:20260421T000223
CREATED:20230908T134446Z
LAST-MODIFIED:20230908T134446Z
UID:72363-1695916800-1695927600@www.vc-magazin.de
SUMMARY:Incubator Pitch Day & Podium @garage33
DESCRIPTION:Unter anderem erwarten Sie: \n\nSieben Pitches von angehenden Start-ups aus dem Incubator Programm. Von einer All-in-1-Industriesteuerung\, über eine Golfsport-Innovation\, bis hin zu Weiterentwicklungs-maßnahmen für die Vereinbarkeit von Familienleben und Job ist aus den unterschiedlichsten Branchen etwas dabei \nEin spannendes Panel „Bootstrap vs. Pre-Seed-Funding: What’s your choice?“ mit Serial Founder Adrian Hülsmann (edelsprint\, B1NARY) und LYNES Gründer Sven Hubbes (bekannt aus “Höhle der Löwen”\, Deal mit Nils Glagau).\nGet together als Ausklang zum Netzwerken!\n\nZur Anmeldung hier.
URL:https://www.vc-magazin.de/event/incubator-pitch-day-podium-garage33/
LOCATION:garage33\, Paderborn\, Deutschland
ATTACH;FMTTYPE=image/jpeg:https://www.vc-magazin.de/wp-content/uploads/2023/09/image0015-scaled.jpg
END:VEVENT
END:VCALENDAR