BEGIN:VCALENDAR
VERSION:2.0
PRODID:-//VC Magazin - ECPv6.15.15//NONSGML v1.0//EN
CALSCALE:GREGORIAN
METHOD:PUBLISH
X-ORIGINAL-URL:https://www.vc-magazin.de
X-WR-CALDESC:Veranstaltungen für VC Magazin
REFRESH-INTERVAL;VALUE=DURATION:PT1H
X-Robots-Tag:noindex
X-PUBLISHED-TTL:PT1H
BEGIN:VTIMEZONE
TZID:Europe/Berlin
BEGIN:DAYLIGHT
TZOFFSETFROM:+0100
TZOFFSETTO:+0200
TZNAME:CEST
DTSTART:20220327T010000
END:DAYLIGHT
BEGIN:STANDARD
TZOFFSETFROM:+0200
TZOFFSETTO:+0100
TZNAME:CET
DTSTART:20221030T010000
END:STANDARD
BEGIN:DAYLIGHT
TZOFFSETFROM:+0100
TZOFFSETTO:+0200
TZNAME:CEST
DTSTART:20230326T010000
END:DAYLIGHT
BEGIN:STANDARD
TZOFFSETFROM:+0200
TZOFFSETTO:+0100
TZNAME:CET
DTSTART:20231029T010000
END:STANDARD
BEGIN:DAYLIGHT
TZOFFSETFROM:+0100
TZOFFSETTO:+0200
TZNAME:CEST
DTSTART:20240331T010000
END:DAYLIGHT
BEGIN:STANDARD
TZOFFSETFROM:+0200
TZOFFSETTO:+0100
TZNAME:CET
DTSTART:20241027T010000
END:STANDARD
END:VTIMEZONE
BEGIN:VEVENT
DTSTART;VALUE=DATE:20231130
DTEND;VALUE=DATE:20231202
DTSTAMP:20260420T191431
CREATED:20231006T072652Z
LAST-MODIFIED:20231006T072652Z
UID:72618-1701302400-1701475199@www.vc-magazin.de
SUMMARY:Slush 2024
DESCRIPTION:Slush is a not-for-profit building the world’s leading startup event and the largest gathering of VC — delivering actionable company-building advice and bringing together the who’s who in the ecosystem. \nSome speakers include: Miki Kuusi (CEO & Co-Founder Wolt)\, Jannick Malling (CEO & Co-Founder Public)\, Hovhannes Avoyan (CEO & Co-Founder Picsart)\, Harry Nelis (Partner Accel) and Jonathan Sibilia (Partner Molten Ventures). \nMore information\, registration and agenda here.
URL:https://www.vc-magazin.de/event/slush-2024/
LOCATION:Helsinki\, Helsinki\, Finnland
END:VEVENT
BEGIN:VEVENT
DTSTART;VALUE=DATE:20231205
DTEND;VALUE=DATE:20231207
DTSTAMP:20260420T191431
CREATED:20230712T125058Z
LAST-MODIFIED:20230712T125058Z
UID:71889-1701734400-1701907199@www.vc-magazin.de
SUMMARY:Connected Germany
DESCRIPTION:Mit über 1.500 Delegierten und 150 Rednern bietet die Connected Germany ein Forum\, in dem führende Experten\, Entscheidungsträger\, Ausrüster\, Investoren\, Unternehmen und andere Personen Gedanken austauschen\, Perspektiven entdecken und Partnerschaften eingehen können. Auf der Connected Germany 2023 werden wir Verbindungen knüpfen\, um ein besser vernetztes Deutschland zu schaffen. \nMehr Informationen hier.
URL:https://www.vc-magazin.de/event/connected-germany/
LOCATION:International Congress Center Messe München\, München\, Bayern\, Deutschland
ATTACH;FMTTYPE=image/png:https://www.vc-magazin.de/wp-content/uploads/2023/07/Untitled-200-×-200px-30.png
END:VEVENT
BEGIN:VEVENT
DTSTART;TZID=Europe/Berlin:20231205T133000
DTEND;TZID=Europe/Berlin:20231205T220000
DTSTAMP:20260420T191431
CREATED:20231025T070222Z
LAST-MODIFIED:20231025T070222Z
UID:72796-1701783000-1701813600@www.vc-magazin.de
SUMMARY:Ultimate Demo Day
DESCRIPTION:Whether you are on the lookout for your portfolio start-up\, investor or project partner – join the Ultimate Demo Day on December 5\, 2023\, and get to the next level of your innovation journey! \n\nThe Ultimate Demo Day is an event with… \n\n\n\nlive pitches & a start-up exhibition\n\n\n\nsmart matchmaking & networking opportunities\ninspiring keynotes to foster innovation\n\n\nPowered by UnternehmerTUM with UnternehmerTUM Funding for Innovators\, TechFounders\, TUM Venture Labs\, UVC Partners\, XPLORE and XPRENEURS as well as the Munich Urban Colab Investment Alliance Partners\, EIT Urban Mobility Initiative\, MakerSpace. \nMore information here.
URL:https://www.vc-magazin.de/event/ultimate-demo-day-2023/
LOCATION:München\, Deutschland
END:VEVENT
BEGIN:VEVENT
DTSTART;VALUE=DATE:20231211
DTEND;VALUE=DATE:20231212
DTSTAMP:20260420T191431
CREATED:20230602T100156Z
LAST-MODIFIED:20231123T141105Z
UID:71622-1702252800-1702339199@www.vc-magazin.de
SUMMARY:Fintech Germany Award 2023
DESCRIPTION:A competent Jury of more than 20 experts honors outstanding start-up companies in several categories with Fintech Germany Awards. The Jury also decides on special awards.\n‍\nThe Jury members evaluate and compare the startups from the fintech and insurtech sectors within their individual company phases according to a variety of different criteria. Based on a scoring process\, the Jury determines the most promising young companies in the individual categories and decides on the winners during Jury meetings. The same process applies to the special awards. \nFintech Germany Award has been initiated in 2016 by Frankfurt Main Finance\, WM-Gruppe and TechFluence and is awarded since then on an annual basis. \nMehr Informationen hier. \n  \n 
URL:https://www.vc-magazin.de/event/fintech-germany-award-2023/
LOCATION:Microsoft Berlin\, Berlin\, Deutschland
END:VEVENT
BEGIN:VEVENT
DTSTART;TZID=Europe/Berlin:20231213T120000
DTEND;TZID=Europe/Berlin:20231213T190000
DTSTAMP:20260420T191431
CREATED:20231129T135659Z
LAST-MODIFIED:20231129T135659Z
UID:73165-1702468800-1702494000@www.vc-magazin.de
SUMMARY:Konferenz “Kultur- und Kreativwirtschaft im Zeitalter der KI”
DESCRIPTION:Konferenz “Kultur- und Kreativwirtschaft im Zeitalter der KI” – Wie KI die Branche neu gestaltet  \nAm 13. Dezember 2023 wird das Haus der Brandenburgisch-Preußischen Geschichte in Potsdam zum Schauplatz der Konferenz “Kultur- und Kreativwirtschaft im Zeitalter der KI”. Die Veranstaltung wird präsentiert von MediaTech Hub Potsdam in Kooperation mit dem Ministerium für Wirtschaft\, Arbeit und Energie (MWAE) des Landes Brandenburg\, dem Cluster IKT\, Medien und Kreativwirtschaft/ Wirtschaftsförderung Brandenburg sowie dem Haus der Brandenburgisch-Preußischen Geschichte. \nZur Agenda und zur kostenfreien Registrierung hier.
URL:https://www.vc-magazin.de/event/konferenz-kultur-und-kreativwirtschaft-im-zeitalter-der-ki/
LOCATION:Haus der Brandenburgisch-Preußischen Geschichte\, Am Neuen Markt 9\, Potsdam\, Brandenburg\, 14467\, Deutschland
END:VEVENT
BEGIN:VEVENT
DTSTART;TZID=Europe/Berlin:20231215T080000
DTEND;TZID=Europe/Berlin:20231215T170000
DTSTAMP:20260420T191431
CREATED:20231215T125213Z
LAST-MODIFIED:20231215T125213Z
UID:73367-1702627200-1702659600@www.vc-magazin.de
SUMMARY:Sächsischer Business Angel Tag 2024
DESCRIPTION:Auf dem Sächsischen Business Angel Tag kommt die Sächsische Business Angel-Community zum Erfahrungsaustausch\, Netzwerken und zur Erweiterung ihres Dealflows zusammen. \nErfahren Sie\, wie Sie als Privatkapitalgebende/-r und Business Angel von der Unterstützung durch regionale\, institutionelle Kapitalgebende und von Fördermitteln des Freistaates Sachsen profitieren können. \nErhalten Sie Einblicke in das Wirken aktiver Business Angels und Anregungen durch sächsische Best Practices und freuen Sie sich auf Pitches potenzialträchtiger sächsischer Gründungsunternehmen inklusive Speed-Dating. Nutzen Sie die Möglichkeit zur Erweiterung Ihres Netzwerks und Dealflows. \nMehr Informationen hier.
URL:https://www.vc-magazin.de/event/saechsischer-business-angel-tag-2024/
LOCATION:Chemnitz\, Chemnitz\, Sachsen\, Deutschland
END:VEVENT
END:VCALENDAR