BEGIN:VCALENDAR
VERSION:2.0
PRODID:-//VC Magazin - ECPv6.15.15//NONSGML v1.0//EN
CALSCALE:GREGORIAN
METHOD:PUBLISH
X-ORIGINAL-URL:https://www.vc-magazin.de
X-WR-CALDESC:Veranstaltungen für VC Magazin
REFRESH-INTERVAL;VALUE=DURATION:PT1H
X-Robots-Tag:noindex
X-PUBLISHED-TTL:PT1H
BEGIN:VTIMEZONE
TZID:Europe/Berlin
BEGIN:DAYLIGHT
TZOFFSETFROM:+0100
TZOFFSETTO:+0200
TZNAME:CEST
DTSTART:20230326T010000
END:DAYLIGHT
BEGIN:STANDARD
TZOFFSETFROM:+0200
TZOFFSETTO:+0100
TZNAME:CET
DTSTART:20231029T010000
END:STANDARD
BEGIN:DAYLIGHT
TZOFFSETFROM:+0100
TZOFFSETTO:+0200
TZNAME:CEST
DTSTART:20240331T010000
END:DAYLIGHT
BEGIN:STANDARD
TZOFFSETFROM:+0200
TZOFFSETTO:+0100
TZNAME:CET
DTSTART:20241027T010000
END:STANDARD
BEGIN:DAYLIGHT
TZOFFSETFROM:+0100
TZOFFSETTO:+0200
TZNAME:CEST
DTSTART:20250330T010000
END:DAYLIGHT
BEGIN:STANDARD
TZOFFSETFROM:+0200
TZOFFSETTO:+0100
TZNAME:CET
DTSTART:20251026T010000
END:STANDARD
END:VTIMEZONE
BEGIN:VEVENT
DTSTART;VALUE=DATE:20240206
DTEND;VALUE=DATE:20240207
DTSTAMP:20260420T154702
CREATED:20231215T080938Z
LAST-MODIFIED:20231215T080938Z
UID:73350-1707177600-1707263999@www.vc-magazin.de
SUMMARY:Chapter54 Summit: How to Build Your Topline in Africa
DESCRIPTION:Chapter54 is looking forward to seeing you in Munich on February 6\, 2024 for the Chapter54 Summit! Where a deep dive into building your topline in Africa\, with experts from across the continent who will be sharing their hard-earned learnings on… \n… Finding the right pricing strategy \n… Deploying a sales force on the ground \n… Maintaining sales volumes and optimizing customer LTV \n… and much more will await you! \nMore information and free registration here!
URL:https://www.vc-magazin.de/event/chapter54-summit-2024/
LOCATION:München
END:VEVENT
BEGIN:VEVENT
DTSTART;VALUE=DATE:20240207
DTEND;VALUE=DATE:20240209
DTSTAMP:20260420T154702
CREATED:20231205T151220Z
LAST-MODIFIED:20231205T151220Z
UID:73209-1707264000-1707436799@www.vc-magazin.de
SUMMARY:Frankfurt Digital Finance Conference
DESCRIPTION:Die fünfte Ausgabe der Frankfurt Digital Finance Conference findet vom 7. bis 8. Februar 2024 im Gesellschaftshaus Palmengarten in Frankfurt statt. \n\n\nTag 1 vereint\, wie in den vergangenen Jahren\, unterschiedliche Branchenperspektiven von etablierten Finanzdienstleistern\, Fintechs\, Regulierungsbehörden\, politischen Entscheidungsträgern\, Investoren und aus der Wissenschaft. In verschiedenen interaktiven Formaten präsentieren internationale Top-Referenten ihre Sicht auf Themen und Herausforderungen der Finanzbranche. Zu den diesjährigen Schwerpunktthemen gehören u.a. ESG-Transformation\, digitale Vermögenswerte\, der digitale Euro\, neue Technologien (z.B. GenAI\, web3 und Metaverse) sowie die europäische Kapitalmarktunion. \n\n\nTag 2 ist dem erstem European Fintech Day powered by Frankfurt Digital Finance gewidmet. Bei dieser neuen Veranstaltung werden erstklassige Fintechs aus verschiedenen Verticals zusammenkommen\, die Europas führende digitale Finanzzentren repräsentieren. Ziel ist es\, Fintech-Startups aus Europa und darüber hinaus direkt mit potenziellen Kunden\, Co-Innovationspartnern und VC-Investoren in Frankfurt\, dem Herzen Europas\, zu verbinden. \n\nMehr Informationen finden Sie hier.
URL:https://www.vc-magazin.de/event/frankfurt-digital-finance-2024/
LOCATION:Gesellschaftshaus Palmengarten\, Palmengartenstraße 11\, Frankfurt am Main\, 60325\, Deutschland
END:VEVENT
BEGIN:VEVENT
DTSTART;VALUE=DATE:20240209
DTEND;VALUE=DATE:20240210
DTSTAMP:20260420T154702
CREATED:20231006T072143Z
LAST-MODIFIED:20231006T072143Z
UID:72617-1707436800-1707523199@www.vc-magazin.de
SUMMARY:Startup Day (Fruit Logistica)
DESCRIPTION:Unter dem Motto „Disrupt Agriculture“ findet am 9. Februar 2024 wieder der Startup Day auf der FRUIT LOGISTICA statt – ein spezielles Format für Startups\, die bahnbrechende Produkte\, Projekte und Ideen vorantreiben. Am letzten Messetag wird die Halle 2.1 zum Networking Hub für Startups und etablierte Unternehmen aus allen Wertschöpfungsstufen des grünen Sortiments. \nWer mit Startups in Kontakt und vielleicht auch ins Geschäft kommen möchte\, ist in der Startup Area genau richtig. Hochinnovative Startups aus der ganzen Welt haben hier am letzten Messetag ihre temporäre Homebase. \nEin weiteres Highlight ist die Startup Stage: Dort präsentieren Startups ihre zukunftsweisenden Geschäftsideen\, Technologien und Zukunftsvisionen. \nMehr Informationen hier. \n 
URL:https://www.vc-magazin.de/event/startup-day-fruit-logistica/
LOCATION:Messe Berlin\, Messedamm 22\, Berlin\, 14055\, Deutschland
END:VEVENT
BEGIN:VEVENT
DTSTART;VALUE=DATE:20240215
DTEND;VALUE=DATE:20240217
DTSTAMP:20260420T154702
CREATED:20230724T090646Z
LAST-MODIFIED:20231129T104401Z
UID:71979-1707955200-1708127999@www.vc-magazin.de
SUMMARY:Moonshots & Moneten Summit + Eröffnung Start-up Campus OWL
DESCRIPTION:Unter dem Titel „moonshots & moneten“ veranstaltet die garage33\, das Gründungszentrum\nder Universität Paderborn\, vom 15. bis 16. Februar 2024 den ersten Start-up Summit\nPaderborns. Die nationale Start-up Community kommt im neu errichteten Start-up Campus.OWL zusammen\, um die aufstrebende Start-up-Region Ostwestfalen-Lippe kennenzulernen\, sich über die neuesten Innovationen auszutauschen und sich zu vernetzen.\nNeben Gründenden\, Unternehmern und Investoren sind auch gründungsinteressierte Hochschulen sowie die weiteren Exzellenz Start-ups Center zum Summit eingeladen. Der Fokus der verschiedenen Keynotes\, Panel Talks\, Pitch Events und Masterclasses liegt auf (Corporate) Entrepreneurship\, Spitzentechnologien sowie GreenTech\, Impact und Social Entrepreneurship. \nDie Tickets zum Summit sind kostenlos\, auf der Website www.moonshotsundmoneten.de können sich Interessierte dafür registrieren.
URL:https://www.vc-magazin.de/event/moonshots-moneten-summit-start-up-campus-owl/
LOCATION:Start-up Campus OWL\, Ausblick 1\, Paderborn\, 33100\, Deutschland
ATTACH;FMTTYPE=image/jpeg:https://www.vc-magazin.de/wp-content/uploads/2023/07/Social-Media_moonshotsmoneten-3-copy1-scaled.jpg
END:VEVENT
BEGIN:VEVENT
DTSTART;TZID=Europe/Berlin:20240215T140000
DTEND;TZID=Europe/Berlin:20240215T183000
DTSTAMP:20260420T154702
CREATED:20231219T152543Z
LAST-MODIFIED:20231219T152544Z
UID:73452-1708005600-1708021800@www.vc-magazin.de
SUMMARY:Founder Bootcamp by Osborne Clarke & CoCo Finance
DESCRIPTION:In collaboration with CoCo Finance Osborne Clarke would like to invite you to the Founder Bootcamp on 15 February 2024. This event for founders and start-ups offers lots of insights from different players in the industry and aims to offer a modest yet informative session. Following the program\, there will be an opportunity for networking\, allowing you to connect with fellow attendees and discuss key takeaways from the sessions. \nYour attendance at this event would be greatly appreciated and Osborne Clarke is looking forward to welcoming you at Osborne Clarke Berlin: Schinkelplatz 5\, 10117 Berlin.\n \nMore information here.
URL:https://www.vc-magazin.de/event/founder-bootcamp-by-osborne-clarke-coco-finance/
LOCATION:Osborne Clarke Berlin\, Schinkelplatz 5\, Berlin\, Berlin\, 10117\, Deutschland
END:VEVENT
BEGIN:VEVENT
DTSTART;TZID=Europe/Berlin:20240220T150000
DTEND;TZID=Europe/Berlin:20240220T173000
DTSTAMP:20260420T154702
CREATED:20231206T132731Z
LAST-MODIFIED:20231206T132731Z
UID:73232-1708441200-1708450200@www.vc-magazin.de
SUMMARY:Female Funding '24
DESCRIPTION:Der Business Angels Deutschland e.V. (BAND) hat die große Vision\, mehr Angel Investorinnen und mehr Gründerinnen zu motivieren. Daher findet auch 2024 erneut das Flagship Event „Female Funding ‘24“ im Rahmen der Awarenesskampagne Women Angels Mission ’25 statt. \nAm Dienstag\, den 20. Februar von 15.00 bis 17.30 Uhr findet das Matchingevent online statt\, bei dem spannende Geschäftsideen von zehn Gründerinnen-Teams auf die geballte Power von (Women) Angel Investing treffen\, zu dem Sie sehr herzlich einladen sind. \nNeben den Pitches (inkl. Q&A-Sessions) gibt es spannende Paneldiskussionen\, Keynotes und Impulsstatements\, die das Event mit „Female Founders & Angel Spirit“ beleben werden. \nMehr Informationen hier.
URL:https://www.vc-magazin.de/event/female-funding-24/
LOCATION:Online\, Deutschland
END:VEVENT
BEGIN:VEVENT
DTSTART;VALUE=DATE:20240221
DTEND;VALUE=DATE:20240222
DTSTAMP:20260420T154702
CREATED:20231220T132504Z
LAST-MODIFIED:20240118T095052Z
UID:73476-1708473600-1708559999@www.vc-magazin.de
SUMMARY:Global Virtual MarTech Summit EMEA 2024
DESCRIPTION:The 2024 Global Virtual MarTech Summit aims to not only leave you with new insight and knowledge\, but will hopefully allow you to be able to reflect and improve on your own from gaining a broader view of the industry and also learning from other’s successes and failures.  \nA brand new and exciting agenda awaits filled with fireside chats and panels that will feature many interesting conversations – all from the very best top industry talents. There will be 20+ thought leaders & experts who will reveal both pain points & best practices for the MarTech industry through significant topics such as recent advancements in AI & ML technology\, full funnel marketing\, talent acquisition and developments & so much more! \nRegister here.
URL:https://www.vc-magazin.de/event/global-virtual-martech-summit-emea-2024/
LOCATION:Online\, Deutschland
ATTACH;FMTTYPE=image/jpeg:https://www.vc-magazin.de/wp-content/uploads/2023/12/2024-Event-Cover-GVMT-EMEA.jpg
END:VEVENT
BEGIN:VEVENT
DTSTART;TZID=Europe/Berlin:20240221T190000
DTEND;TZID=Europe/Berlin:20240221T233000
DTSTAMP:20260420T154702
CREATED:20240130T114131Z
LAST-MODIFIED:20240130T114446Z
UID:73602-1708542000-1708558200@www.vc-magazin.de
SUMMARY:E-commerce Germany Awards
DESCRIPTION:Nur Unternehmer\, die Dienstleister in der E-Commerce-Branche sind und deren Dienstleistungen bereits auf dem deutschen Markt verfügbar sind\, sind berechtigt\, am Wettbewerb teilzunehmen. \nJedes Unternehmen darf in höchstens 2 Kategorien teilnehmen. Insgesamt gibt es 12 + 1 Kategorien: Best Sales & Growth Solution\, Best Communication & Engagement Solution\, Best Customers Experience Solution\, Best Global Expansion Solution\, Best Logistics and Shipments Solution\, Best Fulfillment and Optimization Solution\, Best Platform & ERP\, Best Payment Solution\, Best Analytics & BI Solution\, Best Agency Showcase\, Best Omnichannel & Integration Solution und Best Tech Evolution & Innovation. \nZur Anmeldung und mehr Informationen hier: https://ecommercegermanyawards.com/de
URL:https://www.vc-magazin.de/event/e-commerce-germany-awards/
LOCATION:Berlin\, Deutschland
END:VEVENT
BEGIN:VEVENT
DTSTART;VALUE=DATE:20240222
DTEND;VALUE=DATE:20240223
DTSTAMP:20260420T154702
CREATED:20231219T105321Z
LAST-MODIFIED:20231219T105409Z
UID:73450-1708560000-1708646399@www.vc-magazin.de
SUMMARY:E-Commerce Expo 2024
DESCRIPTION:Die E-Commerce Berlin Expo Konferenz bietet Keynotes und Podiumsdiskussionen mit über 70 Branchenexperten. Zudem präsentieren sich zahlreiche Player aus der E-Commerce-Branche in der Station Berlin. \nMehr Informationen und zur Anmeldung hier.
URL:https://www.vc-magazin.de/event/e-commerce-expo-2024/
LOCATION:STATION Berlin\, Luckenwalder Str. 4-6\, Berlin\, 10963\, Deutschland
END:VEVENT
BEGIN:VEVENT
DTSTART;VALUE=DATE:20240228
DTEND;VALUE=DATE:20240301
DTSTAMP:20260420T154702
CREATED:20231024T085518Z
LAST-MODIFIED:20231024T085518Z
UID:72739-1709078400-1709251199@www.vc-magazin.de
SUMMARY:0100 Conference DACH 2024
DESCRIPTION:An in-person conference that brings together PE & VC investors looking at the DACH region for the 10th time. \nMeet and build relationships with senior level General and Limited Partners from the VC & PE industry. Network with fund managers\, investors as well as leading service providers and other industry professionals from the DACH region. \nMore information & registration here.
URL:https://www.vc-magazin.de/event/0100-conference-dach-2024/
LOCATION:Wien\, Wien\, Österreich
END:VEVENT
BEGIN:VEVENT
DTSTART;TZID=Europe/Berlin:20240228T110000
DTEND;TZID=Europe/Berlin:20240228T123000
DTSTAMP:20260420T154702
CREATED:20240118T084927Z
LAST-MODIFIED:20240118T084928Z
UID:73536-1709118000-1709123400@www.vc-magazin.de
SUMMARY:Webinar "Crowdinvesting mit GmbH-Token"
DESCRIPTION:Sie sind Gründer\, haben ein tolles Produkt kreiert\, ein MVP entwickelt\, vielleicht auch schon ein beachtliches Team aufgebaut? Sie haben eine klare Vision für die Zukunft und sind bereit\, den nächsten Schritt für Ihr Startup zu gehen\, doch die Kapitalbeschaffung und der damit verbundene Prozess bereitet Ihnen Kopfzerbrechen? \nDann sollten Sie sich das Webinar „Crowdinvesting mit GmbH-Token“ der Tokenize.it nicht entgehen lassen. Hier können Sie in die Welt des GmbH-Token eintauchen und erfahren\, wie Sie Ihre Crowdinvesting-Kampagne in wenigen Minuten auf der Tokenize.it Plattform erstellen können. \nWebinar Agenda:\n– GmbH-Token Konzept\n– Regulatorische Rahmenbedingungen\n– Crowdinvesting mit GmbH-Token\n– Produkt-Demo Tokenize.it Plattform\n– Q&A \nZur kostenfreien Anmeldung hier. \nWebinar „Crowdinvesting mit GmbH-Token“\nWas ist die Tokenize.it Plattform?\nMit Tokenize.it können Sie Ihre Unternehmens-Finanzierung noch effizienter gestalten\, indem Sie bis zu 8M EUR GmbH-Token statt unflexibler Anteile an professionelle Investoren und Kleinanleger ausgeben. Der Vertragsabschluss erfolgt zu 100% digital und ohne Gang zum Notar. Tokenize.it bietet ein speziell für GmbHs optimiertes Legal Setup mit maßgeschneiderten Vertragsmustern. \nWas zeichnet GmbH-Token aus?\nToken bieten zahlreiche Vorteile\, die Ihre Unternehmensfinanzierung flexibler machen. Sie ermöglichen eine einfache Übertragbarkeit\, bessere Liquidität\, hohe Transparenz durch die Integration von Smart Contracts sowie automatisierte Zahlungen und Geschäftsprozesse. Mit dem GmbH-Token können Sie Ihre Community stärker einbinden und ihnen eine Beteiligung an Ihrem Unternehmenserfolg ermöglichen. Ihr Unternehmen verkauft Token direkt und über die Blockchain skalierbar an Investoren. Sparen Sie sich den Aufwand mit Anbietern von kostenpflichtigen Pooling-Vehikeln und die manuellen Offline-Prozesse eines Investments mit herkömmlichen Anteilen.
URL:https://www.vc-magazin.de/event/webinar-crowdinvesting-mit-gmbh-token/
LOCATION:Online\, Deutschland
ATTACH;FMTTYPE=image/png:https://www.vc-magazin.de/wp-content/uploads/2024/01/Webinar-Visual_Crowdinvesting-mit-GmbH-Token_Tokenize.it_.png
END:VEVENT
BEGIN:VEVENT
DTSTART;TZID=Europe/Berlin:20240228T140000
DTEND;TZID=Europe/Berlin:20240228T200000
DTSTAMP:20260420T154702
CREATED:20240108T095338Z
LAST-MODIFIED:20240108T095459Z
UID:73488-1709128800-1709150400@www.vc-magazin.de
SUMMARY:Pitch Club #30
DESCRIPTION:Gestartet mit dem Ziel und der Idee\, aus der stark fragmentierten Gründerszene Frankfurt\nRhein-Main ein solides und starkes Startup-Ökosystem aufzubauen\, ist der Pitch Club das\nmittlerweile erfolgreichste Pitch Format der Region. An den vergangenen 29 Editionen haben 295 spannende\, vorselektierte Startups teilgenommen und ihre Unternehmen vor insgesamt mehr als 1.085 Investoren präsentiert. Dabei hat sich der Pitch Club von Anfang an bewusst auf das Kernproblem der Gründer fokussiert – nämlich auf die Kapitalbeschaffung. \nUnd das mit großem Erfolg: Von den teilnehmenden Unternehmen haben bis heute über 40% – direkt oder indirekt über die am Pitch Club teilnehmenden Investoren – eine Finanzierung erhalten. Insgesamt wurden so über den Pitch Club schon weit mehr als 44 Mio. EUR an Fundings vermittelt. \nAm Mittwoch\, den 28. Februar 2024\, findet die kommende Pitch Club #30 Edition statt. Bis zu zehn vorselektierte early-stage Startups mit Proof of Concept haben sechs Minuten Zeit\, um die anwesenden Investoren mit ihrem Pitch zu überzeugen. Im Anschluss können Einzelgespräche geführt und tiefergehende Fragen besprochen werden. \nStart-ups können sich bis zum 11. Februar unter https://thepitchclub.com/startup/ bewerben. \nInvestoren können sich unter https://www.thepitchclub.com/de/investoren/ bewerben.
URL:https://www.vc-magazin.de/event/pitch-club-30/
LOCATION:Frankfurt am Main
ATTACH;FMTTYPE=image/png:https://www.vc-magazin.de/wp-content/uploads/2024/01/Pitch-Club-30_Grafik.png
END:VEVENT
BEGIN:VEVENT
DTSTART;VALUE=DATE:20240229
DTEND;VALUE=DATE:20240301
DTSTAMP:20260420T154702
CREATED:20230918T092919Z
LAST-MODIFIED:20230918T092919Z
UID:72403-1709164800-1709251199@www.vc-magazin.de
SUMMARY:LUMPI Luxemburg
DESCRIPTION:LUMPI ist eine eintägige deutschsprachige Konferenz in Luxemburg\, die sich an institutionelle Anleger aus dem DACH-Raum\, Private Markets GPs\, sowie deren Berater und Dienstleister richtet. \nMehr Informationen hier.
URL:https://www.vc-magazin.de/event/lumpi-luxemburg-2024/
LOCATION:Luxembourg\, Luxemburg\, Luxemburg
END:VEVENT
BEGIN:VEVENT
DTSTART;TZID=Europe/Berlin:20240229T093000
DTEND;TZID=Europe/Berlin:20240229T103000
DTSTAMP:20260420T154702
CREATED:20240130T111432Z
LAST-MODIFIED:20240205T155737Z
UID:73594-1709199000-1709202600@www.vc-magazin.de
SUMMARY:Online-Seminar: IT- & DATEN-RECHT KOMPAKT: Data Act I - Umgang mit Nutzerdaten bei vernetzten Produkten und verbundenen Diensten
DESCRIPTION:Der Data Act wurde kürzlich verabschiedet. Da der Data Act die Datenökonomie in der EU neu ordnen will\, betrifft er wesentlich mehr Unternehmen als verbreitet angenommen. \nDer erste Teil der Webinar-Reihe beantwortet wichtige Fragen rund um die Gewinnung und Sicherung von Nutzerdaten. Müssen Hersteller ihre vernetzten Produkte verändern? Wie sind Datenlizenzverträge mit Nutzern zu gestalten? Wann haben Nutzer und andere Service-Anbieter Zugangsrechte zu ihren Daten? \nSichern Sie sich jetzt Ihren Platz und nehmen Sie an der Onlineseminar-Reihe teil\, in der regelmäßig praxisrelevante Entwicklungen zum IT- und Datenrecht besprochen werden. \nZur Anmeldung und mehr Informationen hier: https://www.lutzabel.com/termine/20240229-it-und-daten-recht-kompakt-data-act \nWeiterführende Online-Seminare: \n\n\nOnline Seminar: IT- & DATEN-RECHT KOMPAKT: Data Act II – Wechsel zwischen Cloudanbietern (14.03.2024 um 9:30 – 10:30) \n\n\nOnline Seminar: IT- & DATEN-RECHT KOMPAKT: Data Act III – Neue B2B-Vertragskontrolle im Datenrecht (24.04.2024 um 9:30 – 10:30)
URL:https://www.vc-magazin.de/event/online-seminar-it-daten-recht-kompakt-data-act-i-umgang-mit-nutzerdaten-bei-vernetzten-produkten-und-verbundenen-diensten/
LOCATION:Online\, Deutschland
END:VEVENT
END:VCALENDAR