BEGIN:VCALENDAR
VERSION:2.0
PRODID:-//VC Magazin - ECPv6.15.15//NONSGML v1.0//EN
CALSCALE:GREGORIAN
METHOD:PUBLISH
X-WR-CALNAME:VC Magazin
X-ORIGINAL-URL:https://www.vc-magazin.de
X-WR-CALDESC:Veranstaltungen für VC Magazin
REFRESH-INTERVAL;VALUE=DURATION:PT1H
X-Robots-Tag:noindex
X-PUBLISHED-TTL:PT1H
BEGIN:VTIMEZONE
TZID:Europe/Berlin
BEGIN:DAYLIGHT
TZOFFSETFROM:+0100
TZOFFSETTO:+0200
TZNAME:CEST
DTSTART:20230326T010000
END:DAYLIGHT
BEGIN:STANDARD
TZOFFSETFROM:+0200
TZOFFSETTO:+0100
TZNAME:CET
DTSTART:20231029T010000
END:STANDARD
BEGIN:DAYLIGHT
TZOFFSETFROM:+0100
TZOFFSETTO:+0200
TZNAME:CEST
DTSTART:20240331T010000
END:DAYLIGHT
BEGIN:STANDARD
TZOFFSETFROM:+0200
TZOFFSETTO:+0100
TZNAME:CET
DTSTART:20241027T010000
END:STANDARD
BEGIN:DAYLIGHT
TZOFFSETFROM:+0100
TZOFFSETTO:+0200
TZNAME:CEST
DTSTART:20250330T010000
END:DAYLIGHT
BEGIN:STANDARD
TZOFFSETFROM:+0200
TZOFFSETTO:+0100
TZNAME:CET
DTSTART:20251026T010000
END:STANDARD
END:VTIMEZONE
BEGIN:VEVENT
DTSTART;VALUE=DATE:20240305
DTEND;VALUE=DATE:20240306
DTSTAMP:20260420T141700
CREATED:20240108T120849Z
LAST-MODIFIED:20240108T120849Z
UID:73490-1709596800-1709683199@www.vc-magazin.de
SUMMARY:Prämierung Businessplan Wettbewerb Ideenreich 2024
DESCRIPTION:Der Businessplan Wettbewerb Ideenreich ist ein Regionalwettbewerb der Bayerischen Businessplan Wettbewerbe. Er richtet sich gezielt an Gründer aus der Region Niederbayern\, Altötting und Mühldorf am Inn\, die hier mit Experten-Unterstützung Ihr Geschäftsmodell für einen erfolgreichen Markteintritt entwickeln und so den Grundstein für ihr Unternehmenswachstum legen können. \nDie Siegerteams im Businessplan Wettbewerb Ideenreich zeichnet BayStartUP auf feierlichen Prämierungs-Events aus. Hier kommen die besten Nachwuchsunternehmer und Gründerexperten aus der Region zusammen. Auch Startup-Interessierte sind eingeladen\, können die Siegerehrung live miterleben und die Top-Teams und ihre Ideen persönlich kennenlernen.
URL:https://www.vc-magazin.de/event/praemierung-businessplan-wettbewerb-ideenreich-2024/
LOCATION:Freyung\, Freyung\, Bayern\, Deutschland
END:VEVENT
BEGIN:VEVENT
DTSTART;VALUE=DATE:20240306
DTEND;VALUE=DATE:20240308
DTSTAMP:20260420T141700
CREATED:20230908T083539Z
LAST-MODIFIED:20230908T083539Z
UID:72358-1709683200-1709855999@www.vc-magazin.de
SUMMARY:Transform
DESCRIPTION:TRANSFORM – Ihre Plattform für die Digitale Transformation von Unternehmen \nDas B2B-Lead-Event des Bitkom präsentiert neueste Technologien und Lösungen zur Digitalisierung von Geschäftsprozessen und -modellen. Führungskräfte und Entscheidungsträger – Geschäftsführungen\, Vorstände\, CDOs\, CIOs\, CSOs – sowie Digital-Expertinnen und -Experten kommen in Berlin branchenübergreifend zusammen. \nMehr Informationen hier.
URL:https://www.vc-magazin.de/event/transform/
LOCATION:STATION Berlin\, Luckenwalder Str. 4-6\, Berlin\, 10963\, Deutschland
END:VEVENT
BEGIN:VEVENT
DTSTART;VALUE=DATE:20240306
DTEND;VALUE=DATE:20240309
DTSTAMP:20260420T141700
CREATED:20240126T112347Z
LAST-MODIFIED:20240126T112413Z
UID:73580-1709683200-1709942399@www.vc-magazin.de
SUMMARY:Unternehmertag 2024
DESCRIPTION:Seit mehr als 17 Jahren werden einmal im Jahr mehr als 600 handverlesene Gäste\, Unternehmer\, Investoren\, Vertreter einflussreicher Familien\, Business Angels\, CEOs und Persönlichkeiten aus Wirtschaft\, Politik und Entertainment zum jährlichen Netzwerk-Event Unternehmertag in einem exklusiven Resort am Tegernsee eingeladen. \nDer Gründer von Mountain Partners\, Dr. Cornelius Boersch\, initiierte die zweitägige Veranstaltung im Jahr 2007\, um seinen Freunden und Geschäftspartnern eine jährliche Networking-Plattform in entspannter Atmosphäre zu bieten. In den folgenden Jahren entwickelte sich der Unternehmertag zu einem der beliebtesten Events der Venture Capital- und Private Equity-Szene in Europa und ist Treffpunkt für das Who-is-Who der europäischen Wirtschaft und Politik sowie Sprungbrett für viele erfolgreiche Start-ups\, darunter einige europäische Unicorns. Im Jahr 2021 hat die Unternehmertag AG mit ihrer Geschäftsführerin Natalie Kurz die Organisation dieses einzigartigen Events übernommen. \nDer Unternehmertag bietet Unternehmern und Investoren die einzigartige Möglichkeit\, sich in entspannter Atmosphäre zu treffen und auszutauschen. Der oft zitierte „Kessel Buntes“ bietet den Gästen einen abwechslungsreichen Mix aus Keynotes zu aktuellen Themen\, Präsentationen von innovativen Start-Ups und lukrativen Investitionsmöglichkeiten sowie ein unterhaltsames Rahmenprogramm mit ausreichend Gelegenheit für Networking auf höchstem Niveau. \nEindrücke aus dem Jahr 2022 finden Sie hier. \nMehr Informationen und zur Registrierung hier.
URL:https://www.vc-magazin.de/event/unternehmertag-2024/
LOCATION:Tegernsee\, Tegernsee\, Bayern\, Deutschland
END:VEVENT
BEGIN:VEVENT
DTSTART;VALUE=DATE:20240306
DTEND;VALUE=DATE:20240308
DTSTAMP:20260420T141700
CREATED:20240219T152251Z
LAST-MODIFIED:20240219T152251Z
UID:73738-1709683200-1709855999@www.vc-magazin.de
SUMMARY:Payment Exchange 2024
DESCRIPTION:Ziehen Sie die Lederjacken an und stimmen Sie die Gitarren – PEX 2024 rockt die Payment-Welt! Am 6. und 7. März wird’s heiß: „PEX\, Drugs und Rock’n’Roll“ – nicht l nur ein Motto\, sondern Ihre Eintrittskarte in die Welt der Payment-Innovationen. Seien Sie bereit für hitzige Debatten und Insights. Treffen Sie die Rockstars der Branche und vernetzt euch in einer Atmosphäre\, inspiriert von der Energie und Rebellion des Rock’n’Roll. \nPEX 2024 – wo Payment auf Rock’n’Roll trifft. Seid dabei\, wenn es heißt: Zahlungen neu erleben\, wild\, laut und revolutionär!“ \nInfos & Anmeldung unter: www.payment-exchange.com
URL:https://www.vc-magazin.de/event/payment-exchange-2024/
LOCATION:Malzfabrik\, Bessemerstraße 2-14\, Berlin\, 12103 
END:VEVENT
BEGIN:VEVENT
DTSTART;VALUE=DATE:20240306
DTEND;VALUE=DATE:20240307
DTSTAMP:20260420T141700
CREATED:20231220T131648Z
LAST-MODIFIED:20231220T131805Z
UID:73475-1709683200-1709769599@www.vc-magazin.de
SUMMARY:The MarTech Summit Berlin
DESCRIPTION:BEETc is delighted to announce the highly anticipated return of the MarTech Summit series to the vibrant city of Berlin\, Germany\, for the second time. This English-language event invites you to immerse yourself in an exploration of the current state & evolution of marketing technology across diverse companies\, with a particular emphasis on those with a robust European presence. \nThis summit promises a dynamic exchange of perspectives on globalisation and localisation tactics\, providing attendees with a comprehensive outlook on the latest trends and strategies in the ever-evolving world of MarTech. An influential gathering\, with an impressive 85% of attendees comprising senior leadership\, including CMOs\, Heads\, Directors\, and other senior-level professionals. This summit not only presents an outstanding opportunity for learning but also serves as a premier platform for valuable networking experiences. \nMore information and tickets here.
URL:https://www.vc-magazin.de/event/the-martech-summit-berlin-2024/
LOCATION:InterContinental Hotel Berlin\, Budapester Str. 2\, Berlin\, 10787
END:VEVENT
BEGIN:VEVENT
DTSTART;TZID=Europe/Berlin:20240306T130000
DTEND;TZID=Europe/Berlin:20240306T180000
DTSTAMP:20260420T141700
CREATED:20231215T124119Z
LAST-MODIFIED:20231220T133517Z
UID:73361-1709730000-1709748000@www.vc-magazin.de
SUMMARY:Sächsische Investoren Roadshow
DESCRIPTION:Die Sächsische Investoren Roadshow präsentiert zum 25. Jubiläum ausgewählte topaktuelle Gründungs- und Wachstumskonzepte „Made in Saxony“ vor Kapitalgebenden aus dem gesamten DACH-Raum. Zusätzlich zu den Pitch-Sessions sind individuelle 1:1-Meetings möglich! \nMehr Informationen hier.
URL:https://www.vc-magazin.de/event/saechsische-investoren-roadshow-2024/
LOCATION:Frankfurt am Main
ATTACH;FMTTYPE=image/jpeg:https://www.vc-magazin.de/wp-content/uploads/2023/12/Sharepic_VC-Magazin_IRS_I_2024-scaled.jpg
END:VEVENT
BEGIN:VEVENT
DTSTART;TZID=Europe/Berlin:20240307T180000
DTEND;TZID=Europe/Berlin:20240307T223000
DTSTAMP:20260420T141700
CREATED:20240108T121115Z
LAST-MODIFIED:20240108T121115Z
UID:73492-1709834400-1709850600@www.vc-magazin.de
SUMMARY:Nürnberger Startup Demo Night
DESCRIPTION:Ob Software für Knochenheilungssimulationen\, Climate-SaaS-Plattform zur effektivsten CO2-Reduktion\, neues Verfahren zur Herstellung von Li-Ionen-Batterien oder Plattform für Retouren ohne Umwege – Gäste können sicher sein\, auf den Startup Demo Nights ganz tief in die bayerische Startup-Szene abzutauchen. \nIm Rahmen der Demo Night kürt BayStartUp auch die Sieger des Businessplan Wettbewerbs Nordbayern Phase 1.
URL:https://www.vc-magazin.de/event/nuernberger-startup-demo-night/
LOCATION:Z-Bau\, Frankenstraße 200\, Nürnberg\, Bayern\, 90461\, Deutschland
END:VEVENT
BEGIN:VEVENT
DTSTART;VALUE=DATE:20240313
DTEND;VALUE=DATE:20240315
DTSTAMP:20260420T141700
CREATED:20231005T085720Z
LAST-MODIFIED:20231005T085720Z
UID:72601-1710288000-1710460799@www.vc-magazin.de
SUMMARY:FintechWorld24
DESCRIPTION:Das größte Finance-Tech-Event der DACH-Region: 550 Menschen aus der gesamten Banken– und Finanzdienstleistungsbranche kamen bei der FintechWorld23 zusammen\, um sich über die aktuellen Trends und Services auszutauschen und zu netzwerken. \nNun geht die Veranstaltung in die nächste Runde\, mit noch mehr Fintechs\, noch mehr Banken und noch mehr Networking-Optionen. \nWie auch im letzten Jahr\, haben Fintechs\, Regtechs\, Insurtechs usw. die Gelegenheit\, ihr Produkt vor einer Jury zu pitchen und spannende Preise zu gewinnen. \nZur Anmeldung und für mehr Informationen hier.
URL:https://www.vc-magazin.de/event/fintechworld24/
LOCATION:Motorwerk Berlin\, An der Industriebahn 12\, Berlin\, Berlin\, 13088\, Deutschland
END:VEVENT
BEGIN:VEVENT
DTSTART;VALUE=DATE:20240314
DTEND;VALUE=DATE:20240315
DTSTAMP:20260420T141700
CREATED:20240126T112700Z
LAST-MODIFIED:20240126T112749Z
UID:73584-1710374400-1710460799@www.vc-magazin.de
SUMMARY:BVK-Fachforum
DESCRIPTION:Mehr Informationen folgen zeitnah.
URL:https://www.vc-magazin.de/event/bvk-fachforum-2024/
LOCATION:Berlin
ATTACH;FMTTYPE=image/jpeg:https://www.vc-magazin.de/wp-content/uploads/2024/01/VC-Magazin-Banner-BVK-Fachforum.jpg
END:VEVENT
BEGIN:VEVENT
DTSTART;TZID=Europe/Berlin:20240314T093000
DTEND;TZID=Europe/Berlin:20240314T103000
DTSTAMP:20260420T141700
CREATED:20240130T112220Z
LAST-MODIFIED:20240130T112221Z
UID:73600-1710408600-1710412200@www.vc-magazin.de
SUMMARY:Online Seminar: IT- & DATEN-RECHT KOMPAKT: Data Act II - Wechsel zwischen Cloudanbietern
DESCRIPTION:Der Data Act wurde kürzlich verabschiedet. Da der Data Act die Datenökonomie in der EU neu ordnen will\, betrifft er wesentlich mehr Unternehmen als verbreitet angenommen. \nDer zweite Teil der Webinar-Reihe befasst sich mit dem Wechsel zwischen „Datenverarbeitungsdiensten“\, deren Geschäftsmodelle durch den Data Act eine grundlegende Änderung erfahren dürften. Der Anbieterwechsel soll aus Kundensicht wesentlich erleichtert werden\, was Cloudanbieter zum Abbau von Wechselbarrieren – so auch zur Anpassung ihrer Nutzungsverträge zwingt. \nSichern Sie sich jetzt Ihren Platz und nehmen Sie an der Onlineseminar-Reihe teil\, in der regelmäßig praxisrelevante Entwicklungen zum IT- und Datenrecht besprochen werden. \nMehr Informationen und zur Anmeldung hier: https://www.lutzabel.com/termine/20240314-it-und-daten-recht-kompakt-data-act-ii-wechsel-zwischen-cloudanbietern
URL:https://www.vc-magazin.de/event/online-seminar-it-daten-recht-kompakt-data-act-ii-wechsel-zwischen-cloudanbietern/
LOCATION:Online\, Deutschland
END:VEVENT
BEGIN:VEVENT
DTSTART;TZID=Europe/Berlin:20240314T180000
DTEND;TZID=Europe/Berlin:20240314T200000
DTSTAMP:20260420T141700
CREATED:20240108T121318Z
LAST-MODIFIED:20240108T121318Z
UID:73494-1710439200-1710446400@www.vc-magazin.de
SUMMARY:Prämierung Businessplan Wettbewerb Schwaben 2023
DESCRIPTION:Egal\, ob HighTech\, Lifestyle oder Innovationen aus dem Bereich BioSciences – beim Businessplan Wettbewerb Schwaben 2024 von BayStartUP haben Startups aus ganz Bayerisch-Schwaben und Landsberg am Lech auch in diesem Jahr wieder die Chance\, ihre Geschäftsskizzen und Pitchdecks einzureichen. BayStartUP prämiert die besten drei Teams\, denen Preisgelder in Höhe von insgesamt 2.250 Euro winken. \nDer Eintritt ist kostenfrei – eine Anmeldung erforderlich: https://www.baystartup.de/termine/detailview/event-33b6cd969789448d85ab0e686e5c3289?no_cache=1
URL:https://www.vc-magazin.de/event/praemierung-businessplan-wettbewerb-schwaben-2023/
LOCATION:Augsburg\, Bayern\, Deutschland
END:VEVENT
BEGIN:VEVENT
DTSTART;VALUE=DATE:20240318
DTEND;VALUE=DATE:20240319
DTSTAMP:20260420T141700
CREATED:20231005T090523Z
LAST-MODIFIED:20231005T090523Z
UID:72606-1710720000-1710806399@www.vc-magazin.de
SUMMARY:Berlin 2024 Venture Capital World Summit
DESCRIPTION:Venture Capital World Summit\, World Series Seasons of Investment Conferences \nGlobal community for investors and investees: Here to help businesses get more capital and expertise as they need to scale up\, and grow internationally with the support if required. The message to international businesses and entrepreneurs is simple: attend the international events and get in touch well before. The Venture Capital World Summit wants to help as many entrepreneurs as possible to get the investment and international opportunities via their trusted network. \nMore information here.
URL:https://www.vc-magazin.de/event/berlin-2024-venture-capital-world-summit/
LOCATION:Berlin\, Deutschland
END:VEVENT
BEGIN:VEVENT
DTSTART;VALUE=DATE:20240320
DTEND;VALUE=DATE:20240321
DTSTAMP:20260420T141700
CREATED:20231207T153206Z
LAST-MODIFIED:20231207T153206Z
UID:73250-1710892800-1710979199@www.vc-magazin.de
SUMMARY:MedTech Pitch Day 2024
DESCRIPTION:Nähere Informationen folgen.
URL:https://www.vc-magazin.de/event/medtech-pitch-day-2024/
END:VEVENT
BEGIN:VEVENT
DTSTART;TZID=Europe/Berlin:20240328T110000
DTEND;TZID=Europe/Berlin:20240328T130000
DTSTAMP:20260420T141700
CREATED:20240320T090100Z
LAST-MODIFIED:20240320T090100Z
UID:73944-1711623600-1711630800@www.vc-magazin.de
SUMMARY:Tokenizing Employee Participation - Shaping the Future of Work Rewards
DESCRIPTION:Join the webinar 𝐓𝐨𝐤𝐞𝐧𝐢𝐳𝐢𝐧𝐠 𝐄𝐦𝐩𝐥𝐨𝐲𝐞𝐞 𝐏𝐚𝐫𝐭𝐢𝐜𝐢𝐩𝐚𝐭𝐢𝐨𝐧 – 𝐒𝐡𝐚𝐩𝐢𝐧𝐠 𝐭𝐡𝐞 𝐅𝐮𝐭𝐮𝐫𝐞 𝐨𝐟 𝐖𝐨𝐫𝐤 𝐑𝐞𝐰𝐚𝐫𝐝𝐬 tailored for startup founders. Discover how tokenization can revolutionize employee engagement and incentives. Learn how GmbH-Tokens can foster a culture of participation and innovation. Gain insights on navigating the future of work rewards in the digital age. Don’t miss out on transforming your startup’s employee experience! \nZur Anmeldung auf LinkedIn.
URL:https://www.vc-magazin.de/event/tokenizing-employee-participation-shaping-the-future-of-work-rewards/
LOCATION:Online\, Deutschland
END:VEVENT
END:VCALENDAR