BEGIN:VCALENDAR
VERSION:2.0
PRODID:-//VC Magazin - ECPv6.15.15//NONSGML v1.0//EN
CALSCALE:GREGORIAN
METHOD:PUBLISH
X-WR-CALNAME:VC Magazin
X-ORIGINAL-URL:https://www.vc-magazin.de
X-WR-CALDESC:Veranstaltungen für VC Magazin
REFRESH-INTERVAL;VALUE=DURATION:PT1H
X-Robots-Tag:noindex
X-PUBLISHED-TTL:PT1H
BEGIN:VTIMEZONE
TZID:Europe/Berlin
BEGIN:DAYLIGHT
TZOFFSETFROM:+0100
TZOFFSETTO:+0200
TZNAME:CEST
DTSTART:20230326T010000
END:DAYLIGHT
BEGIN:STANDARD
TZOFFSETFROM:+0200
TZOFFSETTO:+0100
TZNAME:CET
DTSTART:20231029T010000
END:STANDARD
BEGIN:DAYLIGHT
TZOFFSETFROM:+0100
TZOFFSETTO:+0200
TZNAME:CEST
DTSTART:20240331T010000
END:DAYLIGHT
BEGIN:STANDARD
TZOFFSETFROM:+0200
TZOFFSETTO:+0100
TZNAME:CET
DTSTART:20241027T010000
END:STANDARD
BEGIN:DAYLIGHT
TZOFFSETFROM:+0100
TZOFFSETTO:+0200
TZNAME:CEST
DTSTART:20250330T010000
END:DAYLIGHT
BEGIN:STANDARD
TZOFFSETFROM:+0200
TZOFFSETTO:+0100
TZNAME:CET
DTSTART:20251026T010000
END:STANDARD
END:VTIMEZONE
BEGIN:VEVENT
DTSTART;VALUE=DATE:20240829
DTEND;VALUE=DATE:20240830
DTSTAMP:20260420T061657
CREATED:20231124T115553Z
LAST-MODIFIED:20240516T073845Z
UID:73084-1724889600-1724975999@www.vc-magazin.de
SUMMARY:Startup Open Air 2024
DESCRIPTION:SOA ist Deutschlands größtes Open Air Start-up Event. Hier bekommen Start-ups\, Investor:innen und Speaker:innen eine Stage! \nNetworking\, Workshops\, Inspiration\, Start-ups und Innovation – Hier ist für alle was dabei! \nEgal ob auf der #SOA Stage\, in der Corporate Area\, in Workshops in der Booster Area\, in der Food & Fun Area oder an den Ständen der Aussteller:innen und Start-ups. Beim SOA 2024 gibt es jede Menge zu entdecken. \nIn diesem Jahr sogar mit Guided Tours durch die Start-up-\, Corporate und Tech-Area! Sicheren Sie sich jetzt hier Ihr Ticket! \nTermin: 29.08.2024 \nOrt: Rheinwerkallee 6\, 53227 Bonn \nStartup Ansprechpartnerin: Olivia Lukasiewicz (olivia.lukasiewicz@digitalhub.de) – Senior Startup Coordinator \nCorporate Ansprechpartnerin: Hannah Weigelt (hannah.weigelt@digitalhub.de) – HR & Operations Manager \nWeitere Informationen gibt es unter https://soa.digitalhub.de.
URL:https://www.vc-magazin.de/event/startup-open-air-2024/
LOCATION:Bonner Bogen\, Bonn\, NRW\, Deutschland
ATTACH;FMTTYPE=image/png:https://www.vc-magazin.de/wp-content/uploads/2023/11/Logo_SOA_Digital_Hub1.png
END:VEVENT
BEGIN:VEVENT
DTSTART;TZID=Europe/Berlin:20240829T180000
DTEND;TZID=Europe/Berlin:20240829T233000
DTSTAMP:20260420T061657
CREATED:20240425T125219Z
LAST-MODIFIED:20240729T091604Z
UID:74264-1724954400-1724974200@www.vc-magazin.de
SUMMARY:PEF Summer Reception 2024 – 25 Jahre Private Equity Forum NRW
DESCRIPTION:PEF Summer Reception 2024 in der ehemaligen Seifenfabrik Dr. Thompson’s am 29. August 2024! \nNeben einem für diesen Anlass erweiterten\, würdigen Rahmenprogramm u.a. mit einer Keynote der Bestsellerautorin und Gründerin von „Rebels at Work“\, Anja Förster\, die bekanntermaßen tradierte Denkmuster gerne hinterfragt\, Dr. Frédéric du Bois-Reymond (Vorstandsmitglied BVK und Partner Earlybird X)\, als auch Christoph Büth (Bereichsleiter der NRW.BANK) wird das Jubiläum selbstverständlich auch wieder durch Live-Music und von einem DJ begleitet (Tanzen erwünscht!). \nZu diesem besonderen Anlass wird auch eine Sonderpublikation „25 Jahre Private Equity Forum NRW“ erscheinen\, die sowohl einen Rückblick auf 25 Jahre Private Equity- und Venture Capital-Investments in NRW und im deutschsprachigen Raum sowie eine aktuelle Bestandsaufnahme und einen Blick in die Zukunft der Beteiligungsfinanzierung bieten wird. Dabei kommen ausgewählte Szene-Mitglieder wie Investoren\, Unternehmer\, Start-ups und Intermediäre in Interviews\, Fallstudien und Statements zu Wort. \nAnmeldungen sind ab sofort möglich: https://www.private-equity-forum.de/event/psr24/.
URL:https://www.vc-magazin.de/event/pef-summer-reception-2024-25-jahre-private-equity-forum-nrw/
LOCATION:Seifenfabrik Dr. Thompson’s\, Erkrather Str. 232\, Düsseldorf\, 40233
ATTACH;FMTTYPE=image/png:https://www.vc-magazin.de/wp-content/uploads/2024/04/PEF_Summer_Reception.png
END:VEVENT
BEGIN:VEVENT
DTSTART;VALUE=DATE:20240831
DTEND;VALUE=DATE:20240901
DTSTAMP:20260420T061657
CREATED:20240730T112025Z
LAST-MODIFIED:20240730T131804Z
UID:75125-1725062400-1725148799@www.vc-magazin.de
SUMMARY:Investment Readiness Program [Bewerbungsschluss]
DESCRIPTION:𝐒𝐭𝐚𝐫𝐭𝐮𝐩𝐬 𝐚𝐮𝐟𝐠𝐞𝐩𝐚𝐬𝐬𝐭! Sie haben ein B2B SaaS Business Model? Und wollen sich auf Ihre nächste Finanzierungsrunde vorbereiten? Dann ist das Investment Readiness Program vom MediaTech Hub Accelerator genau das Richtige für Sie! Im Oktober 2024 startet das Programm in die nächste Runde. Bewerben Sie sich jetzt und werden Sie Teil der zweiten Kohorte. \nDas erwartet Sie: \n\n8 Wochen intensiver Support\, gefolgt von weiteren 10 Monaten individueller Unterstützung nach Bedarf\nSie erhalten wertvolle Insights zum Thema Fundraising von Experten\, Investoren & VC Anwälten\nCommunity & Peer-Learning mit anderen Start-ups\nZugang zu Tech-Events & damit internationale Sichtbarkeit\n\nMTH Potsdam\nDas klingt genau richtig für Sie? Dann nutzen Sie die Chance und bewerben Sie sich für das Investment Readiness Programm: https://mth-potsdam.de/accelerator/
URL:https://www.vc-magazin.de/event/investment-readiness-program-2024/
LOCATION:Online\, Deutschland
END:VEVENT
END:VCALENDAR