BEGIN:VCALENDAR
VERSION:2.0
PRODID:-//VC Magazin - ECPv6.15.15//NONSGML v1.0//EN
CALSCALE:GREGORIAN
METHOD:PUBLISH
X-WR-CALNAME:VC Magazin
X-ORIGINAL-URL:https://www.vc-magazin.de
X-WR-CALDESC:Veranstaltungen für VC Magazin
REFRESH-INTERVAL;VALUE=DURATION:PT1H
X-Robots-Tag:noindex
X-PUBLISHED-TTL:PT1H
BEGIN:VTIMEZONE
TZID:Europe/Berlin
BEGIN:DAYLIGHT
TZOFFSETFROM:+0100
TZOFFSETTO:+0200
TZNAME:CEST
DTSTART:20230326T010000
END:DAYLIGHT
BEGIN:STANDARD
TZOFFSETFROM:+0200
TZOFFSETTO:+0100
TZNAME:CET
DTSTART:20231029T010000
END:STANDARD
BEGIN:DAYLIGHT
TZOFFSETFROM:+0100
TZOFFSETTO:+0200
TZNAME:CEST
DTSTART:20240331T010000
END:DAYLIGHT
BEGIN:STANDARD
TZOFFSETFROM:+0200
TZOFFSETTO:+0100
TZNAME:CET
DTSTART:20241027T010000
END:STANDARD
BEGIN:DAYLIGHT
TZOFFSETFROM:+0100
TZOFFSETTO:+0200
TZNAME:CEST
DTSTART:20250330T010000
END:DAYLIGHT
BEGIN:STANDARD
TZOFFSETFROM:+0200
TZOFFSETTO:+0100
TZNAME:CET
DTSTART:20251026T010000
END:STANDARD
END:VTIMEZONE
BEGIN:VEVENT
DTSTART;VALUE=DATE:20241105
DTEND;VALUE=DATE:20241107
DTSTAMP:20260420T013059
CREATED:20240701T084032Z
LAST-MODIFIED:20240701T084032Z
UID:74733-1730764800-1730937599@www.vc-magazin.de
SUMMARY:Connected Germany 2024
DESCRIPTION:Mit über 1.800 Delegierten und 150 Rednern bietet die Connected Germany ein Forum\, in dem führende Experten\, Entscheidungsträger\, Ausrüster\, Investoren\, Unternehmen und andere Personen Gedanken austauschen\, Perspektiven entdecken und Partnerschaften eingehen können. Auf der Connected Germany 2024 werden wir Verbindungen knüpfen\, um ein besser vernetztes Deutschland zu schaffen. \nMehr hier.
URL:https://www.vc-magazin.de/event/connected-germany-2024/
LOCATION:MOC München\, München\, Deutschland
END:VEVENT
BEGIN:VEVENT
DTSTART;VALUE=DATE:20241105
DTEND;VALUE=DATE:20241109
DTSTAMP:20260420T013059
CREATED:20240620T080509Z
LAST-MODIFIED:20240620T080819Z
UID:74617-1730764800-1731110399@www.vc-magazin.de
SUMMARY:SuperInvestor
DESCRIPTION:SuperInvestor like you’ve never known it before Join us in Monaco for a unique event experience. \nA far cry from the typical city-centre hotel\, the Grimaldi Forum offers giant meeting areas and fabulous outdoor networking. \nSo you can enjoy the perfect space for productive connections with the people who matter. \nPlay your part in the 90\,000 meetings that will take place at SuperInvestor. \nA new dedicated meeting zone \nSupercharge your connections with SuperInvestor Allocate: quickfire 1:1 meetings in\ndedicated time slots each day. Helping you network with the people you value most in a time\nefficient way. \nPre-arrange meetings in the SuperInvestor Allocate networking zone via the app. \nEach day’s meetings will be focused on topics such as growth and venture\, private debt and buyouts. To ensure you meet with LPs and GPs with similar investment strategies. \nOutside of SuperInvestor Allocate\, you can book a private meeting room or booth to get that\nkey deal done. \n10% discount – VIP code: FKR3558VCM\nRegister by Friday 5 July to save a further £1\,400 \nRegister here. \nSuperInvestor 2024
URL:https://www.vc-magazin.de/event/superinvestor-2024/
LOCATION:The Grimaldi Forum Monaco\, Monaco\, Monaco
ATTACH;FMTTYPE=image/png:https://www.vc-magazin.de/wp-content/uploads/2024/06/SuperInvestor2024.png
END:VEVENT
BEGIN:VEVENT
DTSTART;VALUE=DATE:20241106
DTEND;VALUE=DATE:20241107
DTSTAMP:20260420T013059
CREATED:20241007T113103Z
LAST-MODIFIED:20241007T113103Z
UID:75637-1730851200-1730937599@www.vc-magazin.de
SUMMARY:Startupland Conference 2024
DESCRIPTION:Am 6. November 2024 findet die erste Startupland Conference im RheinEnergieSTADION in Köln statt. Die Konferenz verspricht ein inspirierendes Programm\, das sich an Start-ups\, Venture Capitalists\, Corporates und Entrepreneure richtet. Auf drei Bühnen werden hochkarätige Keynotes\, praxisnahe Workshops und spannende Startup-Pitches geboten. Neben Networking-Möglichkeiten mit führenden Experten und aufstrebenden Gründern liegt der Fokus auf Wissenstransfer und praxisnahen Strategien. \nOrganisiert wird die Veranstaltung vom Team hinter deutsche-startups.de. Die Startupland Conference wird über 800 Teilnehmer aus dem nationalen und internationalen Startup-Ökosystem zusammenbringen und eine Plattform für den Wissensaustausch und das Wachstum der Szene schaffen.
URL:https://www.vc-magazin.de/event/startupland-conference-2024/
LOCATION:Köln
END:VEVENT
BEGIN:VEVENT
DTSTART;VALUE=DATE:20241106
DTEND;VALUE=DATE:20241107
DTSTAMP:20260420T013059
CREATED:20241016T112748Z
LAST-MODIFIED:20241016T112957Z
UID:75754-1730851200-1730937599@www.vc-magazin.de
SUMMARY:invest.austria conference
DESCRIPTION:💥 Join us at the invest.austria Conference 2024 💥 \nMark your calendars for November 6\, 2024! The invest.austria conference is Austria’s premier event for Venture Capital\, Private Equity and Angel-Investing . We are thrilled to be part of this inspiring gathering of over 400 investors\, entrepreneurs\, and ecosystem representatives from Austria\, the DACH region\, and around the globe. \nWe are proud to support this event as a partner and can’t wait to see you there! Discover the latest insights on the future of investing\, emerging trends\, the role of private investors in PE and VC and don’t miss this opportunity to connect with visionary entrepreneurs and explore promising startups! \nIf you’re interested in joining us there use the code: ia24-VCM-30 upon registration and get 30% off the ticket price! \n📅 When? 6 November 2024 \n📍 Where? Apothekertrakt Schönbrunn\, Vienna \nMore information here 👉 https://conference.invest-austria.com/ \nThe event is organized by invest.austria – the leading network for investors in the Austrian pre-IPO capital market and one of the most important cornerstones of the domestic financing ecosystem.
URL:https://www.vc-magazin.de/event/invest-austria-conference-2024/
LOCATION:Wien\, Wien\, Österreich
ATTACH;FMTTYPE=image/png:https://www.vc-magazin.de/wp-content/uploads/2024/10/24_iaconference.png
END:VEVENT
BEGIN:VEVENT
DTSTART;TZID=Europe/Berlin:20241107T093000
DTEND;TZID=Europe/Berlin:20241107T153000
DTSTAMP:20260420T013059
CREATED:20241018T081228Z
LAST-MODIFIED:20241018T081228Z
UID:75790-1730971800-1730993400@www.vc-magazin.de
SUMMARY:Sächsischer Business Angel Tag 2024
DESCRIPTION:Auf dem Sächsischen Business Angel Tag kommt die Sächsische Business Angel-Community zum Erfahrungsaustausch\, Netzwerken und zur Erweiterung ihres Dealflows zusammen. \nErhalten Sie Einblicke in das Wirken aktiver Business Angels und Anregungen durch sächsische Best Practices. Erfahren Sie\, wie Sie als Unternehmer/-in oder Business Angel von der Unterstützung durch regionale\, institutionelle Kapitalgebende und von Fördermitteln des Freistaates Sachsen profitieren können. \nMehr Informationen hier.
URL:https://www.vc-magazin.de/event/saechsischer-business-angel-tag-24/
LOCATION:Chemnitz\, Chemnitz\, Sachsen\, Deutschland
END:VEVENT
BEGIN:VEVENT
DTSTART;TZID=Europe/Berlin:20241107T170000
DTEND;TZID=Europe/Berlin:20241107T210000
DTSTAMP:20260420T013059
CREATED:20241029T164205Z
LAST-MODIFIED:20241029T164205Z
UID:75987-1730998800-1731013200@www.vc-magazin.de
SUMMARY:Landshuter Gründernacht 2024
DESCRIPTION:Die Landshuter Gründernacht der Hochschule Landshut bietet Unternehmerinnen und Unternehmern von morgen eine Plattform. Die Veranstaltung führt alljährlich im November durch ein spannendes Programm an Podiumsdiskussionen\, Impulsen und Pitches angehender Start-ups aus dem Netzwerk. Mit einem Publikum von Entrepreneuren\, Akademikern\, regionalen Persönlichkeiten und innovativen Denkern ist die Landshuter Gründernacht wichtiger Treffpunkt für die Gründerszene in der Region. \nMit der Verleihung des Landshuter Gründerpreises fördert und würdigt die Hochschule Landshut besonders innovative und zukunftsweisende Projekte und Start-ups. Die drei Gewinner aus der Jury-Gesamtwertung werden mit dem Gründerpreis ausgezeichnet und dürfen sich über ein attraktives Preisgeld freuen. \nDie Teilnahme an der Landshuter Gründernacht ist kostenfrei. Eine Anmeldung ist aus organisatorischen Gründen bis 02.11.2024 erforderlich. Mehr Informationen hier.
URL:https://www.vc-magazin.de/event/landshuter-gruendernacht-2024/
LOCATION:Hochschule Landshut\, Am Lurzenhof 1\, Landshut\, 84036\, Germany
END:VEVENT
BEGIN:VEVENT
DTSTART;VALUE=DATE:20241112
DTEND;VALUE=DATE:20241114
DTSTAMP:20260420T013059
CREATED:20240801T080021Z
LAST-MODIFIED:20240801T080021Z
UID:75163-1731369600-1731542399@www.vc-magazin.de
SUMMARY:The MarTech Summit London 2024
DESCRIPTION:On 12 & 13 November 2024\, The MarTech Summit London will gather over 400 MarTech professionals at Convene\, 155 Bishopsgate\, London\, featuring more than 30 sessions led by 70+ industry-leading speakers. \nWhat’s new in 2024? \nIt’s back in London\, now with 3 stages! The exciting agenda includes Day 1 with a plenary stage focused on MarTech trends. On Day 2\, it’s splitting into 2 stages\, focusing on B2B and B2C. The summit includes case studies\, panel discussions\, fireside chats\, keynotes\, multiple breakout roundtables\, and Q&As on the latest MarTech trends! \nRegister by 18 September 2024 to get the Super Early Bird Discount of 40% off! \nSecure your passes now: https://themartechsummit.com/london-registration?utm_source=vc_magazine&amp;utm_medium=media_partner&amp;utm_campaign=london24 \nMore here.
URL:https://www.vc-magazin.de/event/the-martech-summit-london-24/
LOCATION:London\, London\, Großbritannien
END:VEVENT
BEGIN:VEVENT
DTSTART;VALUE=DATE:20241113
DTEND;VALUE=DATE:20241115
DTSTAMP:20260420T013059
CREATED:20241106T141013Z
LAST-MODIFIED:20241106T141013Z
UID:76068-1731456000-1731628799@www.vc-magazin.de
SUMMARY:22. Deutscher Corporate M&A-Kongress
DESCRIPTION:Die deutsche Wirtschaft steht vor einer Vielzahl von Herausforderungen. Russlands Krieg gegen die Ukraine\, Chinas wirtschaftliche Lage\, der Ausgang der Wahlen in den USA. Viele Ungewissheiten prägen seit Monaten die Lage an den Märkten. Was hat dies für Auswirkungen auf die M&A-Aktivitäten der deutschen Unternehmen? Wie entwickeln sich die Preise? Wer ist in welchen Bereichen besonders aktiv am Markt – und wie steht es um den Fortgang der Digitalisierung der M&A-Prozesse? \nDiese und viele weitere Themen stehen im Mittelpunkt des 22. Deutschen Corporate M&A Kongresses am 13. und 14. November in Haus der Bayerischen Wirtschaft in München. \nZur Registrierung und für mehr Informationen hier.
URL:https://www.vc-magazin.de/event/22-deutscher-corporate-ma-kongress/
LOCATION:hbw Haus der Bayerischen Wirtschaft\, ConferenceArea\, Europasaal\, Max-Joseph-Straße 5 \, München \, 80333 \, Deutschland
END:VEVENT
BEGIN:VEVENT
DTSTART;TZID=Europe/Berlin:20241113T160000
DTEND;TZID=Europe/Berlin:20241113T190000
DTSTAMP:20260420T013059
CREATED:20241028T130421Z
LAST-MODIFIED:20241028T130421Z
UID:75911-1731513600-1731524400@www.vc-magazin.de
SUMMARY:Legeltech Meetup
DESCRIPTION:Wo stehen Anwälte 2024 in der Legal Automation und der KI-Implementierung? \nDas klärt HADLEY gemeinsam mit spannenden Gästen am 13. November in Münster. Gemeinsam wird realistisch beleuchtet\, welche Technologien für Anwälte unverzichtbar geworden sind und welche Rolle KI in den nächsten drei Jahren spielen wird – inklusive einer kritischen Auseinandersetzung mit den Herausforderungen. \nAuf dem Panel: Dr. Benedikt M. Quarch (CEO und Gründer von RightNow Group)\, Immo Ait Stapelfeld (Anwalt\, CEO & Founder von 913.ai) & Hans Knöchel (CEO Lambus\, Co-Founder von companycheck.ai). \nAnmeldung per E-Mail an: anika.lindow@hadley.de
URL:https://www.vc-magazin.de/event/legeltech-meetup/
LOCATION:Hadley\, Hohenzollernring 56\, Münster\, Nordrhein-Westfalen\, 48145\, Germany
END:VEVENT
BEGIN:VEVENT
DTSTART;TZID=Europe/Berlin:20241113T180000
DTEND;TZID=Europe/Berlin:20241113T200000
DTSTAMP:20260420T013059
CREATED:20241023T092526Z
LAST-MODIFIED:20241023T092601Z
UID:75822-1731520800-1731528000@www.vc-magazin.de
SUMMARY:29. Münchner M&A Forum
DESCRIPTION:Das Münchner M&A Forum (MMA) bietet eine Plattform für Vorträge und Diskussionen über aktuelle wirtschaftliche und rechtliche Entwicklungen und deren Auswirkungen auf M&A-Transaktionen. MMA freut sich als unabhängiger Veranstalter\, Verantwortliche aus Unternehmen\, Kanzleien\, Beratungs­gesellschaften\, der Justiz und der öffentlichen Verwaltung begrüßen zu dürfen. \nMehr hier
URL:https://www.vc-magazin.de/event/29-muenchner-ma-forum/
LOCATION:Literaturhaus München\, Salvatorplatz 1\, München\, 80333\, Deutschland
END:VEVENT
BEGIN:VEVENT
DTSTART;VALUE=DATE:20241114
DTEND;VALUE=DATE:20241116
DTSTAMP:20260420T013059
CREATED:20240717T140937Z
LAST-MODIFIED:20240717T140937Z
UID:74970-1731542400-1731715199@www.vc-magazin.de
SUMMARY:ICPO Theranostics Summit 2024
DESCRIPTION:Building on the growing success of the first edition of the ICPO Theranostics Summit in 2022\, as well as of the multiple FAP sessions hosted during the ICPO Forum in 2023 and the Theranostics World Congress earlier in 2024\, the ICPO Foundation is pleased to launch its ICPO Theranostics Summit 2024 next November 14 & 15 as all virtual event. \nMore information here.
URL:https://www.vc-magazin.de/event/icpo-theranostics-summit-2024/
LOCATION:Online\, Deutschland
END:VEVENT
BEGIN:VEVENT
DTSTART;TZID=Europe/Berlin:20241114T093000
DTEND;TZID=Europe/Berlin:20241114T140000
DTSTAMP:20260420T013059
CREATED:20241009T134345Z
LAST-MODIFIED:20241009T134346Z
UID:75693-1731576600-1731592800@www.vc-magazin.de
SUMMARY:BayStartUP x BioM Pitch Day
DESCRIPTION:BayStartUP und BioM laden Sie herzlich zum BayStartUP x BioM Pitch Day ein. Die Veranstaltung bündelt die Stärken von BayStartUp und BioM\, um hochkarätige Investoren mit innovativen Startups aus den Bereichen Digital Health\, Life Sciences und Healthtech zu vernetzen. Nutzen Sie die Gelegenheit\, wegweisende Startup-Teams kennenzulernen und Ihr Netzwerk mit gleichgesinnten Investoren zu erweitern. \nBitte beachten Sie\, dass die Teilnahme nur für aktive Investoren möglich ist und jede Anmeldung geprüft wird. Zur Anmeldung.
URL:https://www.vc-magazin.de/event/baystartup-x-biom-pitch-day/
LOCATION:MTZ München\, Agnes-Pockels-Bogen 1\, München\, Germany
END:VEVENT
BEGIN:VEVENT
DTSTART;VALUE=DATE:20241115
DTEND;VALUE=DATE:20241117
DTSTAMP:20260420T013059
CREATED:20240708T122926Z
LAST-MODIFIED:20240708T122927Z
UID:74856-1731628800-1731801599@www.vc-magazin.de
SUMMARY:start2grow-Camp
DESCRIPTION:Zweitägiges Arbeitswochenende inkl. Vorstellung Kapitalgeber im Rahmen des Wettbewerbs start2grow!\n \nWeitere Informationen folgen zeitnah! \nMehr zum start2grow-Wettbewerb \nstart2grow Pitch Party 2024\nTerminübersicht des gesamten Wettbewerbs:\n\n24.09.2024 – start2grow-Match\n\nAuftaktevent inkl. Kennenlernen der Coaches und „Open Pitch Stage“ \n\n11.10.2024 – start2grow-Meet & Work\n\nWorkshops und Vorträge zu gründungsrelevanten Themen \n\n15./16.11.2024 – start2grow-Camp\n\nZweitägiges Arbeitswochenende inkl. Vorstellung Kapitalgeber \n\n13.01.2025 – Abgabefrist Businesspläne\n26.02.2025 – start2grow-Pitch & Party\n\nDie TOP 20 pitcht vor der Jury. Nach Bekanntgabe der Platzierungen wird am Abend gemeinsam gefeiert.
URL:https://www.vc-magazin.de/event/start2grow-camp/
LOCATION:Bayern
END:VEVENT
BEGIN:VEVENT
DTSTART;VALUE=DATE:20241118
DTEND;VALUE=DATE:20241119
DTSTAMP:20260420T013059
CREATED:20241029T155752Z
LAST-MODIFIED:20241029T155752Z
UID:75981-1731888000-1731974399@www.vc-magazin.de
SUMMARY:Konstanzer Gründungswoche 2024 [Beginn]
DESCRIPTION:Vom 18. bis 22. November findet die Konstanzer Gründungswoche 2024 statt. Im Rahmen der Gründungswoche stattfindende Events finden Sie hier: https://www.konstanz.farm/events/liste/. \nDie Veranstaltungen finden im farm – Gründung & Innovation (Technologiezentrum) statt! Bei farm – Gründung & Innovation dreht sich alles um junge Unternehmen\, Veranstaltungen und das Netzwerken. Hier sind alle richtig\, die sich für die Gründungsszene in Konstanz interessieren\, selbst gründen möchten\, dies schon getan haben oder Innovationsvorhaben unterstützen wollen.
URL:https://www.vc-magazin.de/event/konstanzer-gruendungswoche-2024/
LOCATION:farm – Gründung & Innovation (Technologiezentrum)\, Bücklestraße 3\, Konstanz\, Bayern\, 78467\, Germany
END:VEVENT
BEGIN:VEVENT
DTSTART;VALUE=DATE:20241119
DTEND;VALUE=DATE:20241120
DTSTAMP:20260420T013059
CREATED:20240813T085805Z
LAST-MODIFIED:20240813T095034Z
UID:75305-1731974400-1732060799@www.vc-magazin.de
SUMMARY:Investforum Pitch-Day 2024
DESCRIPTION:Innovative Ideen\, die die Welt verändern haben durch große Namen wie Luther oder Gropius in Sachsen-Anhalt Tradition. Doch welche Namen aus der Mitte Deutschlands prägen zukünftig das Gesicht der Welt? Darüber könnten Sie am 19. November mitentscheiden! \nAuf dem Investforum Pitch-Day 2024 haben 30 Start-ups und Forschungsteams aus Sachsen-Anhalt die Chance\, finanzstarke Investoren für ihre innovativen Ideen zu begeistern. Das Pitch-Event ist für die Start-up-Szene in Sachsen-Anhalt die größte Veranstaltung des Jahres. Es richtet sich an innovative Startups und bringt diese mit Venture Capitalists\, Unternehmen\, Business Angels und privaten Investoren zusammen. In seiner 16-jährigen Geschichte hat der Pitch-Day sich als feste Größe im Bundesland etabliert. Bei unserem jährlichen Matching-Event kommt das Who‘s-who der Startup-Szene aus Sachsen-Anhalt zusammen. Hier trifft Innovation auf Kapital. \n\n\n\n\nDer Pitch-Day ist eine Veranstaltung des Investforum Startup-Service.
URL:https://www.vc-magazin.de/event/investforum-pitch-day-2024/
LOCATION:Magdeburg\, Magdeburg\, Deutschland
END:VEVENT
BEGIN:VEVENT
DTSTART;TZID=Europe/Berlin:20241119T170000
DTEND;TZID=Europe/Berlin:20241119T190000
DTSTAMP:20260420T013059
CREATED:20240311T162704Z
LAST-MODIFIED:20241105T112722Z
UID:73880-1732035600-1732042800@www.vc-magazin.de
SUMMARY:KfW Capital VC-Academy 2024: Quo vadis\, European Venture Capital?
DESCRIPTION:KI\, Emerging Manager\, privates und staatliches Kapital und European Venture – das sind in aller Kürze die Themen\, um die es bei der diesjährigen KfW Capital-VC-Academy geht!\n \nEs erwarten Sie zu allen Themen informative Sessions\, bei denen VC-Expertinnen und -Experten neueste Entwicklungen vorstellen und Einblicke in ihre Fachgebiete geben. Markieren Sie sich die Termine bereits jetzt in Ihrem Kalender!\n \nSchreiben Sie eine E-Mail an die KfW Capital unter info-kfw-capital@kfw.de\, wenn Sie teilnehmen möchten! \nAlle Termine: \n\nMittwoch\, 24. April 2024 – Venture Capital: Verantwortungsvolles Investieren in KI\nMittwoch\, 03. Juli 2024 – Frischer Wind: Emerging Manager für den VC-Markt\nMittwoch\, 11. September 2024 – Privates und staatliches Kapital – gemeinsam das VC-Ökosystem stärken\nDienstag\, 19. November 2024 – Quo vadis\, European Venture Capital?
URL:https://www.vc-magazin.de/event/kfw-capital-vc-academy-2024-quo-vadis-european-venture-capital/
LOCATION:KfW Bankengruppe\, Charlottenstraße 33a\, Berlin\, 10117\, Deutschland
END:VEVENT
BEGIN:VEVENT
DTSTART;VALUE=DATE:20241122
DTEND;VALUE=DATE:20241124
DTSTAMP:20260420T013059
CREATED:20231124T122815Z
LAST-MODIFIED:20231124T122816Z
UID:73090-1732233600-1732406399@www.vc-magazin.de
SUMMARY:SECA Private Equity Workshop
DESCRIPTION:Nähere Informationen zur Veranstaltung folgen.
URL:https://www.vc-magazin.de/event/seca-private-equity-workshop-2024/
LOCATION:Bayern
END:VEVENT
BEGIN:VEVENT
DTSTART;VALUE=DATE:20241123
DTEND;VALUE=DATE:20241126
DTSTAMP:20260420T013059
CREATED:20240219T152057Z
LAST-MODIFIED:20241024T120754Z
UID:73739-1732320000-1732579199@www.vc-magazin.de
SUMMARY:Deutscher Business Angels Tag 2024
DESCRIPTION:Aktuell sieht die Agenda für den Deutschen Business Angels Tag wie folgt aus: \n\nSamstag: BAND HotspotTour: Angel und Start-up Ökosystem Mainz. An diesem Tag geht der „Deutsche Business Angels Tag“ am Veranstaltungsort auf Tour. Wir besuchen Start-up Beschleuniger und Promotoren des Angels Ökosystems\, hören die Stories erfolgreicher Mainzer Start-ups und Unternehmerinnen und Unternehmer\, sprechen mit den Playern der rheinland-pfälzischen Szene und treffen uns zu informellem Networking.\n\n  \n\nSonntag: Tag zwei des „Deutschen Business Angels Tages“ ist tagsüber interaktiven Workshops zu zentralen Themen des Angel Investings gewidmet (dabei geht es in erster Linie um Erfahrungsaustausch und Wissensvermittlung) und abends steht die feierliche Gala anlässlich der Verleihung der „Goldenen Nase“ an den „Business Angels des Jahres 2024“ auf der Agenda.\n\n  \n\nMontag: Kongressprogramm Politik\, Positionen\, Panels und Ausstellung sowohl Kapital suchender Start-ups als auch der Know-how und Kompetenzträger im Angels Markt.\n\n \nWeitere Informationen hier.
URL:https://www.vc-magazin.de/event/deutscher-business-angels-tag-2024/
LOCATION:Mainz\, Mainz\, Deutschland
ATTACH;FMTTYPE=image/jpeg:https://www.vc-magazin.de/wp-content/uploads/2024/02/1200x840_RLP_BAND_Header.jpg
END:VEVENT
BEGIN:VEVENT
DTSTART;TZID=Europe/Berlin:20241127T110000
DTEND;TZID=Europe/Berlin:20241127T180000
DTSTAMP:20260420T013059
CREATED:20241009T134831Z
LAST-MODIFIED:20241009T134832Z
UID:75695-1732705200-1732730400@www.vc-magazin.de
SUMMARY:VentureCon
DESCRIPTION:Gemeinsam mit Pape & Co. lädt BayStartUP herzlich zur nächsten Investorenkonferenz ein! \nDas erwartet Sie: \n\n\n\nInvestors Lunch für alle Konferenz-Teilnehmer\nInsights zu aktuellen Themen in kleinen Think Tanks\nOffenes Networking bei Glühwein & heißem Punsch mit Blick auf die Alpen\nPre-Visiting der Startup Demo Night mit Walking Pitches von 15 Top-Startups\n\n\n\nWeitere Informationen\, das ausführliche Programm und Tickets auf https://baystartup-venturecon.de/
URL:https://www.vc-magazin.de/event/venturecon-2024/
LOCATION:München\, München\, Bayern\, Deutschland
END:VEVENT
BEGIN:VEVENT
DTSTART;TZID=Europe/Berlin:20241128T140000
DTEND;TZID=Europe/Berlin:20241128T180000
DTSTAMP:20260420T013059
CREATED:20241023T111500Z
LAST-MODIFIED:20241023T111501Z
UID:75829-1732802400-1732816800@www.vc-magazin.de
SUMMARY:Digital Health Pitch Day 2024
DESCRIPTION:Der High-Tech Gründerfonds\, adesso und Plug and Play veranstalten den DIGITAL HEALTH PITCH DAY 2024!  Nutzen Sie die Gelegenheit und präsentieren Sie Ihre Technologie vor einem exklusiven Publikum von Investoren und CVCs! \nSie werden die Gelegenheit haben\, interessante Keynotes von relevanten Branchenakteuren zu hören\, ein ausgewähltes Publikum von Investoren und Corporate VCs zu treffen und vor allem spannende\, wegweisende Pitches von Digital Health Startups zu erleben. \nSie sind ein digitales Gesundheits-Start-up und möchten Ihr Unternehmen führenden Investoren und Entscheidungsträgern aus Unternehmen vorstellen? \nNutzen Sie die Chance und präsentieren Sie Ihr Technologie vor einem exklusiven Publikum aus Investoren\, Corporate VCs und Branchenexperten! Die Veranstaltung ist kostenlos und wird in englischer Sprache abgehalten. \nDas Organisationsteam für diese Veranstaltung ist: Niels Sharman\, Senior Investment Manager beim HTGF\, Dr. Katharina Severin\, Investment Manager beim HTGF\, Kismet Ekinci\, Business Development Personal Health bei Adesso und Fabian Scheugenpflug\, Senior Ventures Associate\, Plug and Play.
URL:https://www.vc-magazin.de/event/digital-health-pitch-day-2024/
LOCATION:adesso SE\, Streitfeldstraße 25\, München\, 81673\, Germany
END:VEVENT
END:VCALENDAR