BEGIN:VCALENDAR
VERSION:2.0
PRODID:-//VC Magazin - ECPv6.15.15//NONSGML v1.0//EN
CALSCALE:GREGORIAN
METHOD:PUBLISH
X-WR-CALNAME:VC Magazin
X-ORIGINAL-URL:https://www.vc-magazin.de
X-WR-CALDESC:Veranstaltungen für VC Magazin
REFRESH-INTERVAL;VALUE=DURATION:PT1H
X-Robots-Tag:noindex
X-PUBLISHED-TTL:PT1H
BEGIN:VTIMEZONE
TZID:Europe/Berlin
BEGIN:DAYLIGHT
TZOFFSETFROM:+0100
TZOFFSETTO:+0200
TZNAME:CEST
DTSTART:20240331T010000
END:DAYLIGHT
BEGIN:STANDARD
TZOFFSETFROM:+0200
TZOFFSETTO:+0100
TZNAME:CET
DTSTART:20241027T010000
END:STANDARD
BEGIN:DAYLIGHT
TZOFFSETFROM:+0100
TZOFFSETTO:+0200
TZNAME:CEST
DTSTART:20250330T010000
END:DAYLIGHT
BEGIN:STANDARD
TZOFFSETFROM:+0200
TZOFFSETTO:+0100
TZNAME:CET
DTSTART:20251026T010000
END:STANDARD
BEGIN:DAYLIGHT
TZOFFSETFROM:+0100
TZOFFSETTO:+0200
TZNAME:CEST
DTSTART:20260329T010000
END:DAYLIGHT
BEGIN:STANDARD
TZOFFSETFROM:+0200
TZOFFSETTO:+0100
TZNAME:CET
DTSTART:20261025T010000
END:STANDARD
END:VTIMEZONE
BEGIN:VEVENT
DTSTART;VALUE=DATE:20250113
DTEND;VALUE=DATE:20250114
DTSTAMP:20260419T221649
CREATED:20240708T123307Z
LAST-MODIFIED:20240708T123308Z
UID:74858-1736726400-1736812799@www.vc-magazin.de
SUMMARY:start2grow [Abgabefrist Businesspläne]
DESCRIPTION:Weitere Informationen folgen zeitnah! \nMehr zum start2grow-Wettbewerb \nstart2grow Pitch Party 2024\nTerminübersicht des gesamten Wettbewerbs:\n\n24.09.2024 – start2grow-Match\n\nAuftaktevent inkl. Kennenlernen der Coaches und „Open Pitch Stage“ \n\n11.10.2024 – start2grow-Meet & Work\n\nWorkshops und Vorträge zu gründungsrelevanten Themen \n\n15./16.11.2024 – start2grow-Camp\n\nZweitägiges Arbeitswochenende inkl. Vorstellung Kapitalgeber \n\n13.01.2025 – Abgabefrist Businesspläne\n26.02.2025 – start2grow-Pitch & Party\n\nDie TOP 20 pitcht vor der Jury. Nach Bekanntgabe der Platzierungen wird am Abend gemeinsam gefeiert.
URL:https://www.vc-magazin.de/event/start2grow-abgabefrist-businessplaene-2024/
LOCATION:Bayern
END:VEVENT
BEGIN:VEVENT
DTSTART;VALUE=DATE:20250117
DTEND;VALUE=DATE:20250127
DTSTAMP:20260419T221649
CREATED:20241106T132126Z
LAST-MODIFIED:20241106T132126Z
UID:76066-1737072000-1737935999@www.vc-magazin.de
SUMMARY:Grüne Woche 2025
DESCRIPTION:Die Grüne Woche 2025 zeigt vom 17. bis 26. Januar aktuelle Trends aus Ernährung\, Landwirtschaft und Gartenbau . Sie bietet politische Diskussionen\, Zukunftsberufe und holt die Welt auf den Teller \n\n\n\nDie Grüne Woche öffnet vom 17. bis 26. Januar 2025 auf dem Berliner Messegelände ihre Tore. Auf der internationalen Leitmesse können Messegäste zum 89. Mal die facettenreiche Welt von Ernährung\, Landwirtschaft und Gartenbau erleben. Ein fachliches Rahmenprogramm\, interaktive Ausstellungen\, kreative Workshops und ein abwechslungsreiches Gourmetangebot informieren über die Trends der Branche und laden zum Mitmachen und Genießen ein. „Die Grüne Woche 2025 setzt neue Impulse. Sie wird zehn Tage lang zum Zentrum des Austauschs\, wo Fachleute gemeinsam an Lösungen für eine nachhaltige Zukunft arbeiten. Gleichzeitig wird die Grüne Woche erneut ein unvergessliches Erlebnis für alle Besucherinnen und Besucher. Hier treffen Leidenschaft und Wissen aufeinander“\, so Lars Jaeger (Projektleiter\, Grüne Woche). \ngrünerleben : Re-Use Superstore stark zurück \nAnregungen für einen umweltbewussten Lebensstil finden Interessierte in der Themenwelt „grünerleben“. In Halle 27 geben Aussteller\, NGOs und Organisationen wie die Initiative Multitalent Holz\, der Deutsche Forstwirtschaftsrat\, der Deutsche Jagdverband\, die Fachagentur Nachwachsende Rohstoffe sowie das Bundesumweltministerium hilfreiche Tipps und Wissen rund um ressourcenschonende Ansätze und verantwortungsvolles Handeln an die Hand. Ein Highlight ist der Re-Use Superstore der Berliner Senatsumweltverwaltung\, der auf über 200 Quadratmetern rund 25 Organisationen und Unternehmen mit nachhaltigen Projekten und Services zu Abfallvermeidung\, Lebensmittelwertschätzung\, Fashion\, Elektronik und mehr vereint. Unter dem Motto „Home Green Home“ bietet die Grüne Woche Bühne nebenan ein vielseitiges Bühnenprogramm: Live-Cooking\, Quiz- und Talkshows\, spannende Games- und E-Sports-Events sowie die Startup-Days sorgen für ein abwechslungsreiches Erlebnis. Hier treten Startups aus den Bereichen Agtech und Lebensmittelindustrie gegeneinander mit innovativen Ideen für eine nachhaltige Zukunft an. \nMehr Informationen hier.
URL:https://www.vc-magazin.de/event/gruene-woche-2025/
LOCATION:Messe Berlin\, Messedamm 22\, Berlin\, 14055\, Deutschland
END:VEVENT
BEGIN:VEVENT
DTSTART;TZID=Europe/Berlin:20250121T153000
DTEND;TZID=Europe/Berlin:20250121T220000
DTSTAMP:20260419T221649
CREATED:20241218T143717Z
LAST-MODIFIED:20241218T143718Z
UID:76590-1737473400-1737496800@www.vc-magazin.de
SUMMARY:Kickoff Gateway Factory - die Startup Factory für das Rheinland
DESCRIPTION:Feiern Sie den Start der Gateway Factory. Die gründungsstarken Hochschulen in Aachen und Köln gründen gemeinsam mit Start2 Group die Gateway Factory GmbH\, um etablierte Startups zu international erfolgreichen Scaleups zu entwickeln. Die Stärken der Partner ergänzen sich ideal: Gateway Factory vereint die technologische Expertise und die Erfahrung mit Industriekooperationen in Aachen mit der Management- und Finanzexpertise in der Wirtschaftsmetropole Köln. Die Start2 Group ergänzt ihr Skalierungs-Know-how und internationale Netzwerke. \n \nSeien Sie Teil dieses wichtigen Schrittes für das NRW-Startup-Ökosystem. Freuen Sie sich auf ein inspirierendes Event mit führenden Persönlichkeiten aus Politik\, Wirtschaft\, VC und erfolgreichen Startups. \n \nKostenfreie Tickets unter: https://GatwayFactoryKickoff.eventbrite.de\nMehr Informationen zu Gateway Factory: www.gateway-factory.de\n\nDie Veranstaltung wird in englischer Sprache durchgeführt.
URL:https://www.vc-magazin.de/event/kickoff-gateway-factory-die-startup-factory/
LOCATION:CT² – Zentrum für Lehre und Weiterbildung\, Forckenbeckstraße 71\, Aachen\, NRW\, 52074
END:VEVENT
BEGIN:VEVENT
DTSTART;TZID=Europe/Berlin:20250122T180000
DTEND;TZID=Europe/Berlin:20250122T210000
DTSTAMP:20260419T221649
CREATED:20250116T161744Z
LAST-MODIFIED:20250116T161745Z
UID:76711-1737568800-1737579600@www.vc-magazin.de
SUMMARY:Workshop: Dubais Investmentlandschaft
DESCRIPTION:Mit diesem Workshop möchte das PEF NRW über den „Tellerrand“ hinausblicken. Die gerade wenig planbare Wirtschaftssituation in Deutschland und Europa\, aber auch anderen Regionen dieser Erde\, lassen den Blick unweigerlich über andere boomende Regionen schweifen. \nDubai bietet als wirtschaftlicher Hub der Region einzigartige Chancen für Investoren. Besonders attraktiv sind die steuerlichen Vorteile\, das stabile regulatorische Umfeld und die Möglichkeiten in den Free Zones. Wachstumschancen liegen in boomenden Branchen wie Technologie\, Immobilien\, erneuerbaren Energien und Logistik\, die durch Dubais Diversifikationsstrategie jenseits des Ölsektors gefördert werden. \nGleichzeitig profitieren Investoren von einer starken staatlichen Unterstützung und einer strategisch günstigen Lage als Drehscheibe zwischen Europa\, Asien und Afrika. Herausforderungen wie kulturelle Unterschiede\, überhitzte Märkte und Exit-Strategien erfordern jedoch eine fundierte Planung. Nachhaltige Investments (ESG) und innovative Technologien wie KI und Blockchain setzen zusätzliche Impulse für Investoren PE-Equity in Dubai. \nAus langjähriger Praxiserfahrung berichtet Daniel ten Brinke\, Präsident des Bundesverband Auswandererberatung & Außenwirtschaftsförderung e.V. (BVAA e.V.) in Berlin. Der gelernte Jurist ist darüber hinaus CEO der EAGLE Group (GER) und der Bridge to Success Group (VAE) sowie Initiator der UAE Business Academy und Mitglied der Gesellschaft für Arabisches und Islamisches Recht. Diskutieren Sie mit dem Referenten Praxisbeispiele\, tauschen Sie sich aus und knüpfen bzw. pflegen alte und neue Kontakt beim anschließenden get together mit Häppchen und Getränken. \n\nOrt und Zeit: 22. Januar 2025 (Einlass 18:00 Uhr\, Beginn 18:30 Uhr) \n\n\nbei TIGGES Rechtsanwälte\, Zollhof 8\, Düsseldorf  (Parkmöglichkeiten finden Sie am Besten im wenige Meter entfernten UCI) \n\n\nFür Mitglieder ist die Veranstaltung kostenfrei. Nichtmitglieder zahlen einen Beitrag i.H. von 39\,00 € (inkl. USt).
URL:https://www.vc-magazin.de/event/workshop-dubais-investmentlandschaft/
LOCATION:Tigges\, Zollhof 8\, Düsseldorf\, NRW\, 40221\, Germany
END:VEVENT
BEGIN:VEVENT
DTSTART;TZID=Europe/Berlin:20250123T160000
DTEND;TZID=Europe/Berlin:20250123T210000
DTSTAMP:20260419T221649
CREATED:20241105T133505Z
LAST-MODIFIED:20241105T133506Z
UID:76061-1737648000-1737666000@www.vc-magazin.de
SUMMARY:Innovation durch Kooperation – Können Start-ups den Mittelstand stärken?
DESCRIPTION:Am 23. Januar 2025 lädt der Unternehmerkreis in Kooperation mit führenden Industrie- und Start-up-Experten zur Veranstaltung „Innovation durch Kooperation: Können Start-ups den Mittelstand stärken?“ ein. Die Veranstaltung beleuchtet in einer Podiumsdiskussion sowie durch Praxisbeispiele die Möglichkeiten\, die sich aus Kooperationen zwischen Start-ups und etablierten Unternehmen für den deutschen Mittelstand ergeben. Mit der Beteiligung renommierter Vertreterinnen und Vertreter der Branche wird ein fruchtbarer Austausch zu den Themenfeldern „Innovation durch Kooperation“\, „Innovation durch Beteiligung“ und „Innovation durch Akquisition“ angestrebt. \nDie Bedeutung solcher Kooperationen wird auch durch den aktuellen Deutschen Start-up Monitor 2024 hervorgehoben\, der aufzeigt\, dass bislang nur 37\,5 % der deutschen Start-ups die Kooperationsmöglichkeiten mit etablierten Unternehmen als gut bewerten. Um das Innovationspotenzial dieser Kooperationen voll auszuschöpfen\, sind neue Plattformen und Formate\, wie diese Veranstaltung\, essenziell. Verena Pausder\, Vorsitzende des Deutschen Start-up Verbands\, begrüßt das Veranstaltungsformat und betont die Dringlichkeit für eine engere Zusammenarbeit: „Es ist großartig zu sehen\, dass sich hier eine Plattform zur Stärkung der Zusammenarbeit zwischen Start-ups und dem Mittelstand etabliert. Die Kooperation zwischen innovativen Gründern und etablierten Unternehmen bietet unschätzbare Chancen für den Wirtschaftsstandort Deutschland und hilft\, Innovationsschwung in die Unternehmen zu bringen.“ \nDie Veranstaltung richtet sich an Entscheider und Innovationsinteressierte aus dem Mittelstand sowie an Start-up-Gründer\, die sich über Kooperationen und Beteiligungen informieren und vernetzen möchten. Die Teilnahme ist sowohl für Mitglieder des Unternehmerkreises als auch für externe Gäste möglich. \nDie Veranstalter freuen sich auf eine rege Teilnahme und einen intensiven Austausch\, der den\nGrundstein für zukünftige Innovationsprojekte und Partnerschaften zwischen Start-ups und\netablierten Unternehmen legen soll. \nMehr Informationen.
URL:https://www.vc-magazin.de/event/innovation-durch-kooperation-koennen-start-ups-den-mittelstand-staerken/
LOCATION:München\, Deutschland
END:VEVENT
BEGIN:VEVENT
DTSTART;VALUE=DATE:20250124
DTEND;VALUE=DATE:20250127
DTSTAMP:20260419T221649
CREATED:20241023T084358Z
LAST-MODIFIED:20241023T084358Z
UID:75815-1737676800-1737935999@www.vc-magazin.de
SUMMARY:Karrierestart 2025
DESCRIPTION:Die KarriereStart vereint die verschiedenen arbeitsmarktrelevanten Themenbereiche unter einem Dach. Sie bietet sowohl Schülern und Auszubildenden als auch Studenten\, Berufsstartern\, Profis\, Quer- und Wiedereinsteigern vielfältige Gesprächs- und Bewerbungsmöglichkeiten zur beruflichen Planung in jeder Bildungs- und Karrierephase. \nOrtec organisiert unter dem Motto „Zukunft selbst gestalten“ die 26. KarriereStart – Die Messe für Bildung\, Job und Gründung in Sachsen – vom 24. – 26. Januar 2025. \nMehr Informationen hier.
URL:https://www.vc-magazin.de/event/karrierestart-2025/
LOCATION:Dresden
END:VEVENT
BEGIN:VEVENT
DTSTART;VALUE=DATE:20250125
DTEND;VALUE=DATE:20250126
DTSTAMP:20260419T221649
CREATED:20250115T155043Z
LAST-MODIFIED:20250115T155043Z
UID:76679-1737763200-1737849599@www.vc-magazin.de
SUMMARY:Political Tech Summit
DESCRIPTION:Europe‘s first Political Tech Summit is where politics meets technology. It is the first attempt to bridge expertise between democracies on the European continent and beyond. We will bring together political professionals\, consultants\, academics\, start-ups\, and technologists. The Summit will physically bring together the political tech ecosystem across countries and political parties in one place. It will act as a forum to match the growing need for training with the innovation of technological solutions. With more than 40 presentations and workshops and around 90 speakers from Europe and beyond\, the Summit will be a European political tech melting pot. \nMore here.
URL:https://www.vc-magazin.de/event/political-tech-summit-2025/
LOCATION:Magazin in der Heeresbäckerei\, Köpenicker Straße 16-17\, Berlin\, 10997\, Deutschland
END:VEVENT
BEGIN:VEVENT
DTSTART;VALUE=DATE:20250128
DTEND;VALUE=DATE:20250131
DTSTAMP:20260419T221649
CREATED:20241016T115749Z
LAST-MODIFIED:20241016T115750Z
UID:75756-1738022400-1738281599@www.vc-magazin.de
SUMMARY:IPEM Cannes 2025
DESCRIPTION:Since 2016\, IPEM Cannes has brought a different essence to the private capital industry by gathering its key decision-makers in a conducive environment for meaningful exchanges. \nThis year\, the event will also incubate IPEM Wealth – a brand-new format designed to support the democratization of Private Markets. \nWith its vibrant ecosystem\, IPEM Cannes and the brand-new event IPEM Wealth provide the ideal platform for investors\, fundraisers\, dealmakers\, and advisors to connect and make impactful deals – right on the French Riviera. \nMore information here.
URL:https://www.vc-magazin.de/event/ipem-cannes-2025/
LOCATION:Cannes Palais des Festivals\, 1 Boulevard de la Croisette\, Cannes\, 06400
END:VEVENT
BEGIN:VEVENT
DTSTART;TZID=Europe/Berlin:20250129T093000
DTEND;TZID=Europe/Berlin:20250129T190000
DTSTAMP:20260419T221649
CREATED:20250117T122500Z
LAST-MODIFIED:20250117T122501Z
UID:76747-1738143000-1738177200@www.vc-magazin.de
SUMMARY:GenAI-Tag
DESCRIPTION:Führende GenAI-Anbieter und Start-ups präsentieren ihre Lösungen und Technologien. Lernen Sie KI-Demos und -Vorgehen kennen\, die zu den Ambitionen Ihres Unternehmens passen. \nNutzen Sie die Chance\, sich mit GenAI-Entscheidern\, -Praktikern und -Interessierten auszutauschen. Knüpfen Sie neue Geschäftsbeziehungen und tauschen Sie sich über die neuesten Markttrends aus. \nDiskutieren Sie gemeinsam mit Branchenexperten über Lösungen und Herausforderungen der generativen KI. Lassen Sie sich von Erfahrungen und Erfolgen inspirieren und motivieren. \nVerpassen Sie nicht die Gelegenheit\, über den Hype von GenAI hinauszuschauen. Bitte melden Sie sich bis spätesten 22. Januar 2025 zur Veranstaltung an: https://www.pwc.de/de/veranstaltungen.html?id=ID.726048
URL:https://www.vc-magazin.de/event/genai-tag/
LOCATION:PricewaterhouseCoopers GmbH WPG\, Friedrich-Ebert-Anlage 35-37\, Frankfurt am Main\, Hessen\, 60327\, Germany
END:VEVENT
END:VCALENDAR