BEGIN:VCALENDAR
VERSION:2.0
PRODID:-//VC Magazin - ECPv6.15.15//NONSGML v1.0//EN
CALSCALE:GREGORIAN
METHOD:PUBLISH
X-ORIGINAL-URL:https://www.vc-magazin.de
X-WR-CALDESC:Veranstaltungen für VC Magazin
REFRESH-INTERVAL;VALUE=DURATION:PT1H
X-Robots-Tag:noindex
X-PUBLISHED-TTL:PT1H
BEGIN:VTIMEZONE
TZID:Europe/Berlin
BEGIN:DAYLIGHT
TZOFFSETFROM:+0100
TZOFFSETTO:+0200
TZNAME:CEST
DTSTART:20240331T010000
END:DAYLIGHT
BEGIN:STANDARD
TZOFFSETFROM:+0200
TZOFFSETTO:+0100
TZNAME:CET
DTSTART:20241027T010000
END:STANDARD
BEGIN:DAYLIGHT
TZOFFSETFROM:+0100
TZOFFSETTO:+0200
TZNAME:CEST
DTSTART:20250330T010000
END:DAYLIGHT
BEGIN:STANDARD
TZOFFSETFROM:+0200
TZOFFSETTO:+0100
TZNAME:CET
DTSTART:20251026T010000
END:STANDARD
BEGIN:DAYLIGHT
TZOFFSETFROM:+0100
TZOFFSETTO:+0200
TZNAME:CEST
DTSTART:20260329T010000
END:DAYLIGHT
BEGIN:STANDARD
TZOFFSETFROM:+0200
TZOFFSETTO:+0100
TZNAME:CET
DTSTART:20261025T010000
END:STANDARD
END:VTIMEZONE
BEGIN:VEVENT
DTSTART;VALUE=DATE:20250305
DTEND;VALUE=DATE:20250306
DTSTAMP:20260419T191505
CREATED:20241023T090143Z
LAST-MODIFIED:20241023T090143Z
UID:75818-1741132800-1741219199@www.vc-magazin.de
SUMMARY:Sächsisches Gründerforum: Ein investitionsfähiges Finanzierungskonzept entwickeln
DESCRIPTION:Welche Kapitalgebenden passen zur Finanzierung meines Unternehmens? Wie ticken Investoren und was erwarten sie von mir? – Diese und Ihre ganz persönlichen Fragen stehen im Mittelpunkt des Sächsischen Gründerforums am 05. März in Dresden. \nVom Risikokapitalgebenden über den Business Angel bis hin zu Crowdinvesting-Akteuren: Diskutieren Sie in interaktiven Panels direkt mit den Expertinnen und Experten und erhalten Sie spannende Einblicke in die Sichtweise von Investoren/-innen bei der Bewertung von Start-ups. Profitieren Sie darüber hinaus vom Erfahrungsschatz skalierender Start-ups zu ihrer Kapitalbeschaffung. \nMehr Informationen und zur Registrierung hier.
URL:https://www.vc-magazin.de/event/saechsisches-gruenderforum-ein-investitionsfaehiges-finanzierungskonzept-entwickeln/
LOCATION:Dresden
END:VEVENT
BEGIN:VEVENT
DTSTART;TZID=Europe/Berlin:20250306T120000
DTEND;TZID=Europe/Berlin:20250306T180000
DTSTAMP:20260419T191505
CREATED:20250116T163500Z
LAST-MODIFIED:20250116T163500Z
UID:76713-1741262400-1741284000@www.vc-magazin.de
SUMMARY:Female Founders Venture Summit 2025
DESCRIPTION:Das Female Founders Venture Summit 2025 des DIGITALHUB.DE ist das größte Gründerinnen-Event in NRW und zeigt mit über 200 Gründer:innen\, Expert:innen und Gründungsinteressierten\, ganz egal\, welches Geschlecht\, was die weibliche Gründungsszene drauf hat! \nEs erwartet Sie ein Auftritt der Ministerin Mona Neubaur\, Panels\, Keynotes\, Workshops und Networking sowie der Kampf um den NRW Female Innovation Award 2025! \nAls Gründerinnen haben Sie die Chance\, um genau diesen Award zu pitchen und sich den Titel der innovativsten Gründerinnen in NRW in 2025 zu ergattern! Es gibt ein Preisgeld\, das von der Sparkasse KölnBonn gesponsert wird: 1.500€ für den ersten Platz\, 1.000€ für den zweiten Platz\, 500 € für den dritten Platz. \nBewerben Sie sich hier zum pitchen um Sichtbarkeit\, das Preisgeld\, den Award sowie ein Pre-Opening mit Investoren: https://digitalhubde.typeform.com/to/h6UoF9w6?typeform-source=tockify.com \nSichern Sie sich hier ein kostenfreies Ticket: https://www.eventbrite.de/e/female-founders-venture-summit-tickets-858713624567?aff=oddtdtcreator \nCITYHUB (Am Hauptbahnhof 6\, 53111 Bonn) \n06.03.2025\, 12:00 – 18:00 Uhr
URL:https://www.vc-magazin.de/event/female-founders-venture-summit-2025/
LOCATION:Cityhub\, Am Hauptbahnhof 6\, Bonn\, NRW\, 53111\, Germany
END:VEVENT
BEGIN:VEVENT
DTSTART;TZID=Europe/Berlin:20250311T123000
DTEND;TZID=Europe/Berlin:20250311T180000
DTSTAMP:20260419T191505
CREATED:20250213T112115Z
LAST-MODIFIED:20250213T112115Z
UID:76957-1741696200-1741716000@www.vc-magazin.de
SUMMARY:14. BIO.NRW Business Angel Congress
DESCRIPTION:Under the theme “Float or Flourish: Diving into the Investment Pool”\, this year’s congress promises to be another highlight for investors and entrepreneurs alike. \nJoin us for engaging presentations that explore various avenues for securing investments\, emphasizing that there is always another option available. Participate in lively discussions about the evolving landscape of investment opportunities and how entrepreneurs can navigate these options effectively. \nSeize this opportunity to connect with founders\, small and medium-sized enterprises\, business angels\, venture capitalists\, institutional investors\, and policymakers. Dive into new international developments and build valuable relationships within the investment community.
URL:https://www.vc-magazin.de/event/14-bio-nrw-business-angel-congress/
LOCATION:Rheinblick 741\, Pariser Straße 41\, Düsseldorf\, 40549\, Germany
ATTACH;FMTTYPE=image/jpeg:https://www.vc-magazin.de/wp-content/uploads/2025/02/Banner_Linkedin_BAC_1200x1200_1.jpg
ORGANIZER;CN="BIO Clustermanagement NRW GmbH":MAILTO:info@bioclustermanagement.de
END:VEVENT
BEGIN:VEVENT
DTSTART;TZID=Europe/Berlin:20250311T180000
DTEND;TZID=Europe/Berlin:20250311T223000
DTSTAMP:20260419T191505
CREATED:20250117T123351Z
LAST-MODIFIED:20250117T123352Z
UID:76751-1741716000-1741732200@www.vc-magazin.de
SUMMARY:Nürnberger Startup Demo Night
DESCRIPTION:Ob Software für Knochenheilungssimulationen\, Climate-SaaS-Plattform zur effektivsten CO2-Reduktion\, neues Verfahren zur Herstellung von Li-Ionen-Batterien oder Plattform für Retouren ohne Umwege – Gäste können sicher sein\, auf den Startup Demo Nights ganz tief in die bayerische Startup-Szene abzutauchen. \n\nLernen Sie eine Vielzahl spannender Start-ups unterschiedlichster Branchen kennen\nProbieren Sie die Ideen und Produkte selbst aus\nTreten Sie mit Gründerteams\, Kapitalgebern und Unternehmensvertretern in entspannter Networking-Atmosphäre in Kontakt\n\nIm Rahmen der Demo Night kürt BayStartUP ebenso die Sieger des Businessplan Wettbewerbs Nordbayern Phase 1. \nMehr zur Veranstaltung und zur Anmeldung.
URL:https://www.vc-magazin.de/event/nuernberger-startup-demo-night-2025/
LOCATION:Z-Bau\, Frankenstraße 200\, Nürnberg\, Bayern\, 90461\, Deutschland
END:VEVENT
BEGIN:VEVENT
DTSTART;TZID=Europe/Berlin:20250312T130000
DTEND;TZID=Europe/Berlin:20250312T180000
DTSTAMP:20260419T191505
CREATED:20241101T103107Z
LAST-MODIFIED:20241101T103107Z
UID:76021-1741784400-1741802400@www.vc-magazin.de
SUMMARY:Sächsische Investoren Roadshow I
DESCRIPTION:Sächsische Investoren Roadshow in der Schweiz! Und Sie als Kapitalgebende haben die exklusive Möglichkeit\, ausgewählte topaktuelle Gründungs- und Wachstumskonzepte „Made in Saxony“ kennenzulernen. Pitch-Sessions und individuelle 1:1-Meetings highlighten das Event! \nMehr Informationen hier.
URL:https://www.vc-magazin.de/event/saechsische-investoren-roadshow-1-2025/
LOCATION:Bayern
END:VEVENT
BEGIN:VEVENT
DTSTART;TZID=Europe/Berlin:20250312T140000
DTEND;TZID=Europe/Berlin:20250312T200000
DTSTAMP:20260419T191505
CREATED:20250224T150752Z
LAST-MODIFIED:20250224T150752Z
UID:77049-1741788000-1741809600@www.vc-magazin.de
SUMMARY:Pitch Club #32
DESCRIPTION:Der Pitch Club aus Frankfurt lädt herzlich zur Pitch Club #32″-Edition am Mittwoch\, den 12. März 2025\, ab 14:00 Uhr im „NEUE KAISER“ in Frankfurt ein. \nEarly-Stage Startups mit Proof of Concept präsentieren in sechsminütigen Pitches ihre\nGeschäftsideen und stellen sich anschließend den kritischen Fragen der Investoren. \nDie Veranstaltung startet ab 14:00 Uhr mit einer kurzen Begrüßung der Gründer und Partnern\, ab ca. 14:15 Uhr beginnt der erste Pitch und ab etwa 16:30 Uhr können sich die Investoren in Einzelgesprächen tiefergehend mit den teilnehmenden Startups austauschen. \nUnter nachfolgendem Link ist eine Anmeldung als Investor für die Veranstaltung möglich:\nhttps://www.eventbrite.de/e/pitch-club-32-tickets-1021670232167 \nEin Jahrzehnt des Wachstums\, der Innovation und der Unterstützung für die Startup-Szene in Frankfurt und dem Rhein-Main-Gebiet. An den vergangenen 31 Editionen haben mittlerweile 317 spannende Startups teilgenommen und ihre Geschäftsmodelle vor mehr als 1.200 Investoren präsentiert – und das mit großem Erfolg. Insgesamt wurden Startups\, die an einem unserer Pitch Club Events teilgenommen haben\, mehr als 660 Mio. € an Fundings zugesprochen. \nWeitere Informationen unter: https://www.thepitchclub.com/de/
URL:https://www.vc-magazin.de/event/pitch-club-32/
LOCATION:Frankfurt am Main
END:VEVENT
BEGIN:VEVENT
DTSTART;TZID=Europe/Berlin:20250313T160000
DTEND;TZID=Europe/Berlin:20250313T193000
DTSTAMP:20260419T191505
CREATED:20250224T140537Z
LAST-MODIFIED:20250224T140537Z
UID:77035-1741881600-1741894200@www.vc-magazin.de
SUMMARY:Beyond Borders: Legal\, Finance & Tax Insights for Scaling Your Startup up to a Potential Exit
DESCRIPTION:CoCo Finance and Osborne Clarke are thrilled to invite you to an exclusive event on Thursday\, 13 March 2025 in Munich. \nWhen taking your business international\, it’s important to be aware of potential tax pitfalls\, such as (corporate) income tax and VAT. Our experts will help you navigate these challenges and ensure you’re well-prepared. We’ll also cover the key steps to get your company ready for an M&A exit and discuss how strategic financial planning can boost your business’s value during the exit process. \nJoin for an evening designed to provide you with essential knowledge and networking opportunities to help your business grow and prepare for a successful exit. \nBe excited for these insightful topics: \n\nTax pitfalls when business goes international – (Corporate) Income Tax Topics\nAnn-Kristin Lochmann – Osborne Clarke\nTax pitfalls when business goes international – VAT Topics\nTobias Kenter – CoCo Finance\nPrep to sell – getting ready for an M&A exit\nMaximilian Vocke – Osborne Clarke\nWhat added value finance can deliver for an exit process\nAndreas Wanderer – CoCo Finance\n\nRegister here: https://sites-osborneclarke.vuturevx.com/156/9312/pages/registration-form.asp
URL:https://www.vc-magazin.de/event/beyond-borders-legal-finance-tax-insights-for-scaling-your-startup-up-to-a-potential-exit/
LOCATION:München\, München\, Bayern\, Deutschland
END:VEVENT
BEGIN:VEVENT
DTSTART;TZID=Europe/Berlin:20250318T150000
DTEND;TZID=Europe/Berlin:20250318T173000
DTSTAMP:20260419T191505
CREATED:20250224T144113Z
LAST-MODIFIED:20250224T144114Z
UID:77045-1742310000-1742319000@www.vc-magazin.de
SUMMARY:Female Funding ’25
DESCRIPTION:Business Angels Deutschland freut sich\, auch 2025 wieder das Flagship Event “Female Funding ’25” der Women Angels Mission ’25 zu veranstalten. Dieses Mal sind drei Kooperationspartnerinnen beteiligt: encourageventures e.V.\, den Verband der Unternehmerinnen in Deutschland e.V. (VdU) und Female Investors Network (FIN). \nAm 18. März findet das Matchingevent online statt\, bei dem die spannenden Geschäftsideen von zehn Gründerinnen-Teams auf die geballte Power von (Women) Angel Investing treffen. \nAlle Start-ups\, in deren Gründungsteams Frauen relevant vertreten (d.h. CEO oder mind. 50% des Gründungsteams ist weiblich) sind\, können sich bis zum 26. Februar für einen der begehrten “Female Funding ’25”-Pitchplätze bewerben – Bewerbung hier. \nZur Agenda! \nJetzt hier kostenfrei anmelden: https://pretix.eu/bandev/FF25/! \n 
URL:https://www.vc-magazin.de/event/female-funding-25/
LOCATION:Online\, Deutschland
ORGANIZER;CN="Business Angels Deutschland e.V.":MAILTO:band@business-angels.de
END:VEVENT
BEGIN:VEVENT
DTSTART;VALUE=DATE:20250319
DTEND;VALUE=DATE:20250321
DTSTAMP:20260419T191505
CREATED:20241023T085935Z
LAST-MODIFIED:20241023T085935Z
UID:75817-1742342400-1742515199@www.vc-magazin.de
SUMMARY:Transform 2025
DESCRIPTION:Als B2B-Leadevent des Bitkom konzentriert sich die TRANSFORM ganz auf die Digitale Transformation von Unternehmen. Sie präsentiert neueste Technologien und Lösungen zur Digitalisierung von Geschäftsprozessen und -modellen und unterstützt Konzerne\, Großbetriebe sowie mittlere und kleine Unternehmen darin\, sich den Herausforderungen des digitalen Zeitalters erfolgreich zu stellen. \nAn zwei Tagen kommen Führungskräfte und Entscheidungsträger\, Geschäftsführungen\, Vorstände\, CDOs\, CIOs\, CSOs\, COOs sowie Digital-Expertinnen und -Experten in Berlin branchenübergreifend zusammen. \nMehr Informationen hier.
URL:https://www.vc-magazin.de/event/transform-2025/
LOCATION:STATION Berlin\, Luckenwalder Str. 4-6\, Berlin\, 10963\, Deutschland
END:VEVENT
BEGIN:VEVENT
DTSTART;VALUE=DATE:20250319
DTEND;VALUE=DATE:20250322
DTSTAMP:20260419T191505
CREATED:20241101T102751Z
LAST-MODIFIED:20241101T102751Z
UID:76020-1742342400-1742601599@www.vc-magazin.de
SUMMARY:Unternehmertag 2025
DESCRIPTION:Der Unternehmertag bietet Unternehmer:innen und Investor:innen die einzigartige Möglichkeit\, sich in entspannter Atmosphäre zu treffen und auszutauschen. Der oft zitierte „Kessel Buntes“ bietet den Gästen einen abwechslungsreichen Mix aus Keynotes zu aktuellen Themen\, Präsentationen von innovativen Start-Ups und lukrativen Investitionsmöglichkeiten sowie ein unterhaltsames Rahmenprogramm mit ausreichend Gelegenheit für Networking auf höchstem Niveau. \nMehr Informationen hier.
URL:https://www.vc-magazin.de/event/unternehmertag-2025/
LOCATION:Tegernsee\, Tegernsee\, Bayern\, Deutschland
END:VEVENT
BEGIN:VEVENT
DTSTART;TZID=Europe/Berlin:20250319T140000
DTEND;TZID=Europe/Berlin:20250319T180000
DTSTAMP:20260419T191505
CREATED:20250123T155114Z
LAST-MODIFIED:20250123T160516Z
UID:76811-1742392800-1742407200@www.vc-magazin.de
SUMMARY:GreenVenture Forum 2025
DESCRIPTION:Grüne Start-ups im Aufwind! Freuen Sie sich auf die Neuauflage des „GreenVenture Forum 2025“. Das GreenVenture Forum 2025 bringt innovative\, grüne Start-ups mit Business Angels und VC Investoren zusammen. 12 Start-ups\, ausgewählt vom BAND Screeningkomitee\, präsentieren ihre Geschäftsidee\, ein Angels Panel fragt nach. Keynotes\, Panels\, Impulsstatements und Best Practice setzen Zeichen für grüne Innovationen. \nDirekt im Anschluss an das GreenVenture Forum findet – ebenfalls im Wissenschaftspark Gelsenkirchen\, 18:00 bis 21:00 Uhr\, – die STARTupRUHR Demo Night 2025 statt mit dem „SPECIAL: Parcours grüner Gründungen“. \nOb als Besucher oder Akteur\, am besten direkt anmelden: https://pretix.eu/bandev/grvenforum25/?utm_source=CleverReach&utm_medium=email&utm_campaign=BAND+%22GreenVenture+Forum+2025%22+-+Jetzt+noch+anmelden%21&utm_content=Mailing_15897822
URL:https://www.vc-magazin.de/event/greenventure-forum-2025/
LOCATION:Wissenschaftspark Gelsenkirchen\, Gelsenkirchen\, NRW\, Deutschland
ATTACH;FMTTYPE=image/png:https://www.vc-magazin.de/wp-content/uploads/2025/01/unnamed2.png
END:VEVENT
BEGIN:VEVENT
DTSTART;TZID=Europe/Berlin:20250319T180000
DTEND;TZID=Europe/Berlin:20250319T210000
DTSTAMP:20260419T191505
CREATED:20250123T160044Z
LAST-MODIFIED:20250123T160424Z
UID:76812-1742407200-1742418000@www.vc-magazin.de
SUMMARY:STARTupRUHR Demo Night 2025
DESCRIPTION:Direkt im Anschluss an das GreenVenture Forum 2025 findet im Wissenschaftspark Gelsenkirchen\, von 18:00 bis 21:00 Uhr\, die STARTupRUHR Demo Night 2025 statt mit dem „SPECIAL: Parcours grüner Gründungen“. „Ausprobieren\, anfassen\, testen\, verkosten\, vernetzen“ lautet das Motto\, wenn grüne Gründungen aus ganz Deutschland und Start-ups aus NRW ihre innovativen Produkte und Dienstleistungen der Öffentlichkeit präsentieren. \nFlanieren über den Parcours\, eintauchen in die kreative Welt grüner Start-ups\, reden\, essen und netzwerken – der Wissenschaftspark Gelsenkirchen ist der ideale Ort dafür. \nOb als Besucher oder Akteur\, am besten direkt anmelden: https://pretix.eu/bandev/grvenforum25/?utm_source=CleverReach&utm_medium=email&utm_campaign=BAND+%22GreenVenture+Forum+2025%22+-+Jetzt+noch+anmelden%21&utm_content=Mailing_15897822
URL:https://www.vc-magazin.de/event/startupruhr-demo-night-2025/
LOCATION:Wissenschaftspark Gelsenkirchen\, Gelsenkirchen\, NRW\, Deutschland
ATTACH;FMTTYPE=image/png:https://www.vc-magazin.de/wp-content/uploads/2025/01/unnamed1.png
END:VEVENT
BEGIN:VEVENT
DTSTART;TZID=Europe/Berlin:20250320T120000
DTEND;TZID=Europe/Berlin:20250320T200000
DTSTAMP:20260419T191505
CREATED:20250225T155255Z
LAST-MODIFIED:20250312T122510Z
UID:77065-1742472000-1742500800@www.vc-magazin.de
SUMMARY:Urban Innovation Forum
DESCRIPTION:Das Urban Innovation Forum ist das jährliche Branchentreffen der Community für Climate Tech und erneuerbare Energien in Berlin. Neben den lokalen Akteuren\, darunter Startups\, Investoren\, Technologieführer\, Politik und Regulierer\, sind auch internationale Partner aus London\, Singapur und New York vor Ort. \nDas Forum fungiert als Katalysator für kreative Ideen sowie die Umsetzung innovativer Lösungen für die Herausforderungen moderner Städte. Alle Teilnehmenden vereint die feste Überzeugung\, dass die klimaneutrale Stadt der Zukunft nur durch die Förderung umweltfreundlicher und innovativer Technologien erreicht werden kann – und dass dafür persönliche Kontakte und der Dialog von Gründer:innen\, Entscheider:innen der Infrastruktur sowie Investoren unentbehrlich ist. Das Urban Innovation Forum vernetzt die richtigen Personen\, ermöglicht Experten:Innen Feedback zu Product Market Fit sowie Zugang zu geeigneten Investoren und eröffnet Kontakte zu ausländischen Playern\, um Expansionsbestrebungen zu beschleunigen. \nWann? 20. März 2025\, 12-20 Uhr \n\nLand: Deutschland \nStadt/Ort: Berlin \nLocation: Fotografiska Museum\, Oranienburger Str. 54\, 10117 Berlin
URL:https://www.vc-magazin.de/event/urban-innovation-forum-2025/
LOCATION:Berlin
END:VEVENT
BEGIN:VEVENT
DTSTART;TZID=Europe/Berlin:20250324T103000
DTEND;TZID=Europe/Berlin:20250324T200000
DTSTAMP:20260419T191505
CREATED:20250117T123654Z
LAST-MODIFIED:20250117T123654Z
UID:76753-1742812200-1742846400@www.vc-magazin.de
SUMMARY:Investorenkonferenz VentureCon Bioeconomy
DESCRIPTION:Auf der Investorenkonferenz VentureCon Bioeconomy am 24. März 2025 in München bringt BayStartUP Vordenker\, die gemeinsam den Wandel in eine zukunftsfähige\, nachhaltige und biobasierte Wirtschaftsweise vorantreiben möchten\, zusammen. \nNetzwerken Sie mit Pionieren der Szene\, erleben Sie 15 Start-ups bei Kurzpitches und vertiefen Sie die Gespräche an den Start-up-Ständen\, lernen Sie Vertreter der größten Climate Tech Venture-Capital-Fonds kennen und tauschen Sie sich mit weiteren\, an Bioökonomie interessierten\, institutionellen und privaten Kapitalgebern aus. \nDie Investorenkonferenz wird im Auftrag des Bayerischen Staatsministeriums für Wirtschaft\, Landesentwicklung und Energie durchgeführt. Sie ist Teil des Maßnahmenpakets der Bioökonomiestrategie Zukunft.Bioökonomie.Bayern.\, die unter Federführung des Bayerischen Staatsministeriums für Wirtschaft\, Landesentwicklung und Energie umgesetzt wird. \nMehr Infos und zur Anmeldung: https://venturecon-bioeconomy.de/
URL:https://www.vc-magazin.de/event/venturecon-bioeconomy-2025/
LOCATION:Villa Flora\, Hansastraße 44\, München\, Bayern\, 80686\, Germany
END:VEVENT
BEGIN:VEVENT
DTSTART;TZID=Europe/Berlin:20250325T170000
DTEND;TZID=Europe/Berlin:20250325T210000
DTSTAMP:20260419T191505
CREATED:20250210T150826Z
LAST-MODIFIED:20251006T132736Z
UID:76930-1742922000-1742936400@www.vc-magazin.de
SUMMARY:KfW Capital-VC-Academy: Life Science und Nachhaltigkeit: Potentiale\, Chancen und Herausforderungen
DESCRIPTION:Das Venture Capital-Ökosystem in Deutschland und Europa entwickelt sich stetig weiter. KfW Capital möchte Sie dabei unterstützen\, interessante Informationen zu neuen Themen und Trends zu erhalten. Deshalb wurde die „KfW Capital-VC-Academy“ ins Leben gerufen: Regelmäßig werden ausgewiesene Expertinnen und Experten eingeladen\, die Ihnen aus ihrem jeweiligen Fachgebiet wissenswerte Neuigkeiten vorstellen und Einblicke in neue und spannende Themen geben werden. Nach dem Auftakt der Reihe im Jahr 2022 und erfolgreicher Fortsetzung in den Jahren 2023 und 2024\, können Sie sich auf die Fortführung der Eventserie im Jahr 2025 freuen! \nZum Film der Veranstaltungsreihe! \n\n\n\n\n\n\n\nDie VC-Academy findet als Präsenzveranstaltung in der KfW-Niederlassung Berlin\, Charlottenstraße 33/33a\, 10117 Berlin statt. Im Anschluss an den offiziellen Teil findet ein Get-together zur Vertiefung der Gespräche statt. \nEine Anmeldung ist erforderlich\, die Teilnahme ist kostenlos. Melden Sie sich hierfür gern über info-kfw-capital@kfw.de oder direkt bei Katja Homburg\, Sonja Höpfner oder Sarah Ullmann unter 069-7431-4306. \n\n\n\n\n\n\n\nZu den weiteren Terminen: \n\n\n\nDienstag\, 25. März 2025 – Life Science und Nachhaltigkeit: Potentiale\, Chancen und Herausforderungen\nMittwoch\, 02. Juli 2025 – Mehr Wirkung erreichen: Boost für VC-Impact-Investing\nDienstag\, 22. September 2025 – Stärkung des VC-Ökosystems: Wie es gelingen kann\nDonnerstag\, 13. November 2025 – Venture Education: Schlüsselkompetenzen für erfolgreiches VC\n\nVideos mit der KfW Capital und mehr finden Sie hier!
URL:https://www.vc-magazin.de/event/kfw-capital-vc-academy-life-science-und-nachhaltigkeit-potentiale-chancen-und-herausforderungen/
LOCATION:KfW Bankengruppe\, Charlottenstraße 33a\, Berlin\, 10117\, Deutschland
ATTACH;FMTTYPE=image/jpeg:https://www.vc-magazin.de/wp-content/uploads/2025/02/Banner_VC-Academy_2025-mit-Intro_neu_3009251-scaled.jpg
END:VEVENT
BEGIN:VEVENT
DTSTART;VALUE=DATE:20250327
DTEND;VALUE=DATE:20250328
DTSTAMP:20260419T191505
CREATED:20241101T102421Z
LAST-MODIFIED:20241101T102421Z
UID:76019-1743033600-1743119999@www.vc-magazin.de
SUMMARY:futureSAX-Innovationsforum I
DESCRIPTION:Das zentrale Impul­sevent für den sächsischen Mittel­stand \nAls Impulsgeber bringen futureSAX-Innovationsforen Wissenschaftler und Unternehmen ins Gespräch: Um Wissenschaftler den Übergang der Innovationen in die Praxis zu erleichtern und um Unternehmen den Weg zu einem breiter aufgestellten Geschäftsfeld zu ebnen\, ist das oberste Ziel der Innovationsforen\, Wissens- und Technologietransfer zu ermöglichen. Das futureSAX-Innovationsforum bietet mit Keynotes und Impulsvorträgen von renommierten Experten\, Themenwerkstätten und umfangreichen Networking-Angeboten den perfekten Rahmen\, um Innovationen zu entwickeln.
URL:https://www.vc-magazin.de/event/futuresax-innovationsforum-2025/
LOCATION:Bayern
END:VEVENT
END:VCALENDAR