BEGIN:VCALENDAR
VERSION:2.0
PRODID:-//VC Magazin - ECPv6.15.15//NONSGML v1.0//EN
CALSCALE:GREGORIAN
METHOD:PUBLISH
X-ORIGINAL-URL:https://www.vc-magazin.de
X-WR-CALDESC:Veranstaltungen für VC Magazin
REFRESH-INTERVAL;VALUE=DURATION:PT1H
X-Robots-Tag:noindex
X-PUBLISHED-TTL:PT1H
BEGIN:VTIMEZONE
TZID:Europe/Berlin
BEGIN:DAYLIGHT
TZOFFSETFROM:+0100
TZOFFSETTO:+0200
TZNAME:CEST
DTSTART:20240331T010000
END:DAYLIGHT
BEGIN:STANDARD
TZOFFSETFROM:+0200
TZOFFSETTO:+0100
TZNAME:CET
DTSTART:20241027T010000
END:STANDARD
BEGIN:DAYLIGHT
TZOFFSETFROM:+0100
TZOFFSETTO:+0200
TZNAME:CEST
DTSTART:20250330T010000
END:DAYLIGHT
BEGIN:STANDARD
TZOFFSETFROM:+0200
TZOFFSETTO:+0100
TZNAME:CET
DTSTART:20251026T010000
END:STANDARD
BEGIN:DAYLIGHT
TZOFFSETFROM:+0100
TZOFFSETTO:+0200
TZNAME:CEST
DTSTART:20260329T010000
END:DAYLIGHT
BEGIN:STANDARD
TZOFFSETFROM:+0200
TZOFFSETTO:+0100
TZNAME:CET
DTSTART:20261025T010000
END:STANDARD
END:VTIMEZONE
BEGIN:VEVENT
DTSTART;VALUE=DATE:20250401
DTEND;VALUE=DATE:20250404
DTSTAMP:20260419T175051
CREATED:20240724T075954Z
LAST-MODIFIED:20240724T075954Z
UID:75053-1743465600-1743724799@www.vc-magazin.de
SUMMARY:0100 Conference Europe 2025
DESCRIPTION:Join 0100conferences for the 3rd edition of the 0100 Conference Europe in Amsterdam\, a carefully curated networking event for private equity and venture capital fund investors (LPs)\, fund managers (GPs)\, and service providers (SPs) from across Europe and North America. Cultivate personal connections with leading PE/VC investors. \nMore information and registration here.
URL:https://www.vc-magazin.de/event/0100-conference-europe-2025/
LOCATION:Amsterdam
END:VEVENT
BEGIN:VEVENT
DTSTART;TZID=Europe/Berlin:20250401T180000
DTEND;TZID=Europe/Berlin:20250401T230000
DTSTAMP:20260419T175051
CREATED:20250306T145236Z
LAST-MODIFIED:20250310T153944Z
UID:77161-1743530400-1743548400@www.vc-magazin.de
SUMMARY:Future Forest Dinner - Invest in nature
DESCRIPTION:The Future Forest Initiative invites you to the exclusive Investor Event 2025 in Berlin. Meet startups\, landowners\, investors and partners of the Future Forest Initiative who are driving\ninnovation\, new business models and markets\, linking the economy and the health of our planet. \nPartners of the event are ECBF\, de:hub\, Sachsen-Anhalt\, Banson and many more! \nSounds interesting? Please contact Björn Kaminski\, Head of Startup-Innovation\, for a personal invitation: b.kaminski@futureforest.de! Registration open until the 24th of March!
URL:https://www.vc-magazin.de/event/future-forest-dinner-invest-in-nature-2025/
LOCATION:Berlin
END:VEVENT
BEGIN:VEVENT
DTSTART;TZID=Europe/Berlin:20250402T180000
DTEND;TZID=Europe/Berlin:20250402T220000
DTSTAMP:20260419T175051
CREATED:20250326T140935Z
LAST-MODIFIED:20250326T140935Z
UID:77362-1743616800-1743631200@www.vc-magazin.de
SUMMARY:STARTUP MEETUP auf der Hannover Messe
DESCRIPTION:Tauchen Sie ein in die Welt der Start-ups am Mittwoch\, 2. April 2025\, ab 18.00 Uhr beim Internationalen STARTUP MEETUP auf der HANNOVER MESSE in Halle 2 / Startup Area. \nSeien Sie Teil eines einzigartigen Netzwerkabends\, präsentiert von hannoverimpuls GmbH\, Gründerimpuls Hannover\, Niedersachsen.next Startup\, Hafven und dem t3n Magazin\, unterstützt von NBank\, KPMG und de:hub – Life Science & Bioeconomy. Diese 21. Edition verspricht wieder inspirierende Begegnungen und kreative Synergien zwischen Startups\, Investoren und Medienprofis in der lebendigen Atmosphäre der HANNOVER MESSE. \nWas Sie erwartet:\n• Networking: Verbinden Sie sich mit Gleichgesinnten und Fachexperten\n• Inspiration: Teilen Sie Ideen und erfahren Sie Neues\n• Genuss & Musik: Freuen Sie sich auf leckere Snacks und Getränke und ausgezeichnete Musik \nAnmeldung & Eintritt:\nSichern Sie sich jetzt Ihren Platz und melden Sie sich frühzeitig hier an: https://lnkd.in/exwCGW4G \nFür den Zutritt zum Meetup ist zusätzlich ein HANNOVER MESSE Ticket erforderlich –\n🎟️ Kostenloses Ticket wartet hier: https://lnkd.in/emPAkXHi
URL:https://www.vc-magazin.de/event/startup-meetup-auf-der-hannover-messe-2025/
LOCATION:Hannover\, Hannover\, Deutschland
END:VEVENT
BEGIN:VEVENT
DTSTART;TZID=Europe/Berlin:20250403T140000
DTEND;TZID=Europe/Berlin:20250403T220000
DTSTAMP:20260419T175051
CREATED:20250310T145356Z
LAST-MODIFIED:20250310T145608Z
UID:77195-1743688800-1743717600@www.vc-magazin.de
SUMMARY:Forum UnternehmerTUM
DESCRIPTION:Forum UnternehmerTUM is the invite-only event of UnternehmerTUM\, where the participants spark action for a liveable future. Once a year in springtime Forum UnternehmerTUM welcomes hand-picked changemakers and international visionaries. \nThe Munich Urban Colab\, the atmospheric innovation center\, with its flowing open-house setting\, is its perfect location. On April\, 3 2025 once again UnternehmerTUM joins forces to meet current challenges\, to build strong competitiveness and co-create the most effective solutions for a thriving future in Germany and Europe.
URL:https://www.vc-magazin.de/event/forum-unternehmertum-2025/
LOCATION:Munich Urban Colab\, Freddie-Mercury-Straße 5\, München\, 80797
END:VEVENT
BEGIN:VEVENT
DTSTART;TZID=Europe/Berlin:20250403T180000
DTEND;TZID=Europe/Berlin:20250403T200000
DTSTAMP:20260419T175051
CREATED:20250224T112311Z
LAST-MODIFIED:20250313T131757Z
UID:77031-1743703200-1743710400@www.vc-magazin.de
SUMMARY:16. Funds Forum Frankfurt
DESCRIPTION:Darlehensvergabe durch Fonds/Fondsmanager und Auswirkungen auf PE und VC-Industrie – Chancen und Hürden\, was künftig zu beachten ist \nDie Darlehensvergabe durch Fonds wird durch die Umsetzung der sog. \nAIFMD II-Richtlinie ins deutsche KAGB von Grund auf neu geregelt. Das betrifft „echte“ Darlehensfonds\, aber auch solche Fonds\, die nicht grundsätzlich auf die Darlehensvergabe ausgerichtet sind\, aber dennoch im Rahmen ihrer Anlagestrategie auch Darlehen (z.B. an Portfoliounternehmen) ausgeben. Die bisherigen Regelungen des KAGB zur Darlehensvergabe\, einschließlich einer begrenzten Privilegierung von Gesellschafterdarlehen\, werden zum 16. April 2026 durch die neuen Regeln ersetzt.\n\nP+P Training diskutiert mit Branchenexperten\, auf welche Veränderungen sich Fondsmanager einstellen müssen\, welche Chancen dies gerade im Private Equity und Venture Capital-Bereich bietet\, aber auch welche neuen Herausforderungen sich für bestehende und neu aufgelegte Fonds stellen.  Zudem werden praxisrelevante steuerliche Aspekte behandelt\, wie z.B. die Besteuerung von Carried Interest aus Darlehensfonds.\n\nZur kostenfreien Teilnahme registrieren Sie sich bitte über folgenden Link: https://www.pptraining.de/funds-forum-frankfurt
URL:https://www.vc-magazin.de/event/16-funds-forum-frankfurt-2025/
LOCATION:Frankfurt am Main
END:VEVENT
BEGIN:VEVENT
DTSTART;TZID=Europe/Berlin:20250403T180000
DTEND;TZID=Europe/Berlin:20250403T210000
DTSTAMP:20260419T175051
CREATED:20250224T150456Z
LAST-MODIFIED:20250224T150456Z
UID:77048-1743703200-1743714000@www.vc-magazin.de
SUMMARY:25. Unternehmer Lounge
DESCRIPTION:Unternehmer Lounge: Der Beteiligungsvertrag – Was Gründer wissen müssen \nEin Investor möchte sich an Ihrem Start-up beteiligen – doch wie sichern Sie langfristig Ihre Position als Gründer? Wer hat welche Rechte? Und wie gelingt eine verlässliche Zusammenarbeit? \nDer Beteiligungsvertrag ist das Herzstück jeder Investition. Hier werden zentrale Konditionen wie Beteiligungsquote\, Verwässerungsschutz und Sonderrechte der Investoren festgelegt. Gleichzeitig legt er den Grundstein für künftige Finanzierungsrunden und die Zusammenarbeit zwischen Gründern und Gesellschaftern. \nIn der Unternehmer Lounge gibt Dr. Nikolaus Uhl wertvolle Einblicke in die wichtigsten Vertragsklauseln und zeigt\, worauf Start-ups bei Verhandlungen achten sollten. Seien Sie dabei und erfahren Sie\, wie Sie Ihre Interessen strategisch absichern können! \nZur Anmeldung: https://www.eventbrite.de/e/25-unternehmer-lounge-tickets-1254465834079?aff=oddtdtcreator
URL:https://www.vc-magazin.de/event/25-unternehmer-lounge/
LOCATION:Magdeburg\, Magdeburg\, Deutschland
END:VEVENT
BEGIN:VEVENT
DTSTART;TZID=Europe/Berlin:20250403T180000
DTEND;TZID=Europe/Berlin:20250403T220000
DTSTAMP:20260419T175051
CREATED:20250303T133743Z
LAST-MODIFIED:20250303T133743Z
UID:77133-1743703200-1743717600@www.vc-magazin.de
SUMMARY:W&I Workshop
DESCRIPTION:Als reine Absicherung des Private Equity Exits gestartet\, bieten M&A Versicherungen mittlerweile eine Vielzahl von Lösungsmöglichkeiten für den PE Investment Cycle. Angefangen von der erfolgreichen Einbindung bei speziellen Transaktionsstrukturen über die Generierung von Synergien bei Add-on Transaktionen bis hin zur Optimierung von Exit-Prozessen. \nErfahren Sie von den Mitgliedern des PEF NRW\, DUAL und Mayer Brown \n\nwelche speziellen Versicherungslösungen für den Private Equity Life Cycle angeboten werden\nwie W&I-Versicherungen bei typischen PE-Transaktionsstrukturen – z.B. dem Erwerb von Minderheitsbeteiligungen\, Distressed Transaktionen\, Rückbeteiligungen oder Carve-out-Szenarien – erfolgreich eingesetzt werden können\nwie W&I-Versicherungen aus PE-Sicht helfen\, eine Transaktion zum optimalen Ergebnis zu führen.\n\nAm 03.04.2025 ab 18:00 Uhr bei Mayer Brown in Düsseldorf\n-> Get Together ab 19:30 Uhr \nDer Ticketverkauf startet in Kürze
URL:https://www.vc-magazin.de/event/wi-workshop-2025/
LOCATION:Düsseldorf
END:VEVENT
BEGIN:VEVENT
DTSTART;VALUE=DATE:20250409
DTEND;VALUE=DATE:20250411
DTSTAMP:20260419T175051
CREATED:20250117T142753Z
LAST-MODIFIED:20250211T135211Z
UID:76768-1744156800-1744329599@www.vc-magazin.de
SUMMARY:FIBE Fintech Berlin 2025
DESCRIPTION:Die FIBE ist das führende Fintech-Festival in Berlin\, das zum zweiten Mal am 9. und 10. April 2025 im CityCube der Messe Berlin stattfindet. \nExperten aus Fintechs\, Banken\, Start-ups und Investoren kommen zusammen\, um die neuesten Trends \nund Innovationen in den Bereichen Finanzen\, Technologie und Digitalisierung zu diskutieren. \nDie Veranstaltung wird von der Messe Berlin in Kooperation mit den Partnern Handelsblatt\, der Berlin Finance Initiative und Berlin Partner durchgeführt. \nMehr Informationen hier.
URL:https://www.vc-magazin.de/event/fibe-fintech-berlin-2025/
LOCATION:Messe Berlin\, Messedamm 22\, Berlin\, 14055\, Deutschland
ATTACH;FMTTYPE=image/png:https://www.vc-magazin.de/wp-content/uploads/2025/01/FIBE_2025_Banner-LinkeIn_1080x1080px_Mondfahrzeug_Ticket.png
END:VEVENT
BEGIN:VEVENT
DTSTART;VALUE=DATE:20250409
DTEND;VALUE=DATE:20250411
DTSTAMP:20260419T175051
CREATED:20250210T115214Z
LAST-MODIFIED:20250221T131256Z
UID:76924-1744156800-1744329599@www.vc-magazin.de
SUMMARY:Deutsche Biotechnologietage 2025
DESCRIPTION:Die Deutschen Biotechnologietage 2025 finden am 9. und 10. April in Heidelberg statt. Die Veranstaltung gilt als deutsches Forum für die Biotechnologie-Branche\, beim dem sich Unternehmerinnen und Unternehmer mit Wissenschaftlern und Partnern aus Politik\, Investoren\, Förderinstitutionen und Verwaltung austauschen. Das zweitägige Programm beleuchtet die vielfältigen Anwendungsfelder und das Potenzial der Biotechnologie\, von der Gesundheitsforschung bis hin zur Bioökonomie. \nDie DBT 2025 bieten eine gute Mischung aus Vorträgen\, Podiumsdiskussionen und Breakout-Sessions. Es werden mehr als 900 Teilnehmerinnen und Teilnehmer erwartet! \nDie Registrierung für die Veranstaltung ist ab sofort hier möglich.
URL:https://www.vc-magazin.de/event/deutsche-biotechnologietage-2025/
LOCATION:Heidelberg\, Heidelberg\, Baden-Württemberg\, Germany
ATTACH;FMTTYPE=image/jpeg:https://www.vc-magazin.de/wp-content/uploads/2025/02/VCMagazin_calendar.jpg
END:VEVENT
BEGIN:VEVENT
DTSTART;VALUE=DATE:20250423
DTEND;VALUE=DATE:20250424
DTSTAMP:20260419T175051
CREATED:20250303T134146Z
LAST-MODIFIED:20250303T134146Z
UID:77134-1745366400-1745452799@www.vc-magazin.de
SUMMARY:NextGen-Workshop: New Work – Wie sieht Deine Zukunft aus?
DESCRIPTION:Homeoffice\, 4-Tage-Woche\, Purpose statt 9-to-5 –New Work verändert die Arbeitswelt rasant. Aber was bedeutet das für dich als Berufseinsteiger? Welche Chancen und Herausforderungen bringt dieser Wandel mit sich? \nProf. Dr. Axel Minten gibt spannende Einblicke in die aktuelle Entwicklung und zeigt\, welche Trends und Veränderungen die Zukunft der Arbeit bestimmen. \nSave the Date – Young Professionals only! \n23. April 2025 in der NRW.BANK\, Kavalleriestraße 22\, Düsseldorf \nWeitere Informationen folgen in Kürze!
URL:https://www.vc-magazin.de/event/nextgen-workshop-new-work-wie-sieht-deine-zukunft-aus/
LOCATION:NRW.BANK\, Kavalleriestraße 22\, Düsseldorf \, 40213\, Deutschland
END:VEVENT
BEGIN:VEVENT
DTSTART;VALUE=DATE:20250426
DTEND;VALUE=DATE:20250428
DTSTAMP:20260419T175051
CREATED:20241023T091405Z
LAST-MODIFIED:20241023T091405Z
UID:75819-1745625600-1745798399@www.vc-magazin.de
SUMMARY:The Founder Summit 2025
DESCRIPTION:Zum achten Mal öffnen die Tore des Founder Summits\, Deutschlands größter Gründer- und Unternehmerkonferenz für mehr als 8.000 Teilnehmer! Die besten Speaker\, Unternehmer und Erfolgspersönlichkeiten aus aller Welt sind auf unseren Bühnen zu Hause und teilen mit Dir ihre Geschichten\, Strategien und Insights! Freu Dich auf 2 Tage voller Live-Content\, Tipps und Tricks von Gründern für Gründer\, Networking mit den Besten Gründern\, Unternehmen und Investoren\, internationale Showacts und jede Menge Spaß! \nMehr Informationen und Tickets hier. \n 
URL:https://www.vc-magazin.de/event/the-founder-summit-2025/
LOCATION:Wiesbaden
END:VEVENT
BEGIN:VEVENT
DTSTART;VALUE=DATE:20250428
DTEND;VALUE=DATE:20250430
DTSTAMP:20260419T175051
CREATED:20250407T101528Z
LAST-MODIFIED:20250415T174458Z
UID:77454-1745798400-1745971199@www.vc-magazin.de
SUMMARY:BioVaria 2025 – Exzellente Technologien & Start-ups
DESCRIPTION:Die BioVaria ist Europas führende Veranstaltung für Innovationen in den Life-Sciences. Organisiert von Ascenion und anderen europäischen Technologietransferunternehmen\, bringt sie potenzielle Lizenznehmer und Investoren aus Biotechnologie und Pharmaindustrie mit Wissenschaftlern\, Gründern und Technologietransferexperten aus ganz Europa zusammen. Am 28. & 29. April 2025 präsentieren erstklassige Forschungseinrichtungen\, Universitäten und Universitätskliniken rund 70 ausgewählte\, lizenzierbare Life-Science-Technologien. Auch in diesem Jahr werden zusätzlich Projekte in frühen Entwicklungsphasen vorgestellt\, darunter Projekte aus Ascenions Life Science Digital Hub\, der durch GO-Bio initial gefördert wird. \nDas Startup Pitch & Partner-Programm der BioVaria gilt seit Jahren als besonderes Highlight: 10 von einer Jury ausgewählte Start-ups präsentieren ihre Projekte und können ein Preisgeld gewinnen. Investoren und Industrievertretern bietet sich die Möglichkeit\, Start-ups aus allen Bereichen der Lebenswissenschaften und in unterschiedlichen Entwicklungsstadien kennenzulernen. \nRegistrieren Sie sich jetzt für die BioVaria 2025! Mehr Informationen unter www.biovaria.org
URL:https://www.vc-magazin.de/event/biovaria-2025-exzellente-technologien-start-ups/
LOCATION:Hotel Sofitel Munich Bayerpost\, Bayerstraße 12\, München\, Bayern\, 80335\, Deutschland
ATTACH;FMTTYPE=image/jpeg:https://www.vc-magazin.de/wp-content/uploads/2025/04/Header-600-x-250-px.jpg
END:VEVENT
END:VCALENDAR