BEGIN:VCALENDAR
VERSION:2.0
PRODID:-//VC Magazin - ECPv6.15.15//NONSGML v1.0//EN
CALSCALE:GREGORIAN
METHOD:PUBLISH
X-WR-CALNAME:VC Magazin
X-ORIGINAL-URL:https://www.vc-magazin.de
X-WR-CALDESC:Veranstaltungen für VC Magazin
REFRESH-INTERVAL;VALUE=DURATION:PT1H
X-Robots-Tag:noindex
X-PUBLISHED-TTL:PT1H
BEGIN:VTIMEZONE
TZID:Europe/Berlin
BEGIN:DAYLIGHT
TZOFFSETFROM:+0100
TZOFFSETTO:+0200
TZNAME:CEST
DTSTART:20250330T010000
END:DAYLIGHT
BEGIN:STANDARD
TZOFFSETFROM:+0200
TZOFFSETTO:+0100
TZNAME:CET
DTSTART:20251026T010000
END:STANDARD
BEGIN:DAYLIGHT
TZOFFSETFROM:+0100
TZOFFSETTO:+0200
TZNAME:CEST
DTSTART:20260329T010000
END:DAYLIGHT
BEGIN:STANDARD
TZOFFSETFROM:+0200
TZOFFSETTO:+0100
TZNAME:CET
DTSTART:20261025T010000
END:STANDARD
BEGIN:DAYLIGHT
TZOFFSETFROM:+0100
TZOFFSETTO:+0200
TZNAME:CEST
DTSTART:20270328T010000
END:DAYLIGHT
BEGIN:STANDARD
TZOFFSETFROM:+0200
TZOFFSETTO:+0100
TZNAME:CET
DTSTART:20271031T010000
END:STANDARD
END:VTIMEZONE
BEGIN:VEVENT
DTSTART;VALUE=DATE:20260630
DTEND;VALUE=DATE:20260702
DTSTAMP:20260420T120720
CREATED:20250527T134220Z
LAST-MODIFIED:20251029T130623Z
UID:77989-1782777600-1782950399@www.vc-magazin.de
SUMMARY:GITEX Europe 2026
DESCRIPTION:Zur GITEX Europe-Website! \nMehr Informationen folgen zeitnah!
URL:https://www.vc-magazin.de/event/gitex-europe-2026/
LOCATION:Messe Berlin\, Messedamm 22\, Berlin\, 14055\, Deutschland
END:VEVENT
BEGIN:VEVENT
DTSTART;VALUE=DATE:20260630
DTEND;VALUE=DATE:20260702
DTSTAMP:20260420T120720
CREATED:20251217T103320Z
LAST-MODIFIED:20260306T134651Z
UID:80511-1782777600-1782950399@www.vc-magazin.de
SUMMARY:BayOConnect 2026 – Forum for Biotech & LifeScience
DESCRIPTION:Nach dem großen Erfolg der letzten beiden Jahre veranstaltet BioM die dritte Auflage der BayOConnect – Forum for Biotech & Life Sciences am 30. Juni und 1. Juli 2026 in den Design Offices München Macherei! \nDie BayOConnect hat sich als zentraler Treffpunkt der bayerischen\, nationalen und internationalen Biotech-Community etabliert. Auch 2026 werden wieder visionäre Denker\, innovative Unternehmen und Life-Science-Enthusiasten zusammengebracht – mit dem Ziel\, den Fortschritt der Biotechnologie in Gesundheit\, Medizin und nachhaltiger Innovationen weiter voranzutreiben. \nSchwerpunktthemen in diesem Jahr sind die Stärkung der Investitionen in die Biotechnologie in Europa\, Faktoren für die erfolgreiche Translation sowie aktuelle Innovationen in der TechBio-Branche! \nMit inspirierenden Keynotes\, interaktiven Vorträgen und Diskussionsrunden bietet das zweitägige Event die Möglichkeit\, tief in die dynamische Zukunft der Biotechnologie-Themen einzutauchen. Bei zahlreichen Networking-Gelegenheiten wie dem Abend-Event\, in der Poster- und Industrieausstellung oder im Partnering werden gezielt Kooperationen zwischen Start-ups\, Industrie\, Investoren und Forschungseinrichtungen gefördert und zum interaktiven Austausch motiviert! \nDas diesjährige Partnerland ist Österreich! \nDas aktuelle Programm finden Sie hier: https://www.bayoconnect.org/agenda.html!
URL:https://www.vc-magazin.de/event/bayoconnect-2026-forum-for-biotech-lifescience/
LOCATION:Macherei München\, Levelingstraße 2\, München\, 81673\, Germany
ATTACH;FMTTYPE=image/jpeg:https://www.vc-magazin.de/wp-content/uploads/2025/12/BayOConnect.jpg
END:VEVENT
BEGIN:VEVENT
DTSTART;VALUE=DATE:20260702
DTEND;VALUE=DATE:20260706
DTSTAMP:20260420T120720
CREATED:20260408T093928Z
LAST-MODIFIED:20260408T093928Z
UID:81719-1782950400-1783295999@www.vc-magazin.de
SUMMARY:Festival der Zukunft
DESCRIPTION:Das Festival der Zukunft\, veranstaltet von 1E9 und dem Deutschen Museum\, bringt Visionäre aus Technologie\, Wissenschaft\, Wirtschaft und Kunst zusammen\, um unter dem Motto „Join the Future“ über Lösungen für eine bessere Zukunft zu diskutieren. \nNeben über 100 Speakern kommen in diesem Jahr rund 1.500 Teilnehmende aus der Tech-\, Innovations- und Kreativcommunity zusammen\, um ihr Wissen zu teilen\, gemeinsam Tech-Trends zu erkunden. Die Bandbreite der Speaker reicht von KI-Entwicklern\, wie Prof. Björn Ommer von der Universität München\, bis hin zu Künstlern\, wie Musiker Florian Kreier. \nAm 4. und 5. Juli wird dann die ganze Münchner Museumsinsel ein Erlebnisraum: Bei den Publikumstagen waren in den letzten Jahren über 10.000 Personen dabei. Die ersten Speaker 2026 sind bereits online! \nMehr Informationen und Tickets hier!
URL:https://www.vc-magazin.de/event/festival-der-zukunft-2026/
LOCATION:München\, Deutschland
END:VEVENT
BEGIN:VEVENT
DTSTART;TZID=Europe/Berlin:20260702T130000
DTEND;TZID=Europe/Berlin:20260702T190000
DTSTAMP:20260420T120720
CREATED:20260319T110452Z
LAST-MODIFIED:20260319T120038Z
UID:81525-1782997200-1783018800@www.vc-magazin.de
SUMMARY:Life Science Pitch Day 2026
DESCRIPTION:HTGF und das Innovations- und Gründerzentrum für Biotechnologie (IZB) veranstalten am 2. Juli in München den 10. jährlichen Life Science Pitch Day. Der diesjährige Pitch Day bietet Start-ups aus den Bereichen #lifesciences\, #drugdevelopment und #drugdelivery die einmalige Gelegenheit\, ihre innovativen Geschäftsideen in einem schönen Ambiente renommierten Risikokapitalgebern und Investoren vorzustellen. \nStart-ups in der Frühphase können sich bis zum 7. Juni 2026 bewerben. Die Teilnahme an der Veranstaltung ist kostenlos. Die Veranstaltung findet in englischer Sprache statt.
URL:https://www.vc-magazin.de/event/life-science-pitch-day-2026/
LOCATION:Innovations- und Gründerzentrum für Biotechnologie IZB\, Am Klopferspitz 19\,  Planegg/Martinsried\, 82152
ATTACH;FMTTYPE=image/png:https://www.vc-magazin.de/wp-content/uploads/2019/11/HTGF_Logo-2025-schwarz-scaled-e1750152999608.png
END:VEVENT
BEGIN:VEVENT
DTSTART;VALUE=DATE:20260717
DTEND;VALUE=DATE:20260718
DTSTAMP:20260420T120720
CREATED:20260213T121905Z
LAST-MODIFIED:20260213T121906Z
UID:81044-1784246400-1784332799@www.vc-magazin.de
SUMMARY:VentureCapital Magazin 05/2026
DESCRIPTION:In unserer fünften Ausgabe des Jahres legen wir einen besonderen Fokus auf folgende Themen: Growth Capital\, M&A & Due Diligence\, CVC! Im Branchenfokus stehen die folgenden Themen: Quantencomputing & Software-Trends! \nIn der Ausgabe bündeln wir zum dritten Mal die Kräfte von VentureCapital Magazin und StartingUp. Viermal im Jahr erscheint eine gemeinsame Ausgabe\, die Gründer und Investoren noch enger verbindet. Das Ergebnis: Mehr Finanz-Know-how\, mehr Reichweite\, mehr Wirkung! Gründerinnen und Gründer werden an Finanzierungsthemen herangeführt\, Investoren entdecken die innovativsten Start-ups – alles in einem Magazin! \nZum E-Shop!
URL:https://www.vc-magazin.de/event/et-venturecapital-magazin-05-2026/
LOCATION:Online\, Deutschland
ORGANIZER;CN="VentureCapital Magazin":MAILTO:info@vc-magazin.de
END:VEVENT
BEGIN:VEVENT
DTSTART;VALUE=DATE:20260722
DTEND;VALUE=DATE:20260723
DTSTAMP:20260420T120720
CREATED:20260121T124235Z
LAST-MODIFIED:20260121T124236Z
UID:80788-1784678400-1784764799@www.vc-magazin.de
SUMMARY:Munich Startup Festival 2026
DESCRIPTION:Das Sommerfest der Münchner Start-up-Szene – ganz egal\, ob Sie Gründer\, Investor\, Student oder Netzwerker sind: Hier lernen Sie die richtigen Leute kennen! \nMehr Informationen hier!
URL:https://www.vc-magazin.de/event/munich-startup-festival-2026/
LOCATION:München\, Deutschland
END:VEVENT
END:VCALENDAR