BEGIN:VCALENDAR
VERSION:2.0
PRODID:-//VC Magazin - ECPv6.15.15//NONSGML v1.0//EN
CALSCALE:GREGORIAN
METHOD:PUBLISH
X-WR-CALNAME:VC Magazin
X-ORIGINAL-URL:https://www.vc-magazin.de
X-WR-CALDESC:Veranstaltungen für VC Magazin
REFRESH-INTERVAL;VALUE=DURATION:PT1H
X-Robots-Tag:noindex
X-PUBLISHED-TTL:PT1H
BEGIN:VTIMEZONE
TZID:Europe/Berlin
BEGIN:DAYLIGHT
TZOFFSETFROM:+0100
TZOFFSETTO:+0200
TZNAME:CEST
DTSTART:20250330T010000
END:DAYLIGHT
BEGIN:STANDARD
TZOFFSETFROM:+0200
TZOFFSETTO:+0100
TZNAME:CET
DTSTART:20251026T010000
END:STANDARD
BEGIN:DAYLIGHT
TZOFFSETFROM:+0100
TZOFFSETTO:+0200
TZNAME:CEST
DTSTART:20260329T010000
END:DAYLIGHT
BEGIN:STANDARD
TZOFFSETFROM:+0200
TZOFFSETTO:+0100
TZNAME:CET
DTSTART:20261025T010000
END:STANDARD
BEGIN:DAYLIGHT
TZOFFSETFROM:+0100
TZOFFSETTO:+0200
TZNAME:CEST
DTSTART:20270328T010000
END:DAYLIGHT
BEGIN:STANDARD
TZOFFSETFROM:+0200
TZOFFSETTO:+0100
TZNAME:CET
DTSTART:20271031T010000
END:STANDARD
END:VTIMEZONE
BEGIN:VEVENT
DTSTART;VALUE=DATE:20260902
DTEND;VALUE=DATE:20260903
DTSTAMP:20260420T152058
CREATED:20260223T124715Z
LAST-MODIFIED:20260223T124754Z
UID:81191-1788307200-1788393599@www.vc-magazin.de
SUMMARY:PEF Summer Reception
DESCRIPTION:Die diesjährige PEF Summer Reception 2026 des Private Equity Forums NRW findet – schon zum 5. Mal – in der Seifenfabrik Dr. Thompson statt und zwar am 2. September 2026 – direkt nach Ende der Sommerferien in NRW! \nWeitere Informationen folgen.
URL:https://www.vc-magazin.de/event/pef-summer-reception-2026/
LOCATION:Seifenfabrik Dr. Thompson’s\, Erkrather Str. 232\, Düsseldorf\, 40233
END:VEVENT
BEGIN:VEVENT
DTSTART;TZID=Europe/Berlin:20260910T170000
DTEND;TZID=Europe/Berlin:20260910T190000
DTSTAMP:20260420T152058
CREATED:20260304T132721Z
LAST-MODIFIED:20260304T132721Z
UID:81327-1789059600-1789066800@www.vc-magazin.de
SUMMARY:KfW Capital-VC-Academy: Exit-Strategien im VC-Markt
DESCRIPTION:Das Venture-Capital (VC)-Ökosystem in Deutschland und Europa entwickelt sich stetig weiter. Mit der Veranstaltungsreihe KfW Capital-VC-Academy greift KfW Capital aktuelle Entwicklungen und relevante Themen in einem kompakten Format auf: Vier Mal im Jahr werden ausgewiesene Expertinnen und Experten eingeladen\, die Ihnen tiefgehende Einblicke in ihre jeweiligen Fachgebiete geben. 2026 findet die Reihe bereits im fünften Jahr statt. \nDer Einladungsversand erfolgt circa vier bis sechs Wochen vor der jeweiligen Veranstaltung. Bei Fragen melden Sie sich jederzeit gern per Mail an info-kfw-capital@kfw.de. Weitere Informationen zur VC-Academy finden Sie auch unter www.kfw-capital.de.
URL:https://www.vc-magazin.de/event/kfw-capital-vc-academy-03-2026/
LOCATION:KfW Berlin
END:VEVENT
BEGIN:VEVENT
DTSTART;VALUE=DATE:20260915
DTEND;VALUE=DATE:20260916
DTSTAMP:20260420T152058
CREATED:20260317T164300Z
LAST-MODIFIED:20260317T165514Z
UID:81504-1789430400-1789516799@www.vc-magazin.de
SUMMARY:U.S. Entry Meetings | Frankfurt
DESCRIPTION:Für Firmen\, die einen Markteintritt in Betracht ziehen\, werden am 15. September 2026 in Frankfurt Themen wie Firmengründung\, Arbeitsrecht\, Schutz vor Produkthaftung etc. behandelt. \nUnter anderem auf der Agenda: Firmengründung\, Vertragliche Aspekte\, Vertriebsstruktur & Reps Rekrutierung\, Executive Search\, Visa & Work Permits\, Marketing & Vertrieb in den USA und mehr! \nJetzt hier anmelden!
URL:https://www.vc-magazin.de/event/us-entry-meetings-frankfurt-2026/
LOCATION:Frankfurt am Main
ATTACH;FMTTYPE=image/jpeg:https://www.vc-magazin.de/wp-content/uploads/2026/02/GATA_Meetings-2026-Termine_1200x628.jpg
END:VEVENT
BEGIN:VEVENT
DTSTART;VALUE=DATE:20260916
DTEND;VALUE=DATE:20260917
DTSTAMP:20260420T152058
CREATED:20260202T153415Z
LAST-MODIFIED:20260213T154408Z
UID:80930-1789516800-1789603199@www.vc-magazin.de
SUMMARY:Investforum Pitch-Day 2026
DESCRIPTION:Wenn technologieorientierte Start-ups\, forschungsnahe Innovationen und erfahrene Investoren zusammenkommen\, entsteht genau das\, wofür der Investforum Pitch-Day seit vielen Jahren steht: wertvolle Begegnungen\, fokussierte Gespräche und konkrete nächste Schritte für Wachstum\, Transfer und Finanzierung. \nAm 16. September 2026 öffnet der Investforum Pitch-Day – Sachsen-Anhalts größtes Matching- und Pitch-Event – erneut seine Türen für Teams\, die ihre Innovation in die Anwendung bringen wollen und für Kapitalgebende\, die gezielt nach passenden Investment-Cases suchen. \nWas Sie erwartet:\n\nLive-Pitches von Start-ups und Forschungsteams mit verwertbaren Forschungsergebnissen\nKuratierte 1:1-Matchings in professioneller und vertrauensvoller Atmosphäre\nInvest-ready Geschäftsmodelle und innovative Technologien\nGespräche auf Augenhöhe mit Investoren\, Business Angels und Branchenexperten\nNeue Impulse\, wertvolle Kontakte und oft der nächste große Schritt\n\nJetzt bewerben!\nStart-ups und forschungsnahe Teams können sich bis 14. Juni 2026 unter:  pitchday.investforum.de bewerben! \nInvestoren profitieren bis 31.03.2026 vom Early Bird Special unter  https://pitchday.investforum.de/anmeldung-investoren-early-bird-2026/!
URL:https://www.vc-magazin.de/event/investforum-pitch-day-2026/
LOCATION:Sachsen-Anhalt\, Sachsen-Anhalt\, Germany
ATTACH;FMTTYPE=image/jpeg:https://www.vc-magazin.de/wp-content/uploads/2026/02/20260120_ifpd26_save_the_date_1200x900px-21.jpg
END:VEVENT
BEGIN:VEVENT
DTSTART;VALUE=DATE:20260916
DTEND;VALUE=DATE:20260917
DTSTAMP:20260420T152059
CREATED:20260317T165054Z
LAST-MODIFIED:20260317T165505Z
UID:81508-1789516800-1789603199@www.vc-magazin.de
SUMMARY:Executive Management Meetings | Frankfurt
DESCRIPTION:Zielgruppe sind Unternehmen\, die bereits eine Tochter etabliert haben. Enthalten sind Informationen\, wie die US-Tochter korrekt zu führen ist\, Stichwort „Corporate Governance“\, und wie die Muttergesellschaft vor Durchgriffshaftung geschützt werden kann. \nUnter anderem auf der Agenda: Rechtliche Do’s and Don’ts\, Contract Management\, Risk Management / Produkthaftung\, Corp. Governance / Durchgriffshaftung\, Insurance / Risk Management Tools\, Steuerstrategien\, Mergers & Acquisitions und mehr! \nJetzt hier anmelden!
URL:https://www.vc-magazin.de/event/executive-management-meetings-frankfurt-2026/
LOCATION:Frankfurt am Main
ATTACH;FMTTYPE=image/jpeg:https://www.vc-magazin.de/wp-content/uploads/2026/02/GATA_Meetings-2026-Termine_1200x628.jpg
END:VEVENT
BEGIN:VEVENT
DTSTART;TZID=Europe/Berlin:20260916T140000
DTEND;TZID=Europe/Berlin:20260916T170000
DTSTAMP:20260420T152059
CREATED:20260202T150156Z
LAST-MODIFIED:20260202T150156Z
UID:80927-1789567200-1789578000@www.vc-magazin.de
SUMMARY:Pitch Club #35
DESCRIPTION:Die zweite Veranstaltung des Jahres 2026 findet am 16. September in Frankfurt am Main statt! Die Veranstaltung gibt jungen\, kreativen Start-ups die Möglichkeit\, ihre Idee vor erfahrenen Investoren zu präsentieren. \nDabei wird den „pitchenden“ Start-ups alles abverlangt: Die Bühne wird zum „Ring“\, in dem sich Gründerinnen und Gründer gegenüber den kritischen Fragen der Investoren verteidigen müssen. \nMehr Informationen hier!
URL:https://www.vc-magazin.de/event/pitch-club-35/
LOCATION:Frankfurt am Main
END:VEVENT
BEGIN:VEVENT
DTSTART;VALUE=DATE:20260917
DTEND;VALUE=DATE:20260918
DTSTAMP:20260420T152059
CREATED:20260122T154604Z
LAST-MODIFIED:20260129T152817Z
UID:80839-1789603200-1789689599@www.vc-magazin.de
SUMMARY:M&A USA Special
DESCRIPTION:Immer mehr Unternehmen erwägen bei ihrem US Engagement einen Zusammenschluss oder die Übernahme von Unternehmen. Die Ziele und Gründe für ein M&A in den USA sind vielfältig – sei es Wachstum\, Diversifikation\, Synergieeffekte\, Kostensenkung oder lokale Produktionskapazität. \nDer M&A-Prozess ist in der Regel komplex und erfordert die Zusammenarbeit von erfahrenen Praktikern mit diversifizierten Fachkenntnissen. \nDas neu angesetzte „M&A USA Special“ unterstützt Unternehmen durch spezialisierte Experten bei M&A-Transaktionen. Sie referieren an einem Tage zu allen Highlights zum Thema „Mergers &Acquisitions“ wie Strategieplanung\, Strukturierung\, Due Diligence\, Steueroptimierung\, Versicherungsfragen und Integration. \nM&A ist ein wichtiger Teil der Unternehmenswelt und spielt eine entscheidende Rolle für das Wachstum und die Entwicklung von Unternehmen. Der Prozess ist komplex\, aber mit der richtigen Planung und Unterstützung kann M&A ein erfolgreiches Instrument für Unternehmen in den USA sein. \nMehr Informationen hier! \nDie Agenda finden Sie hier!
URL:https://www.vc-magazin.de/event/ma-usa-special-2026/
LOCATION:Frankfurt am Main
END:VEVENT
BEGIN:VEVENT
DTSTART;TZID=Europe/Berlin:20260917T123000
DTEND;TZID=Europe/Berlin:20260917T180000
DTSTAMP:20260420T152059
CREATED:20260130T133036Z
LAST-MODIFIED:20260130T133036Z
UID:80919-1789648200-1789668000@www.vc-magazin.de
SUMMARY:33. Saxon Investors Roadshow
DESCRIPTION:Investoren treffen auf die spannendsten Start-ups Sachsens! Sie als Kapitalgebende bekommen die exklusive Möglichkeit\, ausgewählte & topaktuelle Gründungs- und Wachstumsunternehmen „Made in Saxony“ live zu treffen! \nSeien Sie Teil des Events\, das die innovativsten Köpfe Sachsens mit Investoren aus dem gesamten Bundesgebiet zusammenbringt. Die Sächsische Investoren Roadshow bietet Ihnen als Investoren die einmalige Gelegenheit\, zukunftsweisende Technologien aus dem Deeptech HotSpot hautnah kennenzulernen. \nMehr hier: https://www.futuresax.de/events/veranstaltung/33-saxon-investors-roadshow/!
URL:https://www.vc-magazin.de/event/33-saxon-investors-roadshow-2026/
LOCATION:Berlin\, Deutschland
END:VEVENT
BEGIN:VEVENT
DTSTART;TZID=Europe/Berlin:20260917T170000
DTEND;TZID=Europe/Berlin:20260917T230000
DTSTAMP:20260420T152059
CREATED:20260112T160801Z
LAST-MODIFIED:20260420T123833Z
UID:80689-1789664400-1789686000@www.vc-magazin.de
SUMMARY:German Innovation & Venture Day 2026
DESCRIPTION:Auch 2026 wollen wir\, nach dem Erfolg in 2025\, die Community im WERK1 München zu einer Veranstaltung voller frischer Ideen\, Austausch mit Branchenleadern und geballtem Know-how zusammenbringen! \nNähere Informationen zur Agenda\, Speakern und mehr finden Sie hier! \nEindrücke von unserem Event 2025 finden Sie hier: \n \nPanels vom letztjährigen Event finden Sie in voller Länge hier!
URL:https://www.vc-magazin.de/event/german-innovation-venture-day-2026/
LOCATION:Werk1\, Am Kartoffelgarten 14\, München\, Bayern\, 81671\, Germany
ATTACH;FMTTYPE=image/png:https://www.vc-magazin.de/wp-content/uploads/2026/01/Screenshot-2026-04-20-143533.png
ORGANIZER;CN="VentureCapital Magazin":MAILTO:info@vc-magazin.de
END:VEVENT
BEGIN:VEVENT
DTSTART;VALUE=DATE:20260918
DTEND;VALUE=DATE:20260919
DTSTAMP:20260420T152059
CREATED:20260213T123847Z
LAST-MODIFIED:20260213T123848Z
UID:81046-1789689600-1789775999@www.vc-magazin.de
SUMMARY:VentureCapital Magazin 06/26 - Special Edition Impact Life Sciences: Biotech\, Medtech\, Food & more (engl.)
DESCRIPTION:In unserer zweiten Sonderausgabe des Jahres „Impact Life Sciences“ legen wir unter anderem einen besonderen Fokus auf folgende Themen: Biotech\, Medtech & Food! \nWir blicken zudem auf das Thema „Deals\, Data & Partnering – Connecting the Life Sciences Ecosystem“\, RNA-Technologies\, Cell & Gene therapies\, Radiotheranostic\, Bioeconomy\, Healthcare\, Case Studies\, M&A und IP! Außerdem im Heft: Life Science Guide inkl. Investoren\, Technologiezentren\, Consultants und Unternehmen! \nZum E-Shop!
URL:https://www.vc-magazin.de/event/et-venturecapital-magazin-06-26-special-edition-impact-life-sciences/
LOCATION:Online\, Deutschland
ORGANIZER;CN="VentureCapital Magazin":MAILTO:info@vc-magazin.de
END:VEVENT
BEGIN:VEVENT
DTSTART;VALUE=DATE:20260928
DTEND;VALUE=DATE:20261001
DTSTAMP:20260420T152059
CREATED:20251029T125022Z
LAST-MODIFIED:20251029T125024Z
UID:79854-1790553600-1790812799@www.vc-magazin.de
SUMMARY:Bits & Pretzels 2026
DESCRIPTION:Bits & Pretzels hosts 7\,500 founders\, investors\, and industry leaders for three days full of learning\, networking & doing business during Munich Oktoberfest.\n\nMore information soon!\n\nFind information about Bits & Pretzels 2025 here!
URL:https://www.vc-magazin.de/event/bits-pretzels-2026/
LOCATION:München\, Deutschland
END:VEVENT
END:VCALENDAR