BEGIN:VCALENDAR
VERSION:2.0
PRODID:-//VC Magazin - ECPv6.15.15//NONSGML v1.0//EN
CALSCALE:GREGORIAN
METHOD:PUBLISH
X-WR-CALNAME:VC Magazin
X-ORIGINAL-URL:https://www.vc-magazin.de
X-WR-CALDESC:Veranstaltungen für VC Magazin
REFRESH-INTERVAL;VALUE=DURATION:PT1H
X-Robots-Tag:noindex
X-PUBLISHED-TTL:PT1H
BEGIN:VTIMEZONE
TZID:Europe/Berlin
BEGIN:DAYLIGHT
TZOFFSETFROM:+0100
TZOFFSETTO:+0200
TZNAME:CEST
DTSTART:20250330T010000
END:DAYLIGHT
BEGIN:STANDARD
TZOFFSETFROM:+0200
TZOFFSETTO:+0100
TZNAME:CET
DTSTART:20251026T010000
END:STANDARD
BEGIN:DAYLIGHT
TZOFFSETFROM:+0100
TZOFFSETTO:+0200
TZNAME:CEST
DTSTART:20260329T010000
END:DAYLIGHT
BEGIN:STANDARD
TZOFFSETFROM:+0200
TZOFFSETTO:+0100
TZNAME:CET
DTSTART:20261025T010000
END:STANDARD
BEGIN:DAYLIGHT
TZOFFSETFROM:+0100
TZOFFSETTO:+0200
TZNAME:CEST
DTSTART:20270328T010000
END:DAYLIGHT
BEGIN:STANDARD
TZOFFSETFROM:+0200
TZOFFSETTO:+0100
TZNAME:CET
DTSTART:20271031T010000
END:STANDARD
END:VTIMEZONE
BEGIN:VEVENT
DTSTART;VALUE=DATE:20261109
DTEND;VALUE=DATE:20261112
DTSTAMP:20260420T183631
CREATED:20251202T163433Z
LAST-MODIFIED:20251203T114408Z
UID:80283-1794182400-1794441599@www.vc-magazin.de
SUMMARY:BIO-Europe
DESCRIPTION:
URL:https://www.vc-magazin.de/event/bio-europe/
LOCATION:Congress Centre North Koelnmesse/KölnKongress\, Deutz-Mülheimer-Straße 111\, Köln\,  50679 \, Deutschland
END:VEVENT
BEGIN:VEVENT
DTSTART;VALUE=DATE:20261110
DTEND;VALUE=DATE:20261111
DTSTAMP:20260420T183631
CREATED:20251029T131331Z
LAST-MODIFIED:20251029T131332Z
UID:79856-1794268800-1794355199@www.vc-magazin.de
SUMMARY:27. Deutscher Eigenkapitaltag
DESCRIPTION:Der nächste Eigenkapitaltag findet am 10. November 2026 im Futurium Berlin (Alexanderufer 2\, 10117 Berlin) statt! Die Veranstaltung richtet sich an Vertreter der Private Equity- und Venture Capital-Branche sowie an das gesamte Umfeld des deutschen Beteiligungsmarktes einschließlich Mittelstand und Start-ups.  \nDer Eigenkapitaltag greift aktuelle Trends und Entwicklungen auf\, verspricht wertvolle Markteinblicke und exklusive Gelegenheiten zum persönlichen Austausch mit Branchenführern\, Top-Investoren und politischen Entscheidungsträgern. \nDer 26. Deutsche Eigenkapitaltag fand 24. Juni 2025 im Berliner Futurium statt. Unseren Event-Rückblick finden Sie hier! \nMehr Informationen folgen zeitnah!
URL:https://www.vc-magazin.de/event/27-deutscher-eigenkapitaltag-2026/
LOCATION:Futurium Berlin\, Alexanderufer 2\, Berlin\, Berlin\, 10117\, Deutschland
END:VEVENT
BEGIN:VEVENT
DTSTART;VALUE=DATE:20261110
DTEND;VALUE=DATE:20261111
DTSTAMP:20260420T183631
CREATED:20260401T132144Z
LAST-MODIFIED:20260401T132144Z
UID:81681-1794268800-1794355199@www.vc-magazin.de
SUMMARY:DigiFin26
DESCRIPTION:Bitkom und Payment & Banking bündeln auch 2026 ihre Kräfte und veranstalten gemeinsam die DigiFin26. Am 10. November kommen im Kosmos Berlin führende Akteure aus Politik\, Finanzwirtschaft und Tech zusammen\, um über die Zukunft des digitalen Finanzökosystems zu diskutieren. \nIm Mittelpunkt steht die Frage\, wie wir unter geopolitischem Druck\, technologischem Wandel und neuen Wettbewerbsdynamiken ein starkes\, widerstandsfähiges und innovationsfähiges Finanzsystem für Deutschland und Europa gestalten können. \nUnter anderem dabei: Mark Branson (Präsident\, BaFin)\, MdB Dr. Moritz Heuberger (Bundestagsfraktion Bündnis 90/Die Grünen)\, Dr. Ralf Wintergerst (Präsident\, Bitkom)\, Prof. Dr. Fritzi Köhler-Geib (Vorständin\, Deutsche Bundesbank) & Martina Weimert (CEO\, EPI Company)! \nMehr Informationen hier!
URL:https://www.vc-magazin.de/event/digifin26/
LOCATION:Kosmos Berlin\, Karl-Marx-Allee 131A\, Berlin\, 10243
END:VEVENT
BEGIN:VEVENT
DTSTART;VALUE=DATE:20261111
DTEND;VALUE=DATE:20261112
DTSTAMP:20260420T183631
CREATED:20260122T150300Z
LAST-MODIFIED:20260213T133404Z
UID:80837-1794355200-1794441599@www.vc-magazin.de
SUMMARY:16. Hamburger Fondsgespräche
DESCRIPTION:Die Hamburger Fondsgespräche bieten Fachpersonen und Unternehmen\, die mit geschlossenen Fondsprodukten arbeiten\, eine Plattform für Austausch\, Wissenstransfer und Diskussion aktueller Entwicklungen. Die jährliche Eventreihe wurde auf Initiative der Kanzleien POELLATH und YPOG ins Leben gerufen. Ziel ist ein offenes Forum für die Private Equity‑ und Venture Capital‑Branche sowie für die geschlossene Fondsindustrie. Seit 2023 liegt die Organisation bei der P+ Training GmbH. \nHier klicken für weitere Informationen. Interessierte können sich für den Newsletter anmelden und erhalten die Einladung sowie alle Informationen direkt per E‑Mail.
URL:https://www.vc-magazin.de/event/16-hamburger-fondsgespraech-2026/
LOCATION:Hotel Hafen Hamburg\, Hamburg\, Hamburg\, Germany
ATTACH;FMTTYPE=image/png:https://www.vc-magazin.de/wp-content/uploads/2026/01/Headerbild-HH-FG-2026.png
END:VEVENT
BEGIN:VEVENT
DTSTART;VALUE=DATE:20261112
DTEND;VALUE=DATE:20261114
DTSTAMP:20260420T183631
CREATED:20260121T145838Z
LAST-MODIFIED:20260121T150019Z
UID:80809-1794441600-1794614399@www.vc-magazin.de
SUMMARY:ICPO Theranostics Virtual Summit 2026
DESCRIPTION:Nähere Informationen folgen zeitnah! \nDas Programm finden Sie hier!
URL:https://www.vc-magazin.de/event/icpo-theranostics-virtual-summit-2026/
ATTACH;FMTTYPE=image/png:https://www.vc-magazin.de/wp-content/uploads/2026/01/Screenshot-2026-01-21-155912.png
END:VEVENT
BEGIN:VEVENT
DTSTART;TZID=Europe/Berlin:20261117T170000
DTEND;TZID=Europe/Berlin:20261117T190000
DTSTAMP:20260420T183631
CREATED:20260304T133044Z
LAST-MODIFIED:20260304T133104Z
UID:81328-1794934800-1794942000@www.vc-magazin.de
SUMMARY:KfW Capital-VC-Academy: Beyond public money – mehr privates Kapital für VC
DESCRIPTION:Das Venture-Capital (VC)-Ökosystem in Deutschland und Europa entwickelt sich stetig weiter. Mit der Veranstaltungsreihe KfW Capital-VC-Academy greift KfW Capital aktuelle Entwicklungen und relevante Themen in einem kompakten Format auf: Vier Mal im Jahr werden ausgewiesene Expertinnen und Experten eingeladen\, die Ihnen tiefgehende Einblicke in ihre jeweiligen Fachgebiete geben. 2026 findet die Reihe bereits im fünften Jahr statt. \nDer Einladungsversand erfolgt circa vier bis sechs Wochen vor der jeweiligen Veranstaltung. Bei Fragen melden Sie sich jederzeit gern per Mail an info-kfw-capital@kfw.de. Weitere Informationen zur VC-Academy finden Sie auch unter www.kfw-capital.de.
URL:https://www.vc-magazin.de/event/kfw-capital-vc-academy-04-2026/
LOCATION:KfW Berlin
END:VEVENT
BEGIN:VEVENT
DTSTART;VALUE=DATE:20261118
DTEND;VALUE=DATE:20261120
DTSTAMP:20260420T183631
CREATED:20251209T113234Z
LAST-MODIFIED:20251209T113433Z
UID:80342-1794960000-1795132799@www.vc-magazin.de
SUMMARY:Praxisforum Unternehmensresilienz 2026
DESCRIPTION:Technologien\, Verfahren & Anbieter – Gütersloh\, 18./19. November 2026 \nWir leben in einer Zeit tiefgreifender Transformation. Globale Unsicherheiten\, geopolitische Spannungen\, volatile Energiekosten\, Fachkräftemangel\, digitale Disruption\, KI\, Rohstoffengpässe\, demografischer Wandel\, überbordende Bürokratie sowie herausfordernde politische Rahmenbedingungen fordern Unternehmen in bislang unbekannter Intensität heraus. \nGleichzeitig entstehen enorme Chancen: durch neue Technologien\, innovative Verfahren\, Kooperationen mit Startups\, branchenübergreifende Partnerschaften und kreative Ansätze\, um Unternehmen nachhaltig widerstandsfähig und zukunftsfähig zu machen. \n„Spitze bleiben“ bringt Entscheider:innen\, Lösungsanbieter\, Forschung\, Industrie\, Handwerk\, Forst- und Landwirtschaft\, Investoren sowie Wirtschaftsförderer zusammen – mit einem klaren Ziel: Lösungen entdecken. Netzwerke stärken. Zukunft gestalten. \nDas Format basiert auf über 40 erfolgreichen Foren seit 1997 mit insgesamt mehr als 6.500 Teilnehmenden (spitze-bleiben.de). Ergänzt durch bewährte Formate wie das „Spitze bleiben“-Dinner\, Sommerfeste\, hochkarätige Branchentreffen sowie die Watervent-Start-up-Formate\, entsteht 2026 ein neuartiges Forum mit maximaler Praxisorientierung. \nDas erwartet Aussteller und Besucher: \n\nPraxisnahe Lösungs- und Technologiepräsentationen an Messeständen (mit Vorab-\nTerminierung)\nStart-ups im 10-Minuten-Takt: kompakte Machbarkeits- und Innovations-Pitches\nBest Practices zur Zukunftssicherung von Familienunternehmen\nNetworking auf Augenhöhe mit Unternehmer:innen\, Enablern\, Investoren\, Forschung\nKeine Politik-Statements\, sondern umsetzbare Lösungen\n\nHighlights \n• Keynote Gerd Leonhard\, Futurist (futuristgerd.com)\n• bis zu drei weitere Keynotes zum Auftakt beider Messetage\n• Exklusiver Empfang für Aussteller\, Schirmherrschaften\, Partner\, Startups am Vortag\n• Kickoff-Empfang am 1. Tag (Aussteller\, Schirmherrschaften\, Partner\, Besucher)\n• Exklusives Dinner am 2. Tag für Aussteller\, Partner & Schirmherrschaften \nMehr Informationen folgen! \nBereit für ein Engagement als Partner oder Aussteller und Ihr Start-up zu pitchen? Kontakt: ulf.leonhard@leoven.com!
URL:https://www.vc-magazin.de/event/praxisforum-unternehmensresilienz-2026/
LOCATION:Gütersloh\, Gütersloh\, Germany
END:VEVENT
BEGIN:VEVENT
DTSTART;VALUE=DATE:20261125
DTEND;VALUE=DATE:20261127
DTSTAMP:20260420T183631
CREATED:20251208T130643Z
LAST-MODIFIED:20251208T130644Z
UID:80334-1795564800-1795737599@www.vc-magazin.de
SUMMARY:Impact Festival 2026
DESCRIPTION:Nähere Informationen folgen!
URL:https://www.vc-magazin.de/event/impact-festival-2026/
LOCATION:Messe Frankfurt\, Frankfurt a.M.\, Hessen\, Deutschland
END:VEVENT
END:VCALENDAR