BEGIN:VCALENDAR
VERSION:2.0
PRODID:-//VC Magazin - ECPv6.15.15//NONSGML v1.0//EN
CALSCALE:GREGORIAN
METHOD:PUBLISH
X-ORIGINAL-URL:https://www.vc-magazin.de
X-WR-CALDESC:Veranstaltungen für VC Magazin
REFRESH-INTERVAL;VALUE=DURATION:PT1H
X-Robots-Tag:noindex
X-PUBLISHED-TTL:PT1H
BEGIN:VTIMEZONE
TZID:Europe/Berlin
BEGIN:DAYLIGHT
TZOFFSETFROM:+0100
TZOFFSETTO:+0200
TZNAME:CEST
DTSTART:20220327T010000
END:DAYLIGHT
BEGIN:STANDARD
TZOFFSETFROM:+0200
TZOFFSETTO:+0100
TZNAME:CET
DTSTART:20221030T010000
END:STANDARD
BEGIN:DAYLIGHT
TZOFFSETFROM:+0100
TZOFFSETTO:+0200
TZNAME:CEST
DTSTART:20230326T010000
END:DAYLIGHT
BEGIN:STANDARD
TZOFFSETFROM:+0200
TZOFFSETTO:+0100
TZNAME:CET
DTSTART:20231029T010000
END:STANDARD
BEGIN:DAYLIGHT
TZOFFSETFROM:+0100
TZOFFSETTO:+0200
TZNAME:CEST
DTSTART:20240331T010000
END:DAYLIGHT
BEGIN:STANDARD
TZOFFSETFROM:+0200
TZOFFSETTO:+0100
TZNAME:CET
DTSTART:20241027T010000
END:STANDARD
END:VTIMEZONE
BEGIN:VEVENT
DTSTART;TZID=Europe/Berlin:20230525T100000
DTEND;TZID=Europe/Berlin:20230525T170000
DTSTAMP:20260421T173906
CREATED:20221118T105622Z
LAST-MODIFIED:20230406T083831Z
UID:69979-1685008800-1685034000@www.vc-magazin.de
SUMMARY:24. Deutscher Eigenkapitaltag
DESCRIPTION:Am 25. Mai 2023 findet der 24. Deutsche Eigenkapitaltag des Bundesverbandes Beteiligungskapital (BVK) in Berlin statt. Im Anschluss findet die BVK Dinnerparty statt. \nOrt und Agenda werden noch bekannt gegeben.
URL:https://www.vc-magazin.de/event/24-deutscher-eigenkapitaltag-bvk/
LOCATION:Berlin
END:VEVENT
BEGIN:VEVENT
DTSTART;TZID=Europe/Berlin:20230525T160000
DTEND;TZID=Europe/Berlin:20230525T223000
DTSTAMP:20260421T173906
CREATED:20230502T080030Z
LAST-MODIFIED:20230502T080030Z
UID:71410-1685030400-1685053800@www.vc-magazin.de
SUMMARY:Spitze bleiben #35
DESCRIPTION:Am 25. Mai findet im Mazars die nächste Veranstaltung der „Spitze bleiben“-Reihe statt! \nEs stellen sich 10 bis max. 15 Unternehmen / Start-ups vor! \nIhre Anmeldung ist persönlich und verbindlich. Melden Sie sich hier an.
URL:https://www.vc-magazin.de/event/spitze-bleiben-35/
LOCATION:Mazars\, Alt-Moabit 2\, Berlin\, 10557 
ORGANIZER;CN="Leonhard Ventures":MAILTO:ulf.leonhard@leoven.com
END:VEVENT
END:VCALENDAR