BEGIN:VCALENDAR
VERSION:2.0
PRODID:-//VC Magazin - ECPv6.15.15//NONSGML v1.0//EN
CALSCALE:GREGORIAN
METHOD:PUBLISH
X-WR-CALNAME:VC Magazin
X-ORIGINAL-URL:https://www.vc-magazin.de
X-WR-CALDESC:Veranstaltungen für VC Magazin
REFRESH-INTERVAL;VALUE=DURATION:PT1H
X-Robots-Tag:noindex
X-PUBLISHED-TTL:PT1H
BEGIN:VTIMEZONE
TZID:Europe/Berlin
BEGIN:DAYLIGHT
TZOFFSETFROM:+0100
TZOFFSETTO:+0200
TZNAME:CEST
DTSTART:20220327T010000
END:DAYLIGHT
BEGIN:STANDARD
TZOFFSETFROM:+0200
TZOFFSETTO:+0100
TZNAME:CET
DTSTART:20221030T010000
END:STANDARD
BEGIN:DAYLIGHT
TZOFFSETFROM:+0100
TZOFFSETTO:+0200
TZNAME:CEST
DTSTART:20230326T010000
END:DAYLIGHT
BEGIN:STANDARD
TZOFFSETFROM:+0200
TZOFFSETTO:+0100
TZNAME:CET
DTSTART:20231029T010000
END:STANDARD
BEGIN:DAYLIGHT
TZOFFSETFROM:+0100
TZOFFSETTO:+0200
TZNAME:CEST
DTSTART:20240331T010000
END:DAYLIGHT
BEGIN:STANDARD
TZOFFSETFROM:+0200
TZOFFSETTO:+0100
TZNAME:CET
DTSTART:20241027T010000
END:STANDARD
END:VTIMEZONE
BEGIN:VEVENT
DTSTART;VALUE=DATE:20230605
DTEND;VALUE=DATE:20230610
DTSTAMP:20260421T160241
CREATED:20230117T142929Z
LAST-MODIFIED:20230406T083939Z
UID:70582-1685923200-1686355199@www.vc-magazin.de
SUMMARY:SuperReturn International 2023
DESCRIPTION:The private capital world comes to Berlin. \nAttend the 26th annual SuperReturn International to network with the world’s leading names in private capital. \nDo not miss your chance to… \n\nMeet more than 3\,500+ senior industry practitioners\nInterface personally with 1\,100+ powerful LPs\nHear from an incomparable line-up of 250+ industry heavyweight speakers\nA truly global gathering from 63 countries\nView the delegate list & arrange invaluable meetings ahead of time\n\nGet the inside track on innovation\, ESG\, growth\, private debt\, value\, regeneration and return. \n10% discount – VIP code: FKR2636VCM \nMore information\, registration and agenda here.
URL:https://www.vc-magazin.de/event/superreturn-international-2023/
LOCATION:InterContinental Hotel Berlin\, Budapester Str. 2\, Berlin\, 10787
ATTACH;FMTTYPE=image/jpeg:https://www.vc-magazin.de/wp-content/uploads/2023/01/SRI-VC-Magazine-banner.jpg
END:VEVENT
BEGIN:VEVENT
DTSTART;VALUE=DATE:20230605
DTEND;VALUE=DATE:20230608
DTSTAMP:20260421T160241
CREATED:20230228T121012Z
LAST-MODIFIED:20230406T083514Z
UID:70936-1685923200-1686182399@www.vc-magazin.de
SUMMARY:SuperVenture 2023
DESCRIPTION:The LP/VC relations event \nNot just another tech event. SuperVenture gives you three days full of insight and networking focused on VC and LP perspectives. \nGet to grips with the latest trends\, opportunities and challenges\, while make lasting connections with industry peers. \nExplore valuations and LP allocations and don’t miss the latest insights on integrating ESG and making impactful investments. \n\n700+ senior attendees\n200+ local and international LPs to meet\n400+ leading VCs to network with\n\nCreate new connections and catch up with your peers through a series of networking drinks\nreceptions\, interactive boardroom discussions\, hosted roundtable discussions\, speed networking and one-to-one meetings. \nThe networking app gives you the tools to do it before\, during and after the event. \nAs official media partner we are able to provide a 10% discount with the VIP code: FKR2674VCM. \nMore information here.
URL:https://www.vc-magazin.de/event/superventure-2023/
LOCATION:Hotel Palace Berlin\,  Budapester Str. 45\, Berlin\, 10787
END:VEVENT
BEGIN:VEVENT
DTSTART;TZID=Europe/Berlin:20230607T130000
DTEND;TZID=Europe/Berlin:20230607T220000
DTSTAMP:20260421T160241
CREATED:20230511T095556Z
LAST-MODIFIED:20230511T095556Z
UID:71435-1686142800-1686175200@www.vc-magazin.de
SUMMARY:Demo Day (FLYACTS & Reaktor.Berlin)
DESCRIPTION:FLYACTS und Reaktor.Berlin veranstalten am 07. Juni 2023 einen gemeinsamen Demo Day\, auf dem sich 15+ Ventures vor 100+ Investoren präsentieren. \nAls Venture Studio bringt FLYACTS  Ideen\, Kapital\, Ressourcen und Talent zusammen\, und schafft die nächste Generation von digitalen Neugeschäften. REAKTOR Berlin ist ein Kraftwerk der Innovation und unterstützt Gründer auf ihrer unternehmerischen Reise. \nSie sind Investor? Melden Sie sich bei uns für eine Registrierung. \nZum Programm und Anmeldung geht es hier.
URL:https://www.vc-magazin.de/event/demo-day-flyacts-reaktor-berlin/
LOCATION:Tipi am Kanzleramt\, Große Querallee\, Berlin\, Berlin\, 10557\, Deutschland
END:VEVENT
BEGIN:VEVENT
DTSTART;VALUE=DATE:20230620
DTEND;VALUE=DATE:20230622
DTSTAMP:20260421T160241
CREATED:20230605T082618Z
LAST-MODIFIED:20230605T082618Z
UID:71627-1687219200-1687391999@www.vc-magazin.de
SUMMARY:K5 Future Retail Konferenz
DESCRIPTION:Am 20. und 21. Juni 2023 ist das ESTREL Berlin wieder der Place to be für jeden E-Commercler\, denn dann treffen sich die Big Player der digitalen Handelsszene zur K5 Future Retail Conference 2023. \nDie K5 bietet u.a. Speeches & Masterclasses mit Macher und Entscheider der Branche\, zudem heißt K5 auch Networking mit der legendären K5 CONNECT PARTY\, Speed Networking\, Fun Areas und vielem mehr. An zwei Tagen wird auf 14.000 m² u.a. inspiriert\, entdeckt\, Tipps & Tricks gegeben und Leute getroffen. \nMehr Informationen und zur Anmeldung hier.
URL:https://www.vc-magazin.de/event/k5-future-retail-konferenz-2023/
LOCATION:Estrel Berlin\, Sonnenallee 225\, Berlin\, 12057\, Deutschland
END:VEVENT
BEGIN:VEVENT
DTSTART;VALUE=DATE:20230628
DTEND;VALUE=DATE:20230630
DTSTAMP:20260421T160241
CREATED:20230406T114734Z
LAST-MODIFIED:20230406T114734Z
UID:71287-1687910400-1688083199@www.vc-magazin.de
SUMMARY:hub.berlin 2023
DESCRIPTION:Get the latest industry insights with expert-led workshops\, top keynotes\, and exciting panels covering today’s pressing tech topics. Learn from over 200 outstanding speakers sharing their personal experience and vision on stage. \nFrom new dimensions of art\, one-one-sessions with speakers\, tech playgrounds\, and networking lounges to guided tours and a club night: be ready for an immersive experience you won’t forget. \nEinige bestätigte Speaker sind: Finanzminister Christian Lindner\, Minister Dr. Volker Wissing\, Dr. Daniela Gerd tom Markotten (Deutsche Bahn)\, Dr. Tanja Rückert (CDO Bosch Group)\, Timotheus Höttges (CEO Deutsche Telekom AG) und Dirk Hoke (CEO Volocopter) und mehr. \nAftermovie 2022 hier. \nZum Programm hier. \nTickets hier. \n 
URL:https://www.vc-magazin.de/event/hub-berlin-2023/
LOCATION:STATION Berlin\, Luckenwalder Str. 4-6\, Berlin\, 10963\, Deutschland
END:VEVENT
BEGIN:VEVENT
DTSTART;VALUE=DATE:20230628
DTEND;VALUE=DATE:20230629
DTSTAMP:20260421T160241
CREATED:20230512T124948Z
LAST-MODIFIED:20230512T124948Z
UID:71476-1687910400-1687996799@www.vc-magazin.de
SUMMARY:Innovators‘ Pitch 2023
DESCRIPTION:The Innovators‘ Pitch is the competition for early-stage start-ups in Europe. Bright tech entrepreneurs get the chance to present their innovative products or prototypes to a high-level jury and an expert audience. Joining forces with world-leading corporate partners\, Bitkom presents the Innovators‘ Pitch as part of the business festival hub.berlin on June 28th\, 2023. \nMore information here. \nStart-ups can apply here.
URL:https://www.vc-magazin.de/event/innovators-pitch-2023/
LOCATION:STATION Berlin\, Luckenwalder Str. 4-6\, Berlin\, 10963\, Deutschland
END:VEVENT
BEGIN:VEVENT
DTSTART;TZID=Europe/Berlin:20230629T190000
DTEND;TZID=Europe/Berlin:20230629T233000
DTSTAMP:20260421T160241
CREATED:20230321T140712Z
LAST-MODIFIED:20230321T140712Z
UID:71083-1688065200-1688081400@www.vc-magazin.de
SUMMARY:Gründerszene Spätschicht Berlin - Summer Edition
DESCRIPTION:Bei der Gründerszene Spätschicht Berlin trifft sich das Who’s who der Startup-Szene. Hier kommen Gründende\, Business Angels\, VCs und digitale Enthusiasten zum entspannten After Work zusammen. \nDatum: \n29. Juni 2023 / 19:00 – 1:00 Uhr \nOrt: \nBerlin \nMehr Informationen hier.
URL:https://www.vc-magazin.de/event/gruenderszene-spaetschicht-berlin-summer-edition-2023/
LOCATION:Berlin
END:VEVENT
END:VCALENDAR