BEGIN:VCALENDAR
VERSION:2.0
PRODID:-//VC Magazin - ECPv6.15.15//NONSGML v1.0//EN
CALSCALE:GREGORIAN
METHOD:PUBLISH
X-ORIGINAL-URL:https://www.vc-magazin.de
X-WR-CALDESC:Veranstaltungen für VC Magazin
REFRESH-INTERVAL;VALUE=DURATION:PT1H
X-Robots-Tag:noindex
X-PUBLISHED-TTL:PT1H
BEGIN:VTIMEZONE
TZID:Europe/Berlin
BEGIN:DAYLIGHT
TZOFFSETFROM:+0100
TZOFFSETTO:+0200
TZNAME:CEST
DTSTART:20230326T010000
END:DAYLIGHT
BEGIN:STANDARD
TZOFFSETFROM:+0200
TZOFFSETTO:+0100
TZNAME:CET
DTSTART:20231029T010000
END:STANDARD
BEGIN:DAYLIGHT
TZOFFSETFROM:+0100
TZOFFSETTO:+0200
TZNAME:CEST
DTSTART:20240331T010000
END:DAYLIGHT
BEGIN:STANDARD
TZOFFSETFROM:+0200
TZOFFSETTO:+0100
TZNAME:CET
DTSTART:20241027T010000
END:STANDARD
BEGIN:DAYLIGHT
TZOFFSETFROM:+0100
TZOFFSETTO:+0200
TZNAME:CEST
DTSTART:20250330T010000
END:DAYLIGHT
BEGIN:STANDARD
TZOFFSETFROM:+0200
TZOFFSETTO:+0100
TZNAME:CET
DTSTART:20251026T010000
END:STANDARD
END:VTIMEZONE
BEGIN:VEVENT
DTSTART;VALUE=DATE:20240604
DTEND;VALUE=DATE:20240607
DTSTAMP:20260420T204824
CREATED:20240207T093432Z
LAST-MODIFIED:20240207T094150Z
UID:73647-1717459200-1717718399@www.vc-magazin.de
SUMMARY:SuperVenture 2024
DESCRIPTION:SuperVenture returns for 2024 in a new\, bigger and better venue – the Vienna House\, Berlin. \nJoin 1\,000+ industry leaders for venture capital’s annual gathering for senior LPs and VCs. \nA three-day networking and learning experience you won’t find anywhere else. Get to grips with the latest trends\, opportunities and challenges\, while making lasting connections with senior venture capital peers. \nLPs attend for free. Visit the website here to find out more. \nDon’t forget to quote VIP code FKR354VCMAG to save 10%.
URL:https://www.vc-magazin.de/event/superventure-2024/
LOCATION:VIENNA HOUSE ANDEL’S BERLIN
ATTACH;FMTTYPE=image/jpeg:https://www.vc-magazin.de/wp-content/uploads/2024/02/Newsletter-Listing-copy.jpg
END:VEVENT
BEGIN:VEVENT
DTSTART;VALUE=DATE:20240611
DTEND;VALUE=DATE:20240613
DTSTAMP:20260420T204824
CREATED:20230714T142534Z
LAST-MODIFIED:20230714T151258Z
UID:71930-1718064000-1718236799@www.vc-magazin.de
SUMMARY:HTGF Family Day 2024
DESCRIPTION:Zwei Tage voller Tech-Talks\, Power-Networking und Unterhaltung im Herzen Deutschlands.\nWo sich Helden und Champions treffen\, um die Zukunft zu gestalten. \n„Der Family Day war wieder einmal eine sehr gute Plattform für Networking\, neue Ideen\, Investitionen und Kooperationsmöglichkeiten. Eine tolle Gelegenheit\, Einblicke in Technologietrends zu gewinnen\, neue Leute kennenzulernen und Chancen und Herausforderungen in der VC-Szene zu erkunden. Dass die Menschen Lust auf diesen Austausch haben\, sehen wir an den Besucherzahlen: Über 1.000 Gäste sind unserer Einladung nach Bonn gefolgt und haben sich in über 3.500 1:1-Meetings ausgetauscht. Nun freuen wir uns bereits auf den nächsten Family Day 2024 in Berlin.“ kommentierte Dr. Alex von Frankenberg\, Geschäftsführer des HTGF\, nach dem Family Day 2023. \nEin Rückblick auf den HTGF Family Day 2023 gibt es hier. \nZur Anmeldung und für mehr Informationen hier.
URL:https://www.vc-magazin.de/event/htgf-family-day-2024/
LOCATION:STATION Berlin\, Luckenwalder Str. 4-6\, Berlin\, 10963\, Deutschland
ATTACH;FMTTYPE=image/jpeg:https://www.vc-magazin.de/wp-content/uploads/2023/07/HTGF_Logo-scaled-e1689347571392.jpg
END:VEVENT
END:VCALENDAR