BEGIN:VCALENDAR
VERSION:2.0
PRODID:-//VC Magazin - ECPv6.15.15//NONSGML v1.0//EN
CALSCALE:GREGORIAN
METHOD:PUBLISH
X-WR-CALNAME:VC Magazin
X-ORIGINAL-URL:https://www.vc-magazin.de
X-WR-CALDESC:Veranstaltungen für VC Magazin
REFRESH-INTERVAL;VALUE=DURATION:PT1H
X-Robots-Tag:noindex
X-PUBLISHED-TTL:PT1H
BEGIN:VTIMEZONE
TZID:Europe/Berlin
BEGIN:DAYLIGHT
TZOFFSETFROM:+0100
TZOFFSETTO:+0200
TZNAME:CEST
DTSTART:20230326T010000
END:DAYLIGHT
BEGIN:STANDARD
TZOFFSETFROM:+0200
TZOFFSETTO:+0100
TZNAME:CET
DTSTART:20231029T010000
END:STANDARD
BEGIN:DAYLIGHT
TZOFFSETFROM:+0100
TZOFFSETTO:+0200
TZNAME:CEST
DTSTART:20240331T010000
END:DAYLIGHT
BEGIN:STANDARD
TZOFFSETFROM:+0200
TZOFFSETTO:+0100
TZNAME:CET
DTSTART:20241027T010000
END:STANDARD
BEGIN:DAYLIGHT
TZOFFSETFROM:+0100
TZOFFSETTO:+0200
TZNAME:CEST
DTSTART:20250330T010000
END:DAYLIGHT
BEGIN:STANDARD
TZOFFSETFROM:+0200
TZOFFSETTO:+0100
TZNAME:CET
DTSTART:20251026T010000
END:STANDARD
END:VTIMEZONE
BEGIN:VEVENT
DTSTART;TZID=Europe/Berlin:20241119T170000
DTEND;TZID=Europe/Berlin:20241119T190000
DTSTAMP:20260420T123205
CREATED:20240311T162704Z
LAST-MODIFIED:20241105T112722Z
UID:73880-1732035600-1732042800@www.vc-magazin.de
SUMMARY:KfW Capital VC-Academy 2024: Quo vadis\, European Venture Capital?
DESCRIPTION:KI\, Emerging Manager\, privates und staatliches Kapital und European Venture – das sind in aller Kürze die Themen\, um die es bei der diesjährigen KfW Capital-VC-Academy geht!\n \nEs erwarten Sie zu allen Themen informative Sessions\, bei denen VC-Expertinnen und -Experten neueste Entwicklungen vorstellen und Einblicke in ihre Fachgebiete geben. Markieren Sie sich die Termine bereits jetzt in Ihrem Kalender!\n \nSchreiben Sie eine E-Mail an die KfW Capital unter info-kfw-capital@kfw.de\, wenn Sie teilnehmen möchten! \nAlle Termine: \n\nMittwoch\, 24. April 2024 – Venture Capital: Verantwortungsvolles Investieren in KI\nMittwoch\, 03. Juli 2024 – Frischer Wind: Emerging Manager für den VC-Markt\nMittwoch\, 11. September 2024 – Privates und staatliches Kapital – gemeinsam das VC-Ökosystem stärken\nDienstag\, 19. November 2024 – Quo vadis\, European Venture Capital?
URL:https://www.vc-magazin.de/event/kfw-capital-vc-academy-2024-quo-vadis-european-venture-capital/
LOCATION:KfW Bankengruppe\, Charlottenstraße 33a\, Berlin\, 10117\, Deutschland
END:VEVENT
END:VCALENDAR