BEGIN:VCALENDAR
VERSION:2.0
PRODID:-//VC Magazin - ECPv6.15.15//NONSGML v1.0//EN
CALSCALE:GREGORIAN
METHOD:PUBLISH
X-WR-CALNAME:VC Magazin
X-ORIGINAL-URL:https://www.vc-magazin.de
X-WR-CALDESC:Veranstaltungen für VC Magazin
REFRESH-INTERVAL;VALUE=DURATION:PT1H
X-Robots-Tag:noindex
X-PUBLISHED-TTL:PT1H
BEGIN:VTIMEZONE
TZID:Europe/Berlin
BEGIN:DAYLIGHT
TZOFFSETFROM:+0100
TZOFFSETTO:+0200
TZNAME:CEST
DTSTART:20240331T010000
END:DAYLIGHT
BEGIN:STANDARD
TZOFFSETFROM:+0200
TZOFFSETTO:+0100
TZNAME:CET
DTSTART:20241027T010000
END:STANDARD
BEGIN:DAYLIGHT
TZOFFSETFROM:+0100
TZOFFSETTO:+0200
TZNAME:CEST
DTSTART:20250330T010000
END:DAYLIGHT
BEGIN:STANDARD
TZOFFSETFROM:+0200
TZOFFSETTO:+0100
TZNAME:CET
DTSTART:20251026T010000
END:STANDARD
BEGIN:DAYLIGHT
TZOFFSETFROM:+0100
TZOFFSETTO:+0200
TZNAME:CEST
DTSTART:20260329T010000
END:DAYLIGHT
BEGIN:STANDARD
TZOFFSETFROM:+0200
TZOFFSETTO:+0100
TZNAME:CET
DTSTART:20261025T010000
END:STANDARD
END:VTIMEZONE
BEGIN:VEVENT
DTSTART;VALUE=DATE:20250905
DTEND;VALUE=DATE:20250910
DTSTAMP:20260419T204618
CREATED:20250117T121844Z
LAST-MODIFIED:20250117T121844Z
UID:76745-1757030400-1757462399@www.vc-magazin.de
SUMMARY:IFA 2025
DESCRIPTION:Eine Messe\, auf der die neueste Home und Entertainment Technik zum Leben erweckt wird und auf der Branchenexperten schon heute die Trends von morgen vorstellen. Tauchen Sie ein in die pulsierende Atmosphäre\, wenn die größten Namen der Tech-Industrie ihre neuesten Innovationen vorstellen\, neben dem täglichen Outdoor-Programm und Konzerten mit lokalen Legenden und internationalen Superstars. \nErneut auf der IFA in Berlin: IFA Next! \nAuf IFA Next erleben die Teilnehmer die neuesten innovativen Technologien von weltweit führenden Marken\, Start-ups und Institutionen. Entdecken Sie transformative Technologien in den Bereichen KI\, Nachhaltigkeit\, Wearables\, Heimautomatisierung und mehr. Lernen Sie von Branchenführern in Keynotes\, Panels und Workshops und erfahren Sie\, wie diese Innovationen die Zukunft unseres Lebens\, Arbeitens und Spielens gestalten. \nZum Event
URL:https://www.vc-magazin.de/event/ifa-2025/
LOCATION:Messe Berlin\, Messedamm 22\, Berlin\, 14055\, Deutschland
END:VEVENT
BEGIN:VEVENT
DTSTART;TZID=Europe/Berlin:20250922T170000
DTEND;TZID=Europe/Berlin:20250922T210000
DTSTAMP:20260419T204618
CREATED:20250211T120143Z
LAST-MODIFIED:20251006T132622Z
UID:76936-1758560400-1758574800@www.vc-magazin.de
SUMMARY:KfW Capital-VC-Academy: Stärkung des VC-Ökosystems: Wie es gelingen kann
DESCRIPTION:Das Venture Capital-Ökosystem in Deutschland und Europa entwickelt sich stetig weiter. KfW Capital möchte Sie dabei unterstützen\, interessante Informationen zu neuen Themen und Trends zu erhalten. Deshalb wurde die „KfW Capital-VC-Academy“ ins Leben gerufen: Regelmäßig werden ausgewiesene Expertinnen und Experten eingeladen\, die Ihnen aus ihrem jeweiligen Fachgebiet wissenswerte Neuigkeiten vorstellen und Einblicke in neue und spannende Themen geben werden. \nZum Film der Veranstaltungsreihe! \n\n\n\n\n\n\n\nDie VC-Academy findet als Präsenzveranstaltung in der KfW-Niederlassung Berlin\, Charlottenstraße 33/33a\, 10117 Berlin statt. Im Anschluss an den offiziellen Teil findet ein Get-together zur Vertiefung der Gespräche statt. \nAgenda\n\n17.00 Uhr – Begrüßung\n\nDr. Jörg Goschin\, Vorsitzender der Geschäftsführung KfW Capital\n\n\n17.10 Uhr – Impuls: Attraktive Assetklasse European Venture – eine Bestandsaufnahme\n\nDr. Alex von Frankenberg\, Geschäftsführer HTGF\n\n\n17.30 Uhr – Impuls: Verbesserung der rechtlichen Rahmenbedingungen für den Fondsstandort Deutschland\n\nDr. Jan Grabbe\, Rechtsanwalt und Partner Clifford Chance\n\n\n17.50 Uhr – Panel: Blick nach vorne: Ansätze zur Weiterentwicklung des VC-Ökosystems mit:\n\nDr. Tanja Emmerling\, Partnerin HTGF\nDr. Jan Grabbe\, Rechtsanwalt und Partner Clifford Chance\nIlka Schantz\, Leiterin der Unterabteilung Internationale Finanzmarktpolitik; KfW; Gewährleistungen; Verbraucherschutz im Bundesministerium der Finanzen\nDr. Armgard Wippler\, Leiterin der Unterabteilung Mittelstands- und Start-up-Finanzierung im Bundesministerium für Wirtschaft und Energie\nModeration: Max Wirsching\, Head of Private Capital Solutions KfW Capital\n\n\n18.30 Uhr – Interview: Fondsstandort Deutschland – ein Praxischeck mit\n\nFilip Dames\, Founding Partner Cherry Ventures\nDr. Lise Rechsteiner\, General Partner Vsquared Ventures\nModeration: Max Wirsching\, Head of Private Capital Solutions KfW Capital\n\n\n19.00 Uhr – Get-together\n\nEine Anmeldung ist erforderlich\, die Teilnahme ist kostenlos. Melden Sie sich hierfür gern über info-kfw-capital@kfw.de oder direkt bei Katja Homburg\, Sonja Höpfner oder Sarah Ullmann unter 069-7431-4306. \n\n\n\n\n\n\n\nZu den weiteren Terminen: \n\n\n\nDienstag\, 25. März 2025 – Life Science und Nachhaltigkeit: Potentiale\, Chancen und Herausforderungen\nMittwoch\, 02. Juli 2025 – Mehr Wirkung erreichen: Boost für VC-Impact-Investing\nDienstag\, 22. September 2025 – Stärkung des VC-Ökosystems: Wie es gelingen kann\nDonnerstag\, 13. November 2025 – Venture Education: Schlüsselkompetenzen für erfolgreiches VC\n\nVideos mit der KfW Capital und mehr finden Sie hier!
URL:https://www.vc-magazin.de/event/kfw-capital-vc-academy-staerkung-des-vc-oekosystems-wie-es-gelingen-kann/
LOCATION:KfW Bankengruppe\, Charlottenstraße 33a\, Berlin\, 10117\, Deutschland
ATTACH;FMTTYPE=image/jpeg:https://www.vc-magazin.de/wp-content/uploads/2025/03/250325tm01-scaled-e1754057339813.jpg
END:VEVENT
END:VCALENDAR