BEGIN:VCALENDAR
VERSION:2.0
PRODID:-//VC Magazin - ECPv6.15.15//NONSGML v1.0//EN
CALSCALE:GREGORIAN
METHOD:PUBLISH
X-ORIGINAL-URL:https://www.vc-magazin.de
X-WR-CALDESC:Veranstaltungen für VC Magazin
REFRESH-INTERVAL;VALUE=DURATION:PT1H
X-Robots-Tag:noindex
X-PUBLISHED-TTL:PT1H
BEGIN:VTIMEZONE
TZID:Europe/Berlin
BEGIN:DAYLIGHT
TZOFFSETFROM:+0100
TZOFFSETTO:+0200
TZNAME:CEST
DTSTART:20250330T010000
END:DAYLIGHT
BEGIN:STANDARD
TZOFFSETFROM:+0200
TZOFFSETTO:+0100
TZNAME:CET
DTSTART:20251026T010000
END:STANDARD
BEGIN:DAYLIGHT
TZOFFSETFROM:+0100
TZOFFSETTO:+0200
TZNAME:CEST
DTSTART:20260329T010000
END:DAYLIGHT
BEGIN:STANDARD
TZOFFSETFROM:+0200
TZOFFSETTO:+0100
TZNAME:CET
DTSTART:20261025T010000
END:STANDARD
BEGIN:DAYLIGHT
TZOFFSETFROM:+0100
TZOFFSETTO:+0200
TZNAME:CEST
DTSTART:20270328T010000
END:DAYLIGHT
BEGIN:STANDARD
TZOFFSETFROM:+0200
TZOFFSETTO:+0100
TZNAME:CET
DTSTART:20271031T010000
END:STANDARD
END:VTIMEZONE
BEGIN:VEVENT
DTSTART;VALUE=DATE:20260608
DTEND;VALUE=DATE:20260613
DTSTAMP:20260419T152658
CREATED:20251015T071743Z
LAST-MODIFIED:20260130T085637Z
UID:79670-1780876800-1781308799@www.vc-magazin.de
SUMMARY:SuperReturn International 2026
DESCRIPTION:SuperReturn International returns to Berlin 8 – 12 June in 2026\, bringing together the largest gathering of LPs and GPs worldwide.   \n6\,000+ attendees\, 2\,000+ LPs\, and 3\,000 GPs. Unrivalled in seniority and investment influence with 87 of the world’s top 100 GPs and LPs managing a combined AUM of $50trn. \nBook now and save up to £1\,200. LPs attend for free! \nMore information soon!
URL:https://www.vc-magazin.de/event/superreturn-international-2026/
LOCATION:Berlin\, Deutschland
ATTACH;FMTTYPE=image/png:https://www.vc-magazin.de/wp-content/uploads/2025/10/Media-partner-banner-1200x628-1-scaled.png
END:VEVENT
BEGIN:VEVENT
DTSTART;VALUE=DATE:20260609
DTEND;VALUE=DATE:20260612
DTSTAMP:20260419T152658
CREATED:20251216T112512Z
LAST-MODIFIED:20251216T112512Z
UID:80480-1780963200-1781222399@www.vc-magazin.de
SUMMARY:bio:cap - Life Science & AI Investival
DESCRIPTION:bio:cap is the new international INVESTIVAL for innovators and investors in life sciences and AI – where bold ideas meet capital\, industry\, and policy to become reality. \nFrom 9 – 11 June 2026 at CityCube Berlin\, the city becomes a global meeting point – bridging North America and Asia. Across BioTech\, TechBio\, Diagnostics\, and AI\, bio:cap is where scientific breakthroughs\, industrial innovation\, and public decision-making converge.
URL:https://www.vc-magazin.de/event/biocap-life-science-ai-investival/
LOCATION:CityCube Berlin\, Messedamm 26\, Berlin\, 14055\, Germany
ATTACH;FMTTYPE=image/jpeg:https://www.vc-magazin.de/wp-content/uploads/2025/12/BDA6CF67-A7B2-4F66-A983-6BED656489AE_4_5005_c.jpeg
END:VEVENT
BEGIN:VEVENT
DTSTART;VALUE=DATE:20260623
DTEND;VALUE=DATE:20260626
DTSTAMP:20260419T152658
CREATED:20260121T123742Z
LAST-MODIFIED:20260121T123742Z
UID:80787-1782172800-1782431999@www.vc-magazin.de
SUMMARY:GreenTech Festival 2026
DESCRIPTION:Die führende globale Plattform für Nachhaltigkeit und Dekarbonisierung in der Wirtschaft findet in 2026 erneut in Berlin statt! \nMehr Informationen hier!
URL:https://www.vc-magazin.de/event/greentech-festival-2026/
LOCATION:Berlin\, Deutschland
END:VEVENT
END:VCALENDAR