BEGIN:VCALENDAR
VERSION:2.0
PRODID:-//VC Magazin - ECPv6.15.15//NONSGML v1.0//EN
CALSCALE:GREGORIAN
METHOD:PUBLISH
X-ORIGINAL-URL:https://www.vc-magazin.de
X-WR-CALDESC:Veranstaltungen für VC Magazin
REFRESH-INTERVAL;VALUE=DURATION:PT1H
X-Robots-Tag:noindex
X-PUBLISHED-TTL:PT1H
BEGIN:VTIMEZONE
TZID:Europe/Berlin
BEGIN:DAYLIGHT
TZOFFSETFROM:+0100
TZOFFSETTO:+0200
TZNAME:CEST
DTSTART:20230326T010000
END:DAYLIGHT
BEGIN:STANDARD
TZOFFSETFROM:+0200
TZOFFSETTO:+0100
TZNAME:CET
DTSTART:20231029T010000
END:STANDARD
BEGIN:DAYLIGHT
TZOFFSETFROM:+0100
TZOFFSETTO:+0200
TZNAME:CEST
DTSTART:20240331T010000
END:DAYLIGHT
BEGIN:STANDARD
TZOFFSETFROM:+0200
TZOFFSETTO:+0100
TZNAME:CET
DTSTART:20241027T010000
END:STANDARD
BEGIN:DAYLIGHT
TZOFFSETFROM:+0100
TZOFFSETTO:+0200
TZNAME:CEST
DTSTART:20250330T010000
END:DAYLIGHT
BEGIN:STANDARD
TZOFFSETFROM:+0200
TZOFFSETTO:+0100
TZNAME:CET
DTSTART:20251026T010000
END:STANDARD
END:VTIMEZONE
BEGIN:VEVENT
DTSTART;VALUE=DATE:20240910
DTEND;VALUE=DATE:20240911
DTSTAMP:20260420T191527
CREATED:20240117T155315Z
LAST-MODIFIED:20240117T155317Z
UID:73533-1725926400-1726012799@www.vc-magazin.de
SUMMARY:25. Deutscher Eigenkapitaltag
DESCRIPTION:Bildnachweis: VC Magazin. \nMerken Sie sich schon jetzt den 25. Deutschen Eigenkapitaltag vor. Am 10.09.2024 findet das 25 Jubiläum des Branchenevents der Beteiligungskapitalbranche in Berlin statt.  \nMehr Informationen folgen. \nZum Veranstalter hier.
URL:https://www.vc-magazin.de/event/25-deutscher-eigenkapitaltag-2024/
LOCATION:Futurium Berlin\, Alexanderufer 2\, Berlin\, Berlin\, 10117\, Deutschland
END:VEVENT
END:VCALENDAR