BEGIN:VCALENDAR
VERSION:2.0
PRODID:-//VC Magazin - ECPv6.15.15//NONSGML v1.0//EN
CALSCALE:GREGORIAN
METHOD:PUBLISH
X-ORIGINAL-URL:https://www.vc-magazin.de
X-WR-CALDESC:Veranstaltungen für VC Magazin
REFRESH-INTERVAL;VALUE=DURATION:PT1H
X-Robots-Tag:noindex
X-PUBLISHED-TTL:PT1H
BEGIN:VTIMEZONE
TZID:Europe/Berlin
BEGIN:DAYLIGHT
TZOFFSETFROM:+0100
TZOFFSETTO:+0200
TZNAME:CEST
DTSTART:20240331T010000
END:DAYLIGHT
BEGIN:STANDARD
TZOFFSETFROM:+0200
TZOFFSETTO:+0100
TZNAME:CET
DTSTART:20241027T010000
END:STANDARD
BEGIN:DAYLIGHT
TZOFFSETFROM:+0100
TZOFFSETTO:+0200
TZNAME:CEST
DTSTART:20250330T010000
END:DAYLIGHT
BEGIN:STANDARD
TZOFFSETFROM:+0200
TZOFFSETTO:+0100
TZNAME:CET
DTSTART:20251026T010000
END:STANDARD
BEGIN:DAYLIGHT
TZOFFSETFROM:+0100
TZOFFSETTO:+0200
TZNAME:CEST
DTSTART:20260329T010000
END:DAYLIGHT
BEGIN:STANDARD
TZOFFSETFROM:+0200
TZOFFSETTO:+0100
TZNAME:CET
DTSTART:20261025T010000
END:STANDARD
END:VTIMEZONE
BEGIN:VEVENT
DTSTART;TZID=Europe/Berlin:20250603T150000
DTEND;TZID=Europe/Berlin:20250603T220000
DTSTAMP:20260420T052811
CREATED:20250115T163045Z
LAST-MODIFIED:20250305T095159Z
UID:76686-1748962800-1748988000@www.vc-magazin.de
SUMMARY:BVK-Fachforum & BVK Night
DESCRIPTION:Bildnachweis: VC Magazin. \nAm 03.06.2025 findet von 15:00 bis 22:00 Uhr in Berlin das BVK Fachforum statt. Anschließend folgt die BVK Night. DAS Event zur SuperReturn International 2025! \nMehr Informationen finden Sie hier.
URL:https://www.vc-magazin.de/event/bvk-fachforum-dinner-2025/
LOCATION:Berlin\, Deutschland
END:VEVENT
BEGIN:VEVENT
DTSTART;VALUE=DATE:20250624
DTEND;VALUE=DATE:20250625
DTSTAMP:20260420T052811
CREATED:20250113T125204Z
LAST-MODIFIED:20250113T125205Z
UID:76654-1750723200-1750809599@www.vc-magazin.de
SUMMARY:26. Deutscher Eigenkapitaltag
DESCRIPTION:Bildnachweis: VC Magazin. \nAm 24.06.2025 findet das 26. Jubiläum des Branchenevents der Beteiligungskapitalbranche in Berlin statt.  \nDie Veranstaltung richtet sich an Vertreter der Private Equity- und Venture Capital-Branche sowie an das gesamte Umfeld des deutschen Beteiligungsmarktes einschließlich Mittelstand und Start-ups. Der Eigenkapitaltag greift aktuelle Trends und Entwicklungen auf\, verspricht wertvolle Markteinblicke und exklusive Gelegenheiten zum persönlichen Austausch mit Branchenführern\, Top-Investoren und den politischen Entscheidungsträgern. \nInformationen zur Agenda und zur Registrierung folgen zeitnah. \nMehr Informationen hier.
URL:https://www.vc-magazin.de/event/26-deutscher-eigenkapitaltag-2025/
LOCATION:Futurium Berlin\, Alexanderufer 2\, Berlin\, Berlin\, 10117\, Deutschland
END:VEVENT
END:VCALENDAR