BEGIN:VCALENDAR
VERSION:2.0
PRODID:-//VC Magazin - ECPv6.15.15//NONSGML v1.0//EN
CALSCALE:GREGORIAN
METHOD:PUBLISH
X-ORIGINAL-URL:https://www.vc-magazin.de
X-WR-CALDESC:Veranstaltungen für VC Magazin
REFRESH-INTERVAL;VALUE=DURATION:PT1H
X-Robots-Tag:noindex
X-PUBLISHED-TTL:PT1H
BEGIN:VTIMEZONE
TZID:Europe/Berlin
BEGIN:DAYLIGHT
TZOFFSETFROM:+0100
TZOFFSETTO:+0200
TZNAME:CEST
DTSTART:20250330T010000
END:DAYLIGHT
BEGIN:STANDARD
TZOFFSETFROM:+0200
TZOFFSETTO:+0100
TZNAME:CET
DTSTART:20251026T010000
END:STANDARD
BEGIN:DAYLIGHT
TZOFFSETFROM:+0100
TZOFFSETTO:+0200
TZNAME:CEST
DTSTART:20260329T010000
END:DAYLIGHT
BEGIN:STANDARD
TZOFFSETFROM:+0200
TZOFFSETTO:+0100
TZNAME:CET
DTSTART:20261025T010000
END:STANDARD
BEGIN:DAYLIGHT
TZOFFSETFROM:+0100
TZOFFSETTO:+0200
TZNAME:CEST
DTSTART:20270328T010000
END:DAYLIGHT
BEGIN:STANDARD
TZOFFSETFROM:+0200
TZOFFSETTO:+0100
TZNAME:CET
DTSTART:20271031T010000
END:STANDARD
END:VTIMEZONE
BEGIN:VEVENT
DTSTART;VALUE=DATE:20261110
DTEND;VALUE=DATE:20261111
DTSTAMP:20260420T002842
CREATED:20251029T131331Z
LAST-MODIFIED:20251029T131332Z
UID:79856-1794268800-1794355199@www.vc-magazin.de
SUMMARY:27. Deutscher Eigenkapitaltag
DESCRIPTION:Bildnachweis: VC Magazin. \nDer nächste Eigenkapitaltag findet am 10. November 2026 im Futurium Berlin (Alexanderufer 2\, 10117 Berlin) statt! Die Veranstaltung richtet sich an Vertreter der Private Equity- und Venture Capital-Branche sowie an das gesamte Umfeld des deutschen Beteiligungsmarktes einschließlich Mittelstand und Start-ups.  \nDer Eigenkapitaltag greift aktuelle Trends und Entwicklungen auf\, verspricht wertvolle Markteinblicke und exklusive Gelegenheiten zum persönlichen Austausch mit Branchenführern\, Top-Investoren und politischen Entscheidungsträgern. \nDer 26. Deutsche Eigenkapitaltag fand 24. Juni 2025 im Berliner Futurium statt. Unseren Event-Rückblick finden Sie hier! \nMehr Informationen folgen zeitnah!
URL:https://www.vc-magazin.de/event/27-deutscher-eigenkapitaltag-2026/
LOCATION:Futurium Berlin\, Alexanderufer 2\, Berlin\, Berlin\, 10117\, Deutschland
END:VEVENT
END:VCALENDAR