BEGIN:VCALENDAR
VERSION:2.0
PRODID:-//VC Magazin - ECPv6.15.15//NONSGML v1.0//EN
CALSCALE:GREGORIAN
METHOD:PUBLISH
X-ORIGINAL-URL:https://www.vc-magazin.de
X-WR-CALDESC:Veranstaltungen für VC Magazin
REFRESH-INTERVAL;VALUE=DURATION:PT1H
X-Robots-Tag:noindex
X-PUBLISHED-TTL:PT1H
BEGIN:VTIMEZONE
TZID:Europe/Berlin
BEGIN:DAYLIGHT
TZOFFSETFROM:+0100
TZOFFSETTO:+0200
TZNAME:CEST
DTSTART:20220327T010000
END:DAYLIGHT
BEGIN:STANDARD
TZOFFSETFROM:+0200
TZOFFSETTO:+0100
TZNAME:CET
DTSTART:20221030T010000
END:STANDARD
BEGIN:DAYLIGHT
TZOFFSETFROM:+0100
TZOFFSETTO:+0200
TZNAME:CEST
DTSTART:20230326T010000
END:DAYLIGHT
BEGIN:STANDARD
TZOFFSETFROM:+0200
TZOFFSETTO:+0100
TZNAME:CET
DTSTART:20231029T010000
END:STANDARD
BEGIN:DAYLIGHT
TZOFFSETFROM:+0100
TZOFFSETTO:+0200
TZNAME:CEST
DTSTART:20240331T010000
END:DAYLIGHT
BEGIN:STANDARD
TZOFFSETFROM:+0200
TZOFFSETTO:+0100
TZNAME:CET
DTSTART:20241027T010000
END:STANDARD
END:VTIMEZONE
BEGIN:VEVENT
DTSTART;VALUE=DATE:20230522
DTEND;VALUE=DATE:20230527
DTSTAMP:20260421T061654
CREATED:20230412T125748Z
LAST-MODIFIED:20230412T142029Z
UID:71326-1684713600-1685145599@www.vc-magazin.de
SUMMARY:Startup Woche Düsseldorf 2023
DESCRIPTION:Vom 22. bis 26. Mai findet die 8. Startup-Woche in Düsseldorf statt. Das Programm steht und ist online abrufbar: https://www.startupwoche-dus.de/ \nIn rund 100 Veranstaltungen bietet die 8. Startup-Woche Wissen zu Themen wie Geschäftsmodell\, Strategie\, Marketing\, Finanzen\, Investorengewinnung\, Förderung und Internationalisierung. 80 Prozent der Veranstaltungen finden in Präsenz statt\, rund ein Viertel in Englisch oder zweisprachig Englisch/Deutsch. \nDie Wirtschaftsförderung Düsseldorf\, Organisatorin der Startup-Woche\, hat auch in diesem Jahr wieder ein spannendes Angebot zusammengestellt: Ausrichter aus Privatwirtschaft und Verbänden bieten Seminare\, Workshops\, Pitch- und Networking-Events an\, bei denen sich Gründerinnen und Gründer treffen und sich mit Vertretern großer Unternehmen\, Investoren\, Beratern und Mentoren vernetzen können. Achtung: Montag\, 22.Mai.\, wird es ein Geheimkonzert geben. Karten dazu können auf Instagram und LinkedIn gewonnen werden. \nTickets sind ab 3 EUR erhältlich. Die meisten Veranstalter haben sich entschlossen\, die Teilnahmegebühr für den fe:male Innovation Hub zu spenden. \nDie Startup-Woche 2023 wird unterstützt von: \nUnicorn-Partner: Dr. Ganteführer\, Marquardt & Partner mbB\, ERGO Group AG\, Industrie- und Handelskammer zu Düsseldorf. \nRocket-Partner: Pioneer Lab Hochschule Fresenius\, Provinzial Versicherung AG. \nPioneer-Partner: CGI\, NRW.BANK\, Stadtsparkasse Düsseldorf\, Wacom Europe GmbH. \nHintergrund:  \nDer Startup-Standort Düsseldorf entwickelt sich dynamisch: mittlerweile sind mehr als 550 Startups mit über 6000 Beschäftigten (einschließlich Alumnis) in Düsseldorf vertreten. Gegenüber 2022 ist das eine Zunahme von 11 Prozent. \nDie Rahmenbedingungen\, insbesondere für Startups mit B2B-Geschäftsmodellen\, sind im Düsseldorfer Startup-Ökosystem hervorragend: 557.000 Unternehmen und 13\,5 Millionen Einwohner befinden sich in einen Radius von 50 Km und bieten ein riesiges Marktpotenzial. Zahlreiche internationale\, innovative Unternehmen haben in Düsseldorf ihren Sitz und sind perfekte Kooperationspartner. 58 Business Center und Coworking Spaces\, stellen rund 130.000 m² flexible Flächen für die unterschiedlichsten Anforderungen bereit. \nMehr Informationen hier.
URL:https://www.vc-magazin.de/event/startup-woche-duesseldorf-2023/
LOCATION:Düsseldorf
ATTACH;FMTTYPE=image/png:https://www.vc-magazin.de/wp-content/uploads/2023/04/LA_SWD2023_Facebook-Feed_1080x1080_01-e1681309194113.png
END:VEVENT
BEGIN:VEVENT
DTSTART;TZID=Europe/Berlin:20230524T093000
DTEND;TZID=Europe/Berlin:20230524T103000
DTSTAMP:20260421T061654
CREATED:20230412T123426Z
LAST-MODIFIED:20230412T123426Z
UID:71318-1684920600-1684924200@www.vc-magazin.de
SUMMARY:NRW.BANK – Let’s Talk Money
DESCRIPTION:Die Finanzierung ihres Vorhabens ist eine der vielen He­raus­for­de­rung­en\, denen sich Grün­der­in­nen und Grün­der stellen müssen. \nAber welche Fi­nan­zie­rungs­form eignet sich am besten für ein in­no­va­ti­ves Vorhaben\, welche für ein klas­si­sches Ge­schäfts­mo­dell? Welche öf­fent­li­chen För­der­pro­gram­me gibt es überhaupt und an wen wende ich mich bei Fragen? Gibt es auch Zuschüsse und wie beantrage ich diese? \nDiese und viele weitere Fragen möchte die NRW.Bank im halb­stün­di­gen Vortrag „Let’s Talk Money – Fi­nan­zie­rungs­hil­fen für Grün­dungs­in­ter­es­sier­te und junge Un­ter­neh­men“ be­ant­wor­ten. Außerdem geben För­der­be­ra­ter einen kurzen Überblick über die wich­tig­sten För­der­an­ge­bo­te der NRW.BANK und der Partner – und stellen ebenso weitere in­ter­es­san­te Beratungs- und För­der­mög­lich­kei­ten vor. \nIm Anschluss besteht die Mög­lich­keit\, in­di­vi­du­el­le Fragen zu stellen. Ab 11:00 Uhr bietet die NRW.Bank zudem die Mög­lich­keit für in­di­vi­du­el­len Be­ra­tungs­ge­sprä­chen. Vereinbaren Sie einfach unter folgendem Link einen Termin: https://calendly.com/hendrik-maatz/startupwochedus. \nSpeaker:\nKarin Scholer\nHendrik Maatz \n  \nStartup Woche Düsseldorf 2023
URL:https://www.vc-magazin.de/event/nrw-bank-lets-talk-money-2023/
LOCATION:Online\, Deutschland
END:VEVENT
BEGIN:VEVENT
DTSTART;TZID=Europe/Berlin:20230524T150000
DTEND;TZID=Europe/Berlin:20230524T180000
DTSTAMP:20260421T061654
CREATED:20230412T124352Z
LAST-MODIFIED:20230412T124352Z
UID:71319-1684940400-1684951200@www.vc-magazin.de
SUMMARY:Coffee\, Cake & Capital by Baker Tilly
DESCRIPTION:In dem Pa­nel dreht sich al­les um das Geld: Wie fin­det man die rich­tige In­ves­torin oder den rich­tigen In­ves­tor\, um eine Idee zu ver­wirk­li­chen und mit Ka­pi­tal groß zu ma­chen? Es wird dis­ku­tie­rt\, wo­rauf bei der Aus­wahl geach­tet werden soll: Denn nicht nur Ka­pi­tal ist wich­tig\, son­dern auch das Know-how\, das Netz­werk und die Un­ter­stüt­zungs­mög­lich­kei­ten\, die ein In­ves­tor mit­bringt. \nNut­zen Sie Ihre Chan­ce\, aus­ge­wähl­ten In­ves­toren Fra­gen rund um die Su­che nach Ven­ture Ca­pi­tal zu stel­len – ganz ohne stres­sige Kal­tak­qui­se oder Pitch-Con­test. Da­bei kom­men vie­le span­nende The­men auf den Tisch. Im An­schluss an das Pa­nel wird die Dis­kus­sion bei Kaf­fee und Ku­chen in ent­spann­ter und kon­struk­ti­ver At­mo­sphä­re fort­ge­setzt. Fra­gen gerne vo­rab an startup@bakertilly.de. Mehr Informationen hier. \n  \nStartup Woche Düsseldorf 2023
URL:https://www.vc-magazin.de/event/coffee-cake-capital-by-baker-tilly/
LOCATION:Baker Tilly CUBES\, Cecilienallee 6-7\, Düsseldorf\, NRW\, Deutschland
END:VEVENT
END:VCALENDAR