BEGIN:VCALENDAR
VERSION:2.0
PRODID:-//VC Magazin - ECPv6.15.15//NONSGML v1.0//EN
CALSCALE:GREGORIAN
METHOD:PUBLISH
X-ORIGINAL-URL:https://www.vc-magazin.de
X-WR-CALDESC:Veranstaltungen für VC Magazin
REFRESH-INTERVAL;VALUE=DURATION:PT1H
X-Robots-Tag:noindex
X-PUBLISHED-TTL:PT1H
BEGIN:VTIMEZONE
TZID:Europe/Berlin
BEGIN:DAYLIGHT
TZOFFSETFROM:+0100
TZOFFSETTO:+0200
TZNAME:CEST
DTSTART:20220327T010000
END:DAYLIGHT
BEGIN:STANDARD
TZOFFSETFROM:+0200
TZOFFSETTO:+0100
TZNAME:CET
DTSTART:20221030T010000
END:STANDARD
BEGIN:DAYLIGHT
TZOFFSETFROM:+0100
TZOFFSETTO:+0200
TZNAME:CEST
DTSTART:20230326T010000
END:DAYLIGHT
BEGIN:STANDARD
TZOFFSETFROM:+0200
TZOFFSETTO:+0100
TZNAME:CET
DTSTART:20231029T010000
END:STANDARD
BEGIN:DAYLIGHT
TZOFFSETFROM:+0100
TZOFFSETTO:+0200
TZNAME:CEST
DTSTART:20240331T010000
END:DAYLIGHT
BEGIN:STANDARD
TZOFFSETFROM:+0200
TZOFFSETTO:+0100
TZNAME:CET
DTSTART:20241027T010000
END:STANDARD
END:VTIMEZONE
BEGIN:VEVENT
DTSTART;TZID=Europe/Berlin:20230608T190000
DTEND;TZID=Europe/Berlin:20230608T233000
DTSTAMP:20260421T043037
CREATED:20230321T140017Z
LAST-MODIFIED:20230321T140017Z
UID:71080-1686250800-1686267000@www.vc-magazin.de
SUMMARY:Gründerszene Female Leader Dinner Düsseldorf
DESCRIPTION:Das Gründerszene Female Leader Dinner bringt führende Frauen der Startup-Szene in gehobener Atmosphäre zusammen\, um sich über branchenbezogene Herausforderungen und Trends auszutauschen. \nDatum: \n8. Juni 2023 / 19:00 – 00:00 Uhr \nOrt: \nGRANDE ÉTOILE\nDerendorfer Allee 26\n40476 Düsseldorf \nMehr Informationen hier.
URL:https://www.vc-magazin.de/event/gruenderszene-female-leader-dinner-2023/
LOCATION:Grande Etoile\, Derendorfer Allee 26\, Düsseldorf\, NRW\, 40476\, Deutschland
END:VEVENT
END:VCALENDAR